BEGIN:VCALENDAR
VERSION:2.0
PRODID:https://www.kufer.de/kuferweb / DE
METHOD:PUBLISH
CALSCALE:GREGORIAN
X-WR-TIMEZONE:Europe/Berlin
BEGIN:VTIMEZONE
TZID:Europe/Berlin
X-LIC-LOCATION:Europe/Berlin
BEGIN:DAYLIGHT
TZOFFSETFROM:+0100
TZOFFSETTO:+0200
TZNAME:CEST
DTSTART:19700329T020000
RRULE:FREQ=YEARLY;INTERVAL=1;BYDAY=-1SU;BYMONTH=3
END:DAYLIGHT
BEGIN:STANDARD
TZOFFSETFROM:+0200
TZOFFSETTO:+0100
TZNAME:CET
DTSTART:19701025T030000
RRULE:FREQ=YEARLY;INTERVAL=1;BYDAY=-1SU;BYMONTH=10
END:STANDARD
END:VTIMEZONE
BEGIN:VEVENT
DTSTAMP:20260420T182236
DTSTART;TZID=Europe/Berlin:20260506T180000
DTEND;TZID=Europe/Berlin:20260506T193000
UID:V84311810-20260506T180000@VHSBÖBLINGEN-SINDELFINGEN
SUMMARY:Italienisch A1, mit geringen Vorkenntnissen ab Lektion 3 (V84311810) 
LOCATION:Online vhs, Venedig (Alfaview), Online vhs
END:VEVENT
BEGIN:VEVENT
DTSTAMP:20260420T182236
DTSTART;TZID=Europe/Berlin:20260520T180000
DTEND;TZID=Europe/Berlin:20260520T193000
UID:V84311810-20260520T180000@VHSBÖBLINGEN-SINDELFINGEN
SUMMARY:Italienisch A1, mit geringen Vorkenntnissen ab Lektion 3 (V84311810) 
LOCATION:Online vhs, Venedig (Alfaview), Online vhs
END:VEVENT
BEGIN:VEVENT
DTSTAMP:20260420T182236
DTSTART;TZID=Europe/Berlin:20260610T180000
DTEND;TZID=Europe/Berlin:20260610T193000
UID:V84311810-20260610T180000@VHSBÖBLINGEN-SINDELFINGEN
SUMMARY:Italienisch A1, mit geringen Vorkenntnissen ab Lektion 3 (V84311810) 
LOCATION:Online vhs, Venedig (Alfaview), Online vhs
END:VEVENT
BEGIN:VEVENT
DTSTAMP:20260420T182236
DTSTART;TZID=Europe/Berlin:20260617T180000
DTEND;TZID=Europe/Berlin:20260617T193000
UID:V84311810-20260617T180000@VHSBÖBLINGEN-SINDELFINGEN
SUMMARY:Italienisch A1, mit geringen Vorkenntnissen ab Lektion 3 (V84311810) 
LOCATION:Online vhs, Venedig (Alfaview), Online vhs
END:VEVENT
BEGIN:VEVENT
DTSTAMP:20260420T182236
DTSTART;TZID=Europe/Berlin:20260624T180000
DTEND;TZID=Europe/Berlin:20260624T193000
UID:V84311810-20260624T180000@VHSBÖBLINGEN-SINDELFINGEN
SUMMARY:Italienisch A1, mit geringen Vorkenntnissen ab Lektion 3 (V84311810) 
LOCATION:Online vhs, Venedig (Alfaview), Online vhs
END:VEVENT
BEGIN:VEVENT
DTSTAMP:20260420T182236
DTSTART;TZID=Europe/Berlin:20260701T180000
DTEND;TZID=Europe/Berlin:20260701T193000
UID:V84311810-20260701T180000@VHSBÖBLINGEN-SINDELFINGEN
SUMMARY:Italienisch A1, mit geringen Vorkenntnissen ab Lektion 3 (V84311810) 
LOCATION:Online vhs, Venedig (Alfaview), Online vhs
END:VEVENT
BEGIN:VEVENT
DTSTAMP:20260420T182236
DTSTART;TZID=Europe/Berlin:20260708T180000
DTEND;TZID=Europe/Berlin:20260708T193000
UID:V84311810-20260708T180000@VHSBÖBLINGEN-SINDELFINGEN
SUMMARY:Italienisch A1, mit geringen Vorkenntnissen ab Lektion 3 (V84311810) 
LOCATION:Online vhs, Venedig (Alfaview), Online vhs
END:VEVENT
BEGIN:VEVENT
DTSTAMP:20260420T182236
DTSTART;TZID=Europe/Berlin:20260715T180000
DTEND;TZID=Europe/Berlin:20260715T193000
UID:V84311810-20260715T180000@VHSBÖBLINGEN-SINDELFINGEN
SUMMARY:Italienisch A1, mit geringen Vorkenntnissen ab Lektion 3 (V84311810) 
LOCATION:Online vhs, Venedig (Alfaview), Online vhs
END:VEVENT
END:VCALENDAR