BEGIN:VCALENDAR
VERSION:2.0
PRODID:https://www.kufer.de/kuferweb / DE
METHOD:PUBLISH
CALSCALE:GREGORIAN
X-WR-TIMEZONE:Europe/Berlin
BEGIN:VTIMEZONE
TZID:Europe/Berlin
X-LIC-LOCATION:Europe/Berlin
BEGIN:DAYLIGHT
TZOFFSETFROM:+0100
TZOFFSETTO:+0200
TZNAME:CEST
DTSTART:19700329T020000
RRULE:FREQ=YEARLY;INTERVAL=1;BYDAY=-1SU;BYMONTH=3
END:DAYLIGHT
BEGIN:STANDARD
TZOFFSETFROM:+0200
TZOFFSETTO:+0100
TZNAME:CET
DTSTART:19701025T030000
RRULE:FREQ=YEARLY;INTERVAL=1;BYDAY=-1SU;BYMONTH=10
END:STANDARD
END:VTIMEZONE
BEGIN:VEVENT
DTSTAMP:20260421T152308
DTSTART;TZID=Europe/Berlin:20260512T161500
DTEND;TZID=Europe/Berlin:20260512T174500
UID:V84311610-20260512T161500@VHSBÖBLINGEN-SINDELFINGEN
SUMMARY:Italienisch A1, mit geringen Vorkenntnissen ab Lektion 3 (V84311610) 
LOCATION:Online vhs, Rom (Alfaview), Online vhs
END:VEVENT
BEGIN:VEVENT
DTSTAMP:20260421T152308
DTSTART;TZID=Europe/Berlin:20260519T161500
DTEND;TZID=Europe/Berlin:20260519T174500
UID:V84311610-20260519T161500@VHSBÖBLINGEN-SINDELFINGEN
SUMMARY:Italienisch A1, mit geringen Vorkenntnissen ab Lektion 3 (V84311610) 
LOCATION:Online vhs, Rom (Alfaview), Online vhs
END:VEVENT
BEGIN:VEVENT
DTSTAMP:20260421T152308
DTSTART;TZID=Europe/Berlin:20260609T161500
DTEND;TZID=Europe/Berlin:20260609T174500
UID:V84311610-20260609T161500@VHSBÖBLINGEN-SINDELFINGEN
SUMMARY:Italienisch A1, mit geringen Vorkenntnissen ab Lektion 3 (V84311610) 
LOCATION:Online vhs, Rom (Alfaview), Online vhs
END:VEVENT
BEGIN:VEVENT
DTSTAMP:20260421T152308
DTSTART;TZID=Europe/Berlin:20260616T161500
DTEND;TZID=Europe/Berlin:20260616T174500
UID:V84311610-20260616T161500@VHSBÖBLINGEN-SINDELFINGEN
SUMMARY:Italienisch A1, mit geringen Vorkenntnissen ab Lektion 3 (V84311610) 
LOCATION:Online vhs, Rom (Alfaview), Online vhs
END:VEVENT
BEGIN:VEVENT
DTSTAMP:20260421T152308
DTSTART;TZID=Europe/Berlin:20260623T161500
DTEND;TZID=Europe/Berlin:20260623T174500
UID:V84311610-20260623T161500@VHSBÖBLINGEN-SINDELFINGEN
SUMMARY:Italienisch A1, mit geringen Vorkenntnissen ab Lektion 3 (V84311610) 
LOCATION:Online vhs, Rom (Alfaview), Online vhs
END:VEVENT
BEGIN:VEVENT
DTSTAMP:20260421T152308
DTSTART;TZID=Europe/Berlin:20260630T161500
DTEND;TZID=Europe/Berlin:20260630T174500
UID:V84311610-20260630T161500@VHSBÖBLINGEN-SINDELFINGEN
SUMMARY:Italienisch A1, mit geringen Vorkenntnissen ab Lektion 3 (V84311610) 
LOCATION:Online vhs, Rom (Alfaview), Online vhs
END:VEVENT
BEGIN:VEVENT
DTSTAMP:20260421T152308
DTSTART;TZID=Europe/Berlin:20260707T161500
DTEND;TZID=Europe/Berlin:20260707T174500
UID:V84311610-20260707T161500@VHSBÖBLINGEN-SINDELFINGEN
SUMMARY:Italienisch A1, mit geringen Vorkenntnissen ab Lektion 3 (V84311610) 
LOCATION:Online vhs, Rom (Alfaview), Online vhs
END:VEVENT
BEGIN:VEVENT
DTSTAMP:20260421T152308
DTSTART;TZID=Europe/Berlin:20260714T161500
DTEND;TZID=Europe/Berlin:20260714T174500
UID:V84311610-20260714T161500@VHSBÖBLINGEN-SINDELFINGEN
SUMMARY:Italienisch A1, mit geringen Vorkenntnissen ab Lektion 3 (V84311610) 
LOCATION:Online vhs, Rom (Alfaview), Online vhs
END:VEVENT
BEGIN:VEVENT
DTSTAMP:20260421T152308
DTSTART;TZID=Europe/Berlin:20260721T161500
DTEND;TZID=Europe/Berlin:20260721T174500
UID:V84311610-20260721T161500@VHSBÖBLINGEN-SINDELFINGEN
SUMMARY:Italienisch A1, mit geringen Vorkenntnissen ab Lektion 3 (V84311610) 
LOCATION:Online vhs, Rom (Alfaview), Online vhs
END:VEVENT
END:VCALENDAR