BEGIN:VCALENDAR
VERSION:2.0
PRODID:https://www.kufer.de/kuferweb / DE
METHOD:PUBLISH
CALSCALE:GREGORIAN
X-WR-TIMEZONE:Europe/Berlin
BEGIN:VTIMEZONE
TZID:Europe/Berlin
X-LIC-LOCATION:Europe/Berlin
BEGIN:DAYLIGHT
TZOFFSETFROM:+0100
TZOFFSETTO:+0200
TZNAME:CEST
DTSTART:19700329T020000
RRULE:FREQ=YEARLY;INTERVAL=1;BYDAY=-1SU;BYMONTH=3
END:DAYLIGHT
BEGIN:STANDARD
TZOFFSETFROM:+0200
TZOFFSETTO:+0100
TZNAME:CET
DTSTART:19701025T030000
RRULE:FREQ=YEARLY;INTERVAL=1;BYDAY=-1SU;BYMONTH=10
END:STANDARD
END:VTIMEZONE
BEGIN:VEVENT
DTSTAMP:20260421T173106
DTSTART;TZID=Europe/Berlin:20260226T194500
DTEND;TZID=Europe/Berlin:20260226T211500
UID:V84310410-20260226T194500@VHSBÖBLINGEN-SINDELFINGEN
SUMMARY:Italienisch A1, Anfängerkurs ab Lektion 1 (V84310410) 
LOCATION:Online vhs, Mailand (Alfaview), Online vhs
END:VEVENT
BEGIN:VEVENT
DTSTAMP:20260421T173106
DTSTART;TZID=Europe/Berlin:20260305T194500
DTEND;TZID=Europe/Berlin:20260305T211500
UID:V84310410-20260305T194500@VHSBÖBLINGEN-SINDELFINGEN
SUMMARY:Italienisch A1, Anfängerkurs ab Lektion 1 (V84310410) 
LOCATION:Online vhs, Mailand (Alfaview), Online vhs
END:VEVENT
BEGIN:VEVENT
DTSTAMP:20260421T173106
DTSTART;TZID=Europe/Berlin:20260312T194500
DTEND;TZID=Europe/Berlin:20260312T211500
UID:V84310410-20260312T194500@VHSBÖBLINGEN-SINDELFINGEN
SUMMARY:Italienisch A1, Anfängerkurs ab Lektion 1 (V84310410) 
LOCATION:Online vhs, Mailand (Alfaview), Online vhs
END:VEVENT
BEGIN:VEVENT
DTSTAMP:20260421T173106
DTSTART;TZID=Europe/Berlin:20260319T194500
DTEND;TZID=Europe/Berlin:20260319T211500
UID:V84310410-20260319T194500@VHSBÖBLINGEN-SINDELFINGEN
SUMMARY:Italienisch A1, Anfängerkurs ab Lektion 1 (V84310410) 
LOCATION:Online vhs, Mailand (Alfaview), Online vhs
END:VEVENT
BEGIN:VEVENT
DTSTAMP:20260421T173106
DTSTART;TZID=Europe/Berlin:20260326T194500
DTEND;TZID=Europe/Berlin:20260326T211500
UID:V84310410-20260326T194500@VHSBÖBLINGEN-SINDELFINGEN
SUMMARY:Italienisch A1, Anfängerkurs ab Lektion 1 (V84310410) 
LOCATION:Online vhs, Mailand (Alfaview), Online vhs
END:VEVENT
BEGIN:VEVENT
DTSTAMP:20260421T173106
DTSTART;TZID=Europe/Berlin:20260416T194500
DTEND;TZID=Europe/Berlin:20260416T211500
UID:V84310410-20260416T194500@VHSBÖBLINGEN-SINDELFINGEN
SUMMARY:Italienisch A1, Anfängerkurs ab Lektion 1 (V84310410) 
LOCATION:Online vhs, Mailand (Alfaview), Online vhs
END:VEVENT
BEGIN:VEVENT
DTSTAMP:20260421T173106
DTSTART;TZID=Europe/Berlin:20260423T194500
DTEND;TZID=Europe/Berlin:20260423T211500
UID:V84310410-20260423T194500@VHSBÖBLINGEN-SINDELFINGEN
SUMMARY:Italienisch A1, Anfängerkurs ab Lektion 1 (V84310410) 
LOCATION:Online vhs, Mailand (Alfaview), Online vhs
END:VEVENT
BEGIN:VEVENT
DTSTAMP:20260421T173106
DTSTART;TZID=Europe/Berlin:20260430T194500
DTEND;TZID=Europe/Berlin:20260430T211500
UID:V84310410-20260430T194500@VHSBÖBLINGEN-SINDELFINGEN
SUMMARY:Italienisch A1, Anfängerkurs ab Lektion 1 (V84310410) 
LOCATION:Online vhs, Mailand (Alfaview), Online vhs
END:VEVENT
END:VCALENDAR