BEGIN:VCALENDAR
VERSION:2.0
PRODID:https://www.kufer.de/kuferweb / DE
METHOD:PUBLISH
CALSCALE:GREGORIAN
X-WR-TIMEZONE:Europe/Berlin
BEGIN:VTIMEZONE
TZID:Europe/Berlin
X-LIC-LOCATION:Europe/Berlin
BEGIN:DAYLIGHT
TZOFFSETFROM:+0100
TZOFFSETTO:+0200
TZNAME:CEST
DTSTART:19700329T020000
RRULE:FREQ=YEARLY;INTERVAL=1;BYDAY=-1SU;BYMONTH=3
END:DAYLIGHT
BEGIN:STANDARD
TZOFFSETFROM:+0200
TZOFFSETTO:+0100
TZNAME:CET
DTSTART:19701025T030000
RRULE:FREQ=YEARLY;INTERVAL=1;BYDAY=-1SU;BYMONTH=10
END:STANDARD
END:VTIMEZONE
BEGIN:VEVENT
DTSTAMP:20260421T144222
DTSTART;TZID=Europe/Berlin:20260224T161500
DTEND;TZID=Europe/Berlin:20260224T174500
UID:V84310110-20260224T161500@VHSBÖBLINGEN-SINDELFINGEN
SUMMARY:Italienisch A1, Anfängerkurs ab Lektion 1 (V84310110) 
LOCATION:Online vhs, Rom (Alfaview), Online vhs
END:VEVENT
BEGIN:VEVENT
DTSTAMP:20260421T144222
DTSTART;TZID=Europe/Berlin:20260303T161500
DTEND;TZID=Europe/Berlin:20260303T174500
UID:V84310110-20260303T161500@VHSBÖBLINGEN-SINDELFINGEN
SUMMARY:Italienisch A1, Anfängerkurs ab Lektion 1 (V84310110) 
LOCATION:Online vhs, Rom (Alfaview), Online vhs
END:VEVENT
BEGIN:VEVENT
DTSTAMP:20260421T144222
DTSTART;TZID=Europe/Berlin:20260310T161500
DTEND;TZID=Europe/Berlin:20260310T174500
UID:V84310110-20260310T161500@VHSBÖBLINGEN-SINDELFINGEN
SUMMARY:Italienisch A1, Anfängerkurs ab Lektion 1 (V84310110) 
LOCATION:Online vhs, Rom (Alfaview), Online vhs
END:VEVENT
BEGIN:VEVENT
DTSTAMP:20260421T144222
DTSTART;TZID=Europe/Berlin:20260317T161500
DTEND;TZID=Europe/Berlin:20260317T174500
UID:V84310110-20260317T161500@VHSBÖBLINGEN-SINDELFINGEN
SUMMARY:Italienisch A1, Anfängerkurs ab Lektion 1 (V84310110) 
LOCATION:Online vhs, Rom (Alfaview), Online vhs
END:VEVENT
BEGIN:VEVENT
DTSTAMP:20260421T144222
DTSTART;TZID=Europe/Berlin:20260324T161500
DTEND;TZID=Europe/Berlin:20260324T174500
UID:V84310110-20260324T161500@VHSBÖBLINGEN-SINDELFINGEN
SUMMARY:Italienisch A1, Anfängerkurs ab Lektion 1 (V84310110) 
LOCATION:Online vhs, Rom (Alfaview), Online vhs
END:VEVENT
BEGIN:VEVENT
DTSTAMP:20260421T144222
DTSTART;TZID=Europe/Berlin:20260414T161500
DTEND;TZID=Europe/Berlin:20260414T174500
UID:V84310110-20260414T161500@VHSBÖBLINGEN-SINDELFINGEN
SUMMARY:Italienisch A1, Anfängerkurs ab Lektion 1 (V84310110) 
LOCATION:Online vhs, Rom (Alfaview), Online vhs
END:VEVENT
BEGIN:VEVENT
DTSTAMP:20260421T144222
DTSTART;TZID=Europe/Berlin:20260421T161500
DTEND;TZID=Europe/Berlin:20260421T174500
UID:V84310110-20260421T161500@VHSBÖBLINGEN-SINDELFINGEN
SUMMARY:Italienisch A1, Anfängerkurs ab Lektion 1 (V84310110) 
LOCATION:Online vhs, Rom (Alfaview), Online vhs
END:VEVENT
BEGIN:VEVENT
DTSTAMP:20260421T144222
DTSTART;TZID=Europe/Berlin:20260428T161500
DTEND;TZID=Europe/Berlin:20260428T174500
UID:V84310110-20260428T161500@VHSBÖBLINGEN-SINDELFINGEN
SUMMARY:Italienisch A1, Anfängerkurs ab Lektion 1 (V84310110) 
LOCATION:Online vhs, Rom (Alfaview), Online vhs
END:VEVENT
BEGIN:VEVENT
DTSTAMP:20260421T144222
DTSTART;TZID=Europe/Berlin:20260505T161500
DTEND;TZID=Europe/Berlin:20260505T174500
UID:V84310110-20260505T161500@VHSBÖBLINGEN-SINDELFINGEN
SUMMARY:Italienisch A1, Anfängerkurs ab Lektion 1 (V84310110) 
LOCATION:Online vhs, Rom (Alfaview), Online vhs
END:VEVENT
END:VCALENDAR