BEGIN:VCALENDAR
VERSION:2.0
PRODID:https://www.kufer.de/kuferweb / DE
METHOD:PUBLISH
CALSCALE:GREGORIAN
X-WR-TIMEZONE:Europe/Berlin
BEGIN:VTIMEZONE
TZID:Europe/Berlin
X-LIC-LOCATION:Europe/Berlin
BEGIN:DAYLIGHT
TZOFFSETFROM:+0100
TZOFFSETTO:+0200
TZNAME:CEST
DTSTART:19700329T020000
RRULE:FREQ=YEARLY;INTERVAL=1;BYDAY=-1SU;BYMONTH=3
END:DAYLIGHT
BEGIN:STANDARD
TZOFFSETFROM:+0200
TZOFFSETTO:+0100
TZNAME:CET
DTSTART:19701025T030000
RRULE:FREQ=YEARLY;INTERVAL=1;BYDAY=-1SU;BYMONTH=10
END:STANDARD
END:VTIMEZONE
BEGIN:VEVENT
DTSTAMP:20260421T134847
DTSTART;TZID=Europe/Berlin:20260305T180000
DTEND;TZID=Europe/Berlin:20260305T191500
UID:V84310010-20260305T180000@VHSBÖBLINGEN-SINDELFINGEN
SUMMARY:Italienisch A1, Anfängerkurs ab Lektion 1 (V84310010) 
LOCATION:Online vhs, Venedig (Alfaview), Online vhs
END:VEVENT
BEGIN:VEVENT
DTSTAMP:20260421T134847
DTSTART;TZID=Europe/Berlin:20260312T180000
DTEND;TZID=Europe/Berlin:20260312T191500
UID:V84310010-20260312T180000@VHSBÖBLINGEN-SINDELFINGEN
SUMMARY:Italienisch A1, Anfängerkurs ab Lektion 1 (V84310010) 
LOCATION:Online vhs, Venedig (Alfaview), Online vhs
END:VEVENT
BEGIN:VEVENT
DTSTAMP:20260421T134847
DTSTART;TZID=Europe/Berlin:20260319T180000
DTEND;TZID=Europe/Berlin:20260319T191500
UID:V84310010-20260319T180000@VHSBÖBLINGEN-SINDELFINGEN
SUMMARY:Italienisch A1, Anfängerkurs ab Lektion 1 (V84310010) 
LOCATION:Online vhs, Venedig (Alfaview), Online vhs
END:VEVENT
BEGIN:VEVENT
DTSTAMP:20260421T134847
DTSTART;TZID=Europe/Berlin:20260326T180000
DTEND;TZID=Europe/Berlin:20260326T191500
UID:V84310010-20260326T180000@VHSBÖBLINGEN-SINDELFINGEN
SUMMARY:Italienisch A1, Anfängerkurs ab Lektion 1 (V84310010) 
LOCATION:Online vhs, Venedig (Alfaview), Online vhs
END:VEVENT
BEGIN:VEVENT
DTSTAMP:20260421T134847
DTSTART;TZID=Europe/Berlin:20260416T180000
DTEND;TZID=Europe/Berlin:20260416T191500
UID:V84310010-20260416T180000@VHSBÖBLINGEN-SINDELFINGEN
SUMMARY:Italienisch A1, Anfängerkurs ab Lektion 1 (V84310010) 
LOCATION:Online vhs, Venedig (Alfaview), Online vhs
END:VEVENT
BEGIN:VEVENT
DTSTAMP:20260421T134847
DTSTART;TZID=Europe/Berlin:20260423T180000
DTEND;TZID=Europe/Berlin:20260423T191500
UID:V84310010-20260423T180000@VHSBÖBLINGEN-SINDELFINGEN
SUMMARY:Italienisch A1, Anfängerkurs ab Lektion 1 (V84310010) 
LOCATION:Online vhs, Venedig (Alfaview), Online vhs
END:VEVENT
BEGIN:VEVENT
DTSTAMP:20260421T134847
DTSTART;TZID=Europe/Berlin:20260430T180000
DTEND;TZID=Europe/Berlin:20260430T191500
UID:V84310010-20260430T180000@VHSBÖBLINGEN-SINDELFINGEN
SUMMARY:Italienisch A1, Anfängerkurs ab Lektion 1 (V84310010) 
LOCATION:Online vhs, Venedig (Alfaview), Online vhs
END:VEVENT
BEGIN:VEVENT
DTSTAMP:20260421T134847
DTSTART;TZID=Europe/Berlin:20260507T180000
DTEND;TZID=Europe/Berlin:20260507T191500
UID:V84310010-20260507T180000@VHSBÖBLINGEN-SINDELFINGEN
SUMMARY:Italienisch A1, Anfängerkurs ab Lektion 1 (V84310010) 
LOCATION:Online vhs, Venedig (Alfaview), Online vhs
END:VEVENT
END:VCALENDAR