BEGIN:VCALENDAR
VERSION:2.0
PRODID:https://www.kufer.de/kuferweb / DE
METHOD:PUBLISH
CALSCALE:GREGORIAN
X-WR-TIMEZONE:Europe/Berlin
BEGIN:VTIMEZONE
TZID:Europe/Berlin
X-LIC-LOCATION:Europe/Berlin
BEGIN:DAYLIGHT
TZOFFSETFROM:+0100
TZOFFSETTO:+0200
TZNAME:CEST
DTSTART:19700329T020000
RRULE:FREQ=YEARLY;INTERVAL=1;BYDAY=-1SU;BYMONTH=3
END:DAYLIGHT
BEGIN:STANDARD
TZOFFSETFROM:+0200
TZOFFSETTO:+0100
TZNAME:CET
DTSTART:19701025T030000
RRULE:FREQ=YEARLY;INTERVAL=1;BYDAY=-1SU;BYMONTH=10
END:STANDARD
END:VTIMEZONE
BEGIN:VEVENT
DTSTAMP:20260421T071504
DTSTART;TZID=Europe/Berlin:20260512T184500
DTEND;TZID=Europe/Berlin:20260512T200000
UID:V84230210-20260512T184500@VHSBÖBLINGEN-SINDELFINGEN
SUMMARY:Französisch B1 ab Lektion 8/9 (V84230210) 
LOCATION:Online vhs, Budapest (Alfaview), Online vhs
END:VEVENT
BEGIN:VEVENT
DTSTAMP:20260421T071504
DTSTART;TZID=Europe/Berlin:20260519T184500
DTEND;TZID=Europe/Berlin:20260519T200000
UID:V84230210-20260519T184500@VHSBÖBLINGEN-SINDELFINGEN
SUMMARY:Französisch B1 ab Lektion 8/9 (V84230210) 
LOCATION:Online vhs, Budapest (Alfaview), Online vhs
END:VEVENT
BEGIN:VEVENT
DTSTAMP:20260421T071504
DTSTART;TZID=Europe/Berlin:20260609T184500
DTEND;TZID=Europe/Berlin:20260609T200000
UID:V84230210-20260609T184500@VHSBÖBLINGEN-SINDELFINGEN
SUMMARY:Französisch B1 ab Lektion 8/9 (V84230210) 
LOCATION:Online vhs, Budapest (Alfaview), Online vhs
END:VEVENT
BEGIN:VEVENT
DTSTAMP:20260421T071504
DTSTART;TZID=Europe/Berlin:20260616T184500
DTEND;TZID=Europe/Berlin:20260616T200000
UID:V84230210-20260616T184500@VHSBÖBLINGEN-SINDELFINGEN
SUMMARY:Französisch B1 ab Lektion 8/9 (V84230210) 
LOCATION:Online vhs, Budapest (Alfaview), Online vhs
END:VEVENT
BEGIN:VEVENT
DTSTAMP:20260421T071504
DTSTART;TZID=Europe/Berlin:20260623T184500
DTEND;TZID=Europe/Berlin:20260623T200000
UID:V84230210-20260623T184500@VHSBÖBLINGEN-SINDELFINGEN
SUMMARY:Französisch B1 ab Lektion 8/9 (V84230210) 
LOCATION:Online vhs, Budapest (Alfaview), Online vhs
END:VEVENT
BEGIN:VEVENT
DTSTAMP:20260421T071504
DTSTART;TZID=Europe/Berlin:20260630T184500
DTEND;TZID=Europe/Berlin:20260630T200000
UID:V84230210-20260630T184500@VHSBÖBLINGEN-SINDELFINGEN
SUMMARY:Französisch B1 ab Lektion 8/9 (V84230210) 
LOCATION:Online vhs, Budapest (Alfaview), Online vhs
END:VEVENT
BEGIN:VEVENT
DTSTAMP:20260421T071504
DTSTART;TZID=Europe/Berlin:20260707T184500
DTEND;TZID=Europe/Berlin:20260707T200000
UID:V84230210-20260707T184500@VHSBÖBLINGEN-SINDELFINGEN
SUMMARY:Französisch B1 ab Lektion 8/9 (V84230210) 
LOCATION:Online vhs, Budapest (Alfaview), Online vhs
END:VEVENT
BEGIN:VEVENT
DTSTAMP:20260421T071504
DTSTART;TZID=Europe/Berlin:20260714T184500
DTEND;TZID=Europe/Berlin:20260714T200000
UID:V84230210-20260714T184500@VHSBÖBLINGEN-SINDELFINGEN
SUMMARY:Französisch B1 ab Lektion 8/9 (V84230210) 
LOCATION:Online vhs, Budapest (Alfaview), Online vhs
END:VEVENT
END:VCALENDAR