BEGIN:VCALENDAR
VERSION:2.0
PRODID:https://www.kufer.de/kuferweb / DE
METHOD:PUBLISH
CALSCALE:GREGORIAN
X-WR-TIMEZONE:Europe/Berlin
BEGIN:VTIMEZONE
TZID:Europe/Berlin
X-LIC-LOCATION:Europe/Berlin
BEGIN:DAYLIGHT
TZOFFSETFROM:+0100
TZOFFSETTO:+0200
TZNAME:CEST
DTSTART:19700329T020000
RRULE:FREQ=YEARLY;INTERVAL=1;BYDAY=-1SU;BYMONTH=3
END:DAYLIGHT
BEGIN:STANDARD
TZOFFSETFROM:+0200
TZOFFSETTO:+0100
TZNAME:CET
DTSTART:19701025T030000
RRULE:FREQ=YEARLY;INTERVAL=1;BYDAY=-1SU;BYMONTH=10
END:STANDARD
END:VTIMEZONE
BEGIN:VEVENT
DTSTAMP:20260420T212231
DTSTART;TZID=Europe/Berlin:20260512T171500
DTEND;TZID=Europe/Berlin:20260512T183000
UID:V84213610-20260512T171500@VHSBÖBLINGEN-SINDELFINGEN
SUMMARY:Französisch A1 ab Lektion 7/8 (V84213610) 
LOCATION:Online vhs, Kopenhagen (Alfaview), Online vhs
END:VEVENT
BEGIN:VEVENT
DTSTAMP:20260420T212231
DTSTART;TZID=Europe/Berlin:20260519T171500
DTEND;TZID=Europe/Berlin:20260519T183000
UID:V84213610-20260519T171500@VHSBÖBLINGEN-SINDELFINGEN
SUMMARY:Französisch A1 ab Lektion 7/8 (V84213610) 
LOCATION:Online vhs, Kopenhagen (Alfaview), Online vhs
END:VEVENT
BEGIN:VEVENT
DTSTAMP:20260420T212231
DTSTART;TZID=Europe/Berlin:20260609T171500
DTEND;TZID=Europe/Berlin:20260609T183000
UID:V84213610-20260609T171500@VHSBÖBLINGEN-SINDELFINGEN
SUMMARY:Französisch A1 ab Lektion 7/8 (V84213610) 
LOCATION:Online vhs, Kopenhagen (Alfaview), Online vhs
END:VEVENT
BEGIN:VEVENT
DTSTAMP:20260420T212231
DTSTART;TZID=Europe/Berlin:20260616T171500
DTEND;TZID=Europe/Berlin:20260616T183000
UID:V84213610-20260616T171500@VHSBÖBLINGEN-SINDELFINGEN
SUMMARY:Französisch A1 ab Lektion 7/8 (V84213610) 
LOCATION:Online vhs, Kopenhagen (Alfaview), Online vhs
END:VEVENT
BEGIN:VEVENT
DTSTAMP:20260420T212231
DTSTART;TZID=Europe/Berlin:20260623T171500
DTEND;TZID=Europe/Berlin:20260623T183000
UID:V84213610-20260623T171500@VHSBÖBLINGEN-SINDELFINGEN
SUMMARY:Französisch A1 ab Lektion 7/8 (V84213610) 
LOCATION:Online vhs, Kopenhagen (Alfaview), Online vhs
END:VEVENT
BEGIN:VEVENT
DTSTAMP:20260420T212231
DTSTART;TZID=Europe/Berlin:20260630T171500
DTEND;TZID=Europe/Berlin:20260630T183000
UID:V84213610-20260630T171500@VHSBÖBLINGEN-SINDELFINGEN
SUMMARY:Französisch A1 ab Lektion 7/8 (V84213610) 
LOCATION:Online vhs, Kopenhagen (Alfaview), Online vhs
END:VEVENT
BEGIN:VEVENT
DTSTAMP:20260420T212231
DTSTART;TZID=Europe/Berlin:20260707T171500
DTEND;TZID=Europe/Berlin:20260707T183000
UID:V84213610-20260707T171500@VHSBÖBLINGEN-SINDELFINGEN
SUMMARY:Französisch A1 ab Lektion 7/8 (V84213610) 
LOCATION:Online vhs, Kopenhagen (Alfaview), Online vhs
END:VEVENT
BEGIN:VEVENT
DTSTAMP:20260420T212231
DTSTART;TZID=Europe/Berlin:20260714T171500
DTEND;TZID=Europe/Berlin:20260714T183000
UID:V84213610-20260714T171500@VHSBÖBLINGEN-SINDELFINGEN
SUMMARY:Französisch A1 ab Lektion 7/8 (V84213610) 
LOCATION:Online vhs, Kopenhagen (Alfaview), Online vhs
END:VEVENT
END:VCALENDAR