BEGIN:VCALENDAR
VERSION:2.0
PRODID:https://www.kufer.de/kuferweb / DE
METHOD:PUBLISH
CALSCALE:GREGORIAN
X-WR-TIMEZONE:Europe/Berlin
BEGIN:VTIMEZONE
TZID:Europe/Berlin
X-LIC-LOCATION:Europe/Berlin
BEGIN:DAYLIGHT
TZOFFSETFROM:+0100
TZOFFSETTO:+0200
TZNAME:CEST
DTSTART:19700329T020000
RRULE:FREQ=YEARLY;INTERVAL=1;BYDAY=-1SU;BYMONTH=3
END:DAYLIGHT
BEGIN:STANDARD
TZOFFSETFROM:+0200
TZOFFSETTO:+0100
TZNAME:CET
DTSTART:19701025T030000
RRULE:FREQ=YEARLY;INTERVAL=1;BYDAY=-1SU;BYMONTH=10
END:STANDARD
END:VTIMEZONE
BEGIN:VEVENT
DTSTAMP:20260420T194002
DTSTART;TZID=Europe/Berlin:20260224T190000
DTEND;TZID=Europe/Berlin:20260224T201500
UID:V84213210-20260224T190000@VHSBÖBLINGEN-SINDELFINGEN
SUMMARY:Französisch, A1 ab Lektion 5 (V84213210) 
LOCATION:Online vhs, Bordeaux (Alfaview), Online vhs
END:VEVENT
BEGIN:VEVENT
DTSTAMP:20260420T194002
DTSTART;TZID=Europe/Berlin:20260303T190000
DTEND;TZID=Europe/Berlin:20260303T201500
UID:V84213210-20260303T190000@VHSBÖBLINGEN-SINDELFINGEN
SUMMARY:Französisch, A1 ab Lektion 5 (V84213210) 
LOCATION:Online vhs, Bordeaux (Alfaview), Online vhs
END:VEVENT
BEGIN:VEVENT
DTSTAMP:20260420T194002
DTSTART;TZID=Europe/Berlin:20260317T190000
DTEND;TZID=Europe/Berlin:20260317T201500
UID:V84213210-20260317T190000@VHSBÖBLINGEN-SINDELFINGEN
SUMMARY:Französisch, A1 ab Lektion 5 (V84213210) 
LOCATION:Online vhs, Bordeaux (Alfaview), Online vhs
END:VEVENT
BEGIN:VEVENT
DTSTAMP:20260420T194002
DTSTART;TZID=Europe/Berlin:20260324T190000
DTEND;TZID=Europe/Berlin:20260324T201500
UID:V84213210-20260324T190000@VHSBÖBLINGEN-SINDELFINGEN
SUMMARY:Französisch, A1 ab Lektion 5 (V84213210) 
LOCATION:Online vhs, Bordeaux (Alfaview), Online vhs
END:VEVENT
BEGIN:VEVENT
DTSTAMP:20260420T194002
DTSTART;TZID=Europe/Berlin:20260414T190000
DTEND;TZID=Europe/Berlin:20260414T201500
UID:V84213210-20260414T190000@VHSBÖBLINGEN-SINDELFINGEN
SUMMARY:Französisch, A1 ab Lektion 5 (V84213210) 
LOCATION:Online vhs, Bordeaux (Alfaview), Online vhs
END:VEVENT
BEGIN:VEVENT
DTSTAMP:20260420T194002
DTSTART;TZID=Europe/Berlin:20260421T190000
DTEND;TZID=Europe/Berlin:20260421T201500
UID:V84213210-20260421T190000@VHSBÖBLINGEN-SINDELFINGEN
SUMMARY:Französisch, A1 ab Lektion 5 (V84213210) 
LOCATION:Online vhs, Bordeaux (Alfaview), Online vhs
END:VEVENT
BEGIN:VEVENT
DTSTAMP:20260420T194002
DTSTART;TZID=Europe/Berlin:20260428T190000
DTEND;TZID=Europe/Berlin:20260428T201500
UID:V84213210-20260428T190000@VHSBÖBLINGEN-SINDELFINGEN
SUMMARY:Französisch, A1 ab Lektion 5 (V84213210) 
LOCATION:Online vhs, Bordeaux (Alfaview), Online vhs
END:VEVENT
BEGIN:VEVENT
DTSTAMP:20260420T194002
DTSTART;TZID=Europe/Berlin:20260505T190000
DTEND;TZID=Europe/Berlin:20260505T201500
UID:V84213210-20260505T190000@VHSBÖBLINGEN-SINDELFINGEN
SUMMARY:Französisch, A1 ab Lektion 5 (V84213210) 
LOCATION:Online vhs, Bordeaux (Alfaview), Online vhs
END:VEVENT
END:VCALENDAR