BEGIN:VCALENDAR
VERSION:2.0
PRODID:https://www.kufer.de/kuferweb / DE
METHOD:PUBLISH
CALSCALE:GREGORIAN
X-WR-TIMEZONE:Europe/Berlin
BEGIN:VTIMEZONE
TZID:Europe/Berlin
X-LIC-LOCATION:Europe/Berlin
BEGIN:DAYLIGHT
TZOFFSETFROM:+0100
TZOFFSETTO:+0200
TZNAME:CEST
DTSTART:19700329T020000
RRULE:FREQ=YEARLY;INTERVAL=1;BYDAY=-1SU;BYMONTH=3
END:DAYLIGHT
BEGIN:STANDARD
TZOFFSETFROM:+0200
TZOFFSETTO:+0100
TZNAME:CET
DTSTART:19701025T030000
RRULE:FREQ=YEARLY;INTERVAL=1;BYDAY=-1SU;BYMONTH=10
END:STANDARD
END:VTIMEZONE
BEGIN:VEVENT
DTSTAMP:20260421T003330
DTSTART;TZID=Europe/Berlin:20260226T193000
DTEND;TZID=Europe/Berlin:20260226T204500
UID:V84210010-20260226T193000@VHSBÖBLINGEN-SINDELFINGEN
SUMMARY:Französisch A1, Anfängerkurs ab Lektion 1 (V84210010) 
LOCATION:Online vhs, Marseille (Alfaview), Online vhs
END:VEVENT
BEGIN:VEVENT
DTSTAMP:20260421T003330
DTSTART;TZID=Europe/Berlin:20260305T193000
DTEND;TZID=Europe/Berlin:20260305T204500
UID:V84210010-20260305T193000@VHSBÖBLINGEN-SINDELFINGEN
SUMMARY:Französisch A1, Anfängerkurs ab Lektion 1 (V84210010) 
LOCATION:Online vhs, Marseille (Alfaview), Online vhs
END:VEVENT
BEGIN:VEVENT
DTSTAMP:20260421T003330
DTSTART;TZID=Europe/Berlin:20260319T193000
DTEND;TZID=Europe/Berlin:20260319T204500
UID:V84210010-20260319T193000@VHSBÖBLINGEN-SINDELFINGEN
SUMMARY:Französisch A1, Anfängerkurs ab Lektion 1 (V84210010) 
LOCATION:Online vhs, Marseille (Alfaview), Online vhs
END:VEVENT
BEGIN:VEVENT
DTSTAMP:20260421T003330
DTSTART;TZID=Europe/Berlin:20260326T193000
DTEND;TZID=Europe/Berlin:20260326T204500
UID:V84210010-20260326T193000@VHSBÖBLINGEN-SINDELFINGEN
SUMMARY:Französisch A1, Anfängerkurs ab Lektion 1 (V84210010) 
LOCATION:Online vhs, Marseille (Alfaview), Online vhs
END:VEVENT
BEGIN:VEVENT
DTSTAMP:20260421T003330
DTSTART;TZID=Europe/Berlin:20260416T193000
DTEND;TZID=Europe/Berlin:20260416T204500
UID:V84210010-20260416T193000@VHSBÖBLINGEN-SINDELFINGEN
SUMMARY:Französisch A1, Anfängerkurs ab Lektion 1 (V84210010) 
LOCATION:Online vhs, Marseille (Alfaview), Online vhs
END:VEVENT
BEGIN:VEVENT
DTSTAMP:20260421T003330
DTSTART;TZID=Europe/Berlin:20260423T193000
DTEND;TZID=Europe/Berlin:20260423T204500
UID:V84210010-20260423T193000@VHSBÖBLINGEN-SINDELFINGEN
SUMMARY:Französisch A1, Anfängerkurs ab Lektion 1 (V84210010) 
LOCATION:Online vhs, Marseille (Alfaview), Online vhs
END:VEVENT
BEGIN:VEVENT
DTSTAMP:20260421T003330
DTSTART;TZID=Europe/Berlin:20260430T193000
DTEND;TZID=Europe/Berlin:20260430T204500
UID:V84210010-20260430T193000@VHSBÖBLINGEN-SINDELFINGEN
SUMMARY:Französisch A1, Anfängerkurs ab Lektion 1 (V84210010) 
LOCATION:Online vhs, Marseille (Alfaview), Online vhs
END:VEVENT
BEGIN:VEVENT
DTSTAMP:20260421T003330
DTSTART;TZID=Europe/Berlin:20260507T193000
DTEND;TZID=Europe/Berlin:20260507T204500
UID:V84210010-20260507T193000@VHSBÖBLINGEN-SINDELFINGEN
SUMMARY:Französisch A1, Anfängerkurs ab Lektion 1 (V84210010) 
LOCATION:Online vhs, Marseille (Alfaview), Online vhs
END:VEVENT
END:VCALENDAR