BEGIN:VCALENDAR
VERSION:2.0
PRODID:https://www.kufer.de/kuferweb / DE
METHOD:PUBLISH
CALSCALE:GREGORIAN
X-WR-TIMEZONE:Europe/Berlin
BEGIN:VTIMEZONE
TZID:Europe/Berlin
X-LIC-LOCATION:Europe/Berlin
BEGIN:DAYLIGHT
TZOFFSETFROM:+0100
TZOFFSETTO:+0200
TZNAME:CEST
DTSTART:19700329T020000
RRULE:FREQ=YEARLY;INTERVAL=1;BYDAY=-1SU;BYMONTH=3
END:DAYLIGHT
BEGIN:STANDARD
TZOFFSETFROM:+0200
TZOFFSETTO:+0100
TZNAME:CET
DTSTART:19701025T030000
RRULE:FREQ=YEARLY;INTERVAL=1;BYDAY=-1SU;BYMONTH=10
END:STANDARD
END:VTIMEZONE
BEGIN:VEVENT
DTSTAMP:20260421T165323
DTSTART;TZID=Europe/Berlin:20260225T120000
DTEND;TZID=Europe/Berlin:20260225T130000
UID:V84153210-20260225T120000@VHSBÖBLINGEN-SINDELFINGEN
SUMMARY:Englisch C1, Lunchbox English Conversation (V84153210) 
LOCATION:Online vhs, London (Alfaview), Online vhs
END:VEVENT
BEGIN:VEVENT
DTSTAMP:20260421T165323
DTSTART;TZID=Europe/Berlin:20260304T120000
DTEND;TZID=Europe/Berlin:20260304T130000
UID:V84153210-20260304T120000@VHSBÖBLINGEN-SINDELFINGEN
SUMMARY:Englisch C1, Lunchbox English Conversation (V84153210) 
LOCATION:Online vhs, London (Alfaview), Online vhs
END:VEVENT
BEGIN:VEVENT
DTSTAMP:20260421T165323
DTSTART;TZID=Europe/Berlin:20260311T120000
DTEND;TZID=Europe/Berlin:20260311T130000
UID:V84153210-20260311T120000@VHSBÖBLINGEN-SINDELFINGEN
SUMMARY:Englisch C1, Lunchbox English Conversation (V84153210) 
LOCATION:Online vhs, London (Alfaview), Online vhs
END:VEVENT
BEGIN:VEVENT
DTSTAMP:20260421T165323
DTSTART;TZID=Europe/Berlin:20260318T120000
DTEND;TZID=Europe/Berlin:20260318T130000
UID:V84153210-20260318T120000@VHSBÖBLINGEN-SINDELFINGEN
SUMMARY:Englisch C1, Lunchbox English Conversation (V84153210) 
LOCATION:Online vhs, London (Alfaview), Online vhs
END:VEVENT
BEGIN:VEVENT
DTSTAMP:20260421T165323
DTSTART;TZID=Europe/Berlin:20260325T120000
DTEND;TZID=Europe/Berlin:20260325T130000
UID:V84153210-20260325T120000@VHSBÖBLINGEN-SINDELFINGEN
SUMMARY:Englisch C1, Lunchbox English Conversation (V84153210) 
LOCATION:Online vhs, London (Alfaview), Online vhs
END:VEVENT
BEGIN:VEVENT
DTSTAMP:20260421T165323
DTSTART;TZID=Europe/Berlin:20260415T120000
DTEND;TZID=Europe/Berlin:20260415T130000
UID:V84153210-20260415T120000@VHSBÖBLINGEN-SINDELFINGEN
SUMMARY:Englisch C1, Lunchbox English Conversation (V84153210) 
LOCATION:Online vhs, London (Alfaview), Online vhs
END:VEVENT
BEGIN:VEVENT
DTSTAMP:20260421T165323
DTSTART;TZID=Europe/Berlin:20260422T120000
DTEND;TZID=Europe/Berlin:20260422T130000
UID:V84153210-20260422T120000@VHSBÖBLINGEN-SINDELFINGEN
SUMMARY:Englisch C1, Lunchbox English Conversation (V84153210) 
LOCATION:Online vhs, London (Alfaview), Online vhs
END:VEVENT
BEGIN:VEVENT
DTSTAMP:20260421T165323
DTSTART;TZID=Europe/Berlin:20260429T120000
DTEND;TZID=Europe/Berlin:20260429T130000
UID:V84153210-20260429T120000@VHSBÖBLINGEN-SINDELFINGEN
SUMMARY:Englisch C1, Lunchbox English Conversation (V84153210) 
LOCATION:Online vhs, London (Alfaview), Online vhs
END:VEVENT
BEGIN:VEVENT
DTSTAMP:20260421T165323
DTSTART;TZID=Europe/Berlin:20260506T120000
DTEND;TZID=Europe/Berlin:20260506T130000
UID:V84153210-20260506T120000@VHSBÖBLINGEN-SINDELFINGEN
SUMMARY:Englisch C1, Lunchbox English Conversation (V84153210) 
LOCATION:Online vhs, London (Alfaview), Online vhs
END:VEVENT
END:VCALENDAR