BEGIN:VCALENDAR
VERSION:2.0
PRODID:https://www.kufer.de/kuferweb / DE
METHOD:PUBLISH
CALSCALE:GREGORIAN
X-WR-TIMEZONE:Europe/Berlin
BEGIN:VTIMEZONE
TZID:Europe/Berlin
X-LIC-LOCATION:Europe/Berlin
BEGIN:DAYLIGHT
TZOFFSETFROM:+0100
TZOFFSETTO:+0200
TZNAME:CEST
DTSTART:19700329T020000
RRULE:FREQ=YEARLY;INTERVAL=1;BYDAY=-1SU;BYMONTH=3
END:DAYLIGHT
BEGIN:STANDARD
TZOFFSETFROM:+0200
TZOFFSETTO:+0100
TZNAME:CET
DTSTART:19701025T030000
RRULE:FREQ=YEARLY;INTERVAL=1;BYDAY=-1SU;BYMONTH=10
END:STANDARD
END:VTIMEZONE
BEGIN:VEVENT
DTSTAMP:20260420T225316
DTSTART;TZID=Europe/Berlin:20260223T190000
DTEND;TZID=Europe/Berlin:20260223T203000
UID:V84153010-20260223T190000@VHSBÖBLINGEN-SINDELFINGEN
SUMMARY:Englisch C1, More than just an English Class! Conversation (V84153010) 
LOCATION:Online vhs, Stockholm (Alfaview), Online vhs
END:VEVENT
BEGIN:VEVENT
DTSTAMP:20260420T225316
DTSTART;TZID=Europe/Berlin:20260302T190000
DTEND;TZID=Europe/Berlin:20260302T203000
UID:V84153010-20260302T190000@VHSBÖBLINGEN-SINDELFINGEN
SUMMARY:Englisch C1, More than just an English Class! Conversation (V84153010) 
LOCATION:Online vhs, Stockholm (Alfaview), Online vhs
END:VEVENT
BEGIN:VEVENT
DTSTAMP:20260420T225316
DTSTART;TZID=Europe/Berlin:20260309T190000
DTEND;TZID=Europe/Berlin:20260309T203000
UID:V84153010-20260309T190000@VHSBÖBLINGEN-SINDELFINGEN
SUMMARY:Englisch C1, More than just an English Class! Conversation (V84153010) 
LOCATION:Online vhs, Stockholm (Alfaview), Online vhs
END:VEVENT
BEGIN:VEVENT
DTSTAMP:20260420T225316
DTSTART;TZID=Europe/Berlin:20260316T190000
DTEND;TZID=Europe/Berlin:20260316T203000
UID:V84153010-20260316T190000@VHSBÖBLINGEN-SINDELFINGEN
SUMMARY:Englisch C1, More than just an English Class! Conversation (V84153010) 
LOCATION:Online vhs, Stockholm (Alfaview), Online vhs
END:VEVENT
BEGIN:VEVENT
DTSTAMP:20260420T225316
DTSTART;TZID=Europe/Berlin:20260323T190000
DTEND;TZID=Europe/Berlin:20260323T203000
UID:V84153010-20260323T190000@VHSBÖBLINGEN-SINDELFINGEN
SUMMARY:Englisch C1, More than just an English Class! Conversation (V84153010) 
LOCATION:Online vhs, Stockholm (Alfaview), Online vhs
END:VEVENT
BEGIN:VEVENT
DTSTAMP:20260420T225316
DTSTART;TZID=Europe/Berlin:20260413T190000
DTEND;TZID=Europe/Berlin:20260413T203000
UID:V84153010-20260413T190000@VHSBÖBLINGEN-SINDELFINGEN
SUMMARY:Englisch C1, More than just an English Class! Conversation (V84153010) 
LOCATION:Online vhs, Stockholm (Alfaview), Online vhs
END:VEVENT
BEGIN:VEVENT
DTSTAMP:20260420T225316
DTSTART;TZID=Europe/Berlin:20260420T190000
DTEND;TZID=Europe/Berlin:20260420T203000
UID:V84153010-20260420T190000@VHSBÖBLINGEN-SINDELFINGEN
SUMMARY:Englisch C1, More than just an English Class! Conversation (V84153010) 
LOCATION:Online vhs, Stockholm (Alfaview), Online vhs
END:VEVENT
BEGIN:VEVENT
DTSTAMP:20260420T225316
DTSTART;TZID=Europe/Berlin:20260427T190000
DTEND;TZID=Europe/Berlin:20260427T203000
UID:V84153010-20260427T190000@VHSBÖBLINGEN-SINDELFINGEN
SUMMARY:Englisch C1, More than just an English Class! Conversation (V84153010) 
LOCATION:Online vhs, Stockholm (Alfaview), Online vhs
END:VEVENT
BEGIN:VEVENT
DTSTAMP:20260420T225316
DTSTART;TZID=Europe/Berlin:20260504T190000
DTEND;TZID=Europe/Berlin:20260504T203000
UID:V84153010-20260504T190000@VHSBÖBLINGEN-SINDELFINGEN
SUMMARY:Englisch C1, More than just an English Class! Conversation (V84153010) 
LOCATION:Online vhs, Stockholm (Alfaview), Online vhs
END:VEVENT
END:VCALENDAR