BEGIN:VCALENDAR
VERSION:2.0
PRODID:https://www.kufer.de/kuferweb / DE
METHOD:PUBLISH
CALSCALE:GREGORIAN
X-WR-TIMEZONE:Europe/Berlin
BEGIN:VTIMEZONE
TZID:Europe/Berlin
X-LIC-LOCATION:Europe/Berlin
BEGIN:DAYLIGHT
TZOFFSETFROM:+0100
TZOFFSETTO:+0200
TZNAME:CEST
DTSTART:19700329T020000
RRULE:FREQ=YEARLY;INTERVAL=1;BYDAY=-1SU;BYMONTH=3
END:DAYLIGHT
BEGIN:STANDARD
TZOFFSETFROM:+0200
TZOFFSETTO:+0100
TZNAME:CET
DTSTART:19701025T030000
RRULE:FREQ=YEARLY;INTERVAL=1;BYDAY=-1SU;BYMONTH=10
END:STANDARD
END:VTIMEZONE
BEGIN:VEVENT
DTSTAMP:20260421T043158
DTSTART;TZID=Europe/Berlin:20260512T180000
DTEND;TZID=Europe/Berlin:20260512T184500
UID:V84144110-20260512T180000@VHSBÖBLINGEN-SINDELFINGEN
SUMMARY:Englisch B2, Conversation (V84144110) 
LOCATION:Online vhs, London (Alfaview), Online vhs
END:VEVENT
BEGIN:VEVENT
DTSTAMP:20260421T043158
DTSTART;TZID=Europe/Berlin:20260519T180000
DTEND;TZID=Europe/Berlin:20260519T184500
UID:V84144110-20260519T180000@VHSBÖBLINGEN-SINDELFINGEN
SUMMARY:Englisch B2, Conversation (V84144110) 
LOCATION:Online vhs, London (Alfaview), Online vhs
END:VEVENT
BEGIN:VEVENT
DTSTAMP:20260421T043158
DTSTART;TZID=Europe/Berlin:20260609T180000
DTEND;TZID=Europe/Berlin:20260609T184500
UID:V84144110-20260609T180000@VHSBÖBLINGEN-SINDELFINGEN
SUMMARY:Englisch B2, Conversation (V84144110) 
LOCATION:Online vhs, London (Alfaview), Online vhs
END:VEVENT
BEGIN:VEVENT
DTSTAMP:20260421T043158
DTSTART;TZID=Europe/Berlin:20260616T180000
DTEND;TZID=Europe/Berlin:20260616T184500
UID:V84144110-20260616T180000@VHSBÖBLINGEN-SINDELFINGEN
SUMMARY:Englisch B2, Conversation (V84144110) 
LOCATION:Online vhs, London (Alfaview), Online vhs
END:VEVENT
BEGIN:VEVENT
DTSTAMP:20260421T043158
DTSTART;TZID=Europe/Berlin:20260623T180000
DTEND;TZID=Europe/Berlin:20260623T184500
UID:V84144110-20260623T180000@VHSBÖBLINGEN-SINDELFINGEN
SUMMARY:Englisch B2, Conversation (V84144110) 
LOCATION:Online vhs, London (Alfaview), Online vhs
END:VEVENT
BEGIN:VEVENT
DTSTAMP:20260421T043158
DTSTART;TZID=Europe/Berlin:20260630T180000
DTEND;TZID=Europe/Berlin:20260630T184500
UID:V84144110-20260630T180000@VHSBÖBLINGEN-SINDELFINGEN
SUMMARY:Englisch B2, Conversation (V84144110) 
LOCATION:Online vhs, London (Alfaview), Online vhs
END:VEVENT
BEGIN:VEVENT
DTSTAMP:20260421T043158
DTSTART;TZID=Europe/Berlin:20260707T180000
DTEND;TZID=Europe/Berlin:20260707T184500
UID:V84144110-20260707T180000@VHSBÖBLINGEN-SINDELFINGEN
SUMMARY:Englisch B2, Conversation (V84144110) 
LOCATION:Online vhs, London (Alfaview), Online vhs
END:VEVENT
BEGIN:VEVENT
DTSTAMP:20260421T043158
DTSTART;TZID=Europe/Berlin:20260714T180000
DTEND;TZID=Europe/Berlin:20260714T184500
UID:V84144110-20260714T180000@VHSBÖBLINGEN-SINDELFINGEN
SUMMARY:Englisch B2, Conversation (V84144110) 
LOCATION:Online vhs, London (Alfaview), Online vhs
END:VEVENT
END:VCALENDAR