BEGIN:VCALENDAR
VERSION:2.0
PRODID:https://www.kufer.de/kuferweb / DE
METHOD:PUBLISH
CALSCALE:GREGORIAN
X-WR-TIMEZONE:Europe/Berlin
BEGIN:VTIMEZONE
TZID:Europe/Berlin
X-LIC-LOCATION:Europe/Berlin
BEGIN:DAYLIGHT
TZOFFSETFROM:+0100
TZOFFSETTO:+0200
TZNAME:CEST
DTSTART:19700329T020000
RRULE:FREQ=YEARLY;INTERVAL=1;BYDAY=-1SU;BYMONTH=3
END:DAYLIGHT
BEGIN:STANDARD
TZOFFSETFROM:+0200
TZOFFSETTO:+0100
TZNAME:CET
DTSTART:19701025T030000
RRULE:FREQ=YEARLY;INTERVAL=1;BYDAY=-1SU;BYMONTH=10
END:STANDARD
END:VTIMEZONE
BEGIN:VEVENT
DTSTAMP:20260421T144249
DTSTART;TZID=Europe/Berlin:20260512T184500
DTEND;TZID=Europe/Berlin:20260512T194500
UID:V84138910-20260512T184500@VHSBÖBLINGEN-SINDELFINGEN
SUMMARY:Englisch B1, Business Conversation (V84138910) 
LOCATION:Online vhs, Madrid (Alfaview), Online vhs
END:VEVENT
BEGIN:VEVENT
DTSTAMP:20260421T144249
DTSTART;TZID=Europe/Berlin:20260519T184500
DTEND;TZID=Europe/Berlin:20260519T194500
UID:V84138910-20260519T184500@VHSBÖBLINGEN-SINDELFINGEN
SUMMARY:Englisch B1, Business Conversation (V84138910) 
LOCATION:Online vhs, Madrid (Alfaview), Online vhs
END:VEVENT
BEGIN:VEVENT
DTSTAMP:20260421T144249
DTSTART;TZID=Europe/Berlin:20260609T184500
DTEND;TZID=Europe/Berlin:20260609T194500
UID:V84138910-20260609T184500@VHSBÖBLINGEN-SINDELFINGEN
SUMMARY:Englisch B1, Business Conversation (V84138910) 
LOCATION:Online vhs, Madrid (Alfaview), Online vhs
END:VEVENT
BEGIN:VEVENT
DTSTAMP:20260421T144249
DTSTART;TZID=Europe/Berlin:20260616T184500
DTEND;TZID=Europe/Berlin:20260616T194500
UID:V84138910-20260616T184500@VHSBÖBLINGEN-SINDELFINGEN
SUMMARY:Englisch B1, Business Conversation (V84138910) 
LOCATION:Online vhs, Madrid (Alfaview), Online vhs
END:VEVENT
BEGIN:VEVENT
DTSTAMP:20260421T144249
DTSTART;TZID=Europe/Berlin:20260623T184500
DTEND;TZID=Europe/Berlin:20260623T194500
UID:V84138910-20260623T184500@VHSBÖBLINGEN-SINDELFINGEN
SUMMARY:Englisch B1, Business Conversation (V84138910) 
LOCATION:Online vhs, Madrid (Alfaview), Online vhs
END:VEVENT
BEGIN:VEVENT
DTSTAMP:20260421T144249
DTSTART;TZID=Europe/Berlin:20260630T184500
DTEND;TZID=Europe/Berlin:20260630T194500
UID:V84138910-20260630T184500@VHSBÖBLINGEN-SINDELFINGEN
SUMMARY:Englisch B1, Business Conversation (V84138910) 
LOCATION:Online vhs, Madrid (Alfaview), Online vhs
END:VEVENT
BEGIN:VEVENT
DTSTAMP:20260421T144249
DTSTART;TZID=Europe/Berlin:20260707T184500
DTEND;TZID=Europe/Berlin:20260707T194500
UID:V84138910-20260707T184500@VHSBÖBLINGEN-SINDELFINGEN
SUMMARY:Englisch B1, Business Conversation (V84138910) 
LOCATION:Online vhs, Madrid (Alfaview), Online vhs
END:VEVENT
BEGIN:VEVENT
DTSTAMP:20260421T144249
DTSTART;TZID=Europe/Berlin:20260714T184500
DTEND;TZID=Europe/Berlin:20260714T194500
UID:V84138910-20260714T184500@VHSBÖBLINGEN-SINDELFINGEN
SUMMARY:Englisch B1, Business Conversation (V84138910) 
LOCATION:Online vhs, Madrid (Alfaview), Online vhs
END:VEVENT
BEGIN:VEVENT
DTSTAMP:20260421T144249
DTSTART;TZID=Europe/Berlin:20260721T184500
DTEND;TZID=Europe/Berlin:20260721T194500
UID:V84138910-20260721T184500@VHSBÖBLINGEN-SINDELFINGEN
SUMMARY:Englisch B1, Business Conversation (V84138910) 
LOCATION:Online vhs, Madrid (Alfaview), Online vhs
END:VEVENT
END:VCALENDAR