BEGIN:VCALENDAR
VERSION:2.0
PRODID:https://www.kufer.de/kuferweb / DE
METHOD:PUBLISH
CALSCALE:GREGORIAN
X-WR-TIMEZONE:Europe/Berlin
BEGIN:VTIMEZONE
TZID:Europe/Berlin
X-LIC-LOCATION:Europe/Berlin
BEGIN:DAYLIGHT
TZOFFSETFROM:+0100
TZOFFSETTO:+0200
TZNAME:CEST
DTSTART:19700329T020000
RRULE:FREQ=YEARLY;INTERVAL=1;BYDAY=-1SU;BYMONTH=3
END:DAYLIGHT
BEGIN:STANDARD
TZOFFSETFROM:+0200
TZOFFSETTO:+0100
TZNAME:CET
DTSTART:19701025T030000
RRULE:FREQ=YEARLY;INTERVAL=1;BYDAY=-1SU;BYMONTH=10
END:STANDARD
END:VTIMEZONE
BEGIN:VEVENT
DTSTAMP:20260421T145807
DTSTART;TZID=Europe/Berlin:20260521T074500
DTEND;TZID=Europe/Berlin:20260521T083000
UID:V84138710-20260521T074500@VHSBÖBLINGEN-SINDELFINGEN
SUMMARY:Englisch B1, Early morning Business Conversation (V84138710) 
LOCATION:Online vhs, Budapest (Alfaview), Online vhs
END:VEVENT
BEGIN:VEVENT
DTSTAMP:20260421T145807
DTSTART;TZID=Europe/Berlin:20260611T074500
DTEND;TZID=Europe/Berlin:20260611T083000
UID:V84138710-20260611T074500@VHSBÖBLINGEN-SINDELFINGEN
SUMMARY:Englisch B1, Early morning Business Conversation (V84138710) 
LOCATION:Online vhs, Budapest (Alfaview), Online vhs
END:VEVENT
BEGIN:VEVENT
DTSTAMP:20260421T145807
DTSTART;TZID=Europe/Berlin:20260618T074500
DTEND;TZID=Europe/Berlin:20260618T083000
UID:V84138710-20260618T074500@VHSBÖBLINGEN-SINDELFINGEN
SUMMARY:Englisch B1, Early morning Business Conversation (V84138710) 
LOCATION:Online vhs, Budapest (Alfaview), Online vhs
END:VEVENT
BEGIN:VEVENT
DTSTAMP:20260421T145807
DTSTART;TZID=Europe/Berlin:20260625T074500
DTEND;TZID=Europe/Berlin:20260625T083000
UID:V84138710-20260625T074500@VHSBÖBLINGEN-SINDELFINGEN
SUMMARY:Englisch B1, Early morning Business Conversation (V84138710) 
LOCATION:Online vhs, Budapest (Alfaview), Online vhs
END:VEVENT
BEGIN:VEVENT
DTSTAMP:20260421T145807
DTSTART;TZID=Europe/Berlin:20260702T074500
DTEND;TZID=Europe/Berlin:20260702T083000
UID:V84138710-20260702T074500@VHSBÖBLINGEN-SINDELFINGEN
SUMMARY:Englisch B1, Early morning Business Conversation (V84138710) 
LOCATION:Online vhs, Budapest (Alfaview), Online vhs
END:VEVENT
BEGIN:VEVENT
DTSTAMP:20260421T145807
DTSTART;TZID=Europe/Berlin:20260709T074500
DTEND;TZID=Europe/Berlin:20260709T083000
UID:V84138710-20260709T074500@VHSBÖBLINGEN-SINDELFINGEN
SUMMARY:Englisch B1, Early morning Business Conversation (V84138710) 
LOCATION:Online vhs, Budapest (Alfaview), Online vhs
END:VEVENT
BEGIN:VEVENT
DTSTAMP:20260421T145807
DTSTART;TZID=Europe/Berlin:20260716T074500
DTEND;TZID=Europe/Berlin:20260716T083000
UID:V84138710-20260716T074500@VHSBÖBLINGEN-SINDELFINGEN
SUMMARY:Englisch B1, Early morning Business Conversation (V84138710) 
LOCATION:Online vhs, Budapest (Alfaview), Online vhs
END:VEVENT
BEGIN:VEVENT
DTSTAMP:20260421T145807
DTSTART;TZID=Europe/Berlin:20260723T074500
DTEND;TZID=Europe/Berlin:20260723T083000
UID:V84138710-20260723T074500@VHSBÖBLINGEN-SINDELFINGEN
SUMMARY:Englisch B1, Early morning Business Conversation (V84138710) 
LOCATION:Online vhs, Budapest (Alfaview), Online vhs
END:VEVENT
END:VCALENDAR