BEGIN:VCALENDAR
VERSION:2.0
PRODID:https://www.kufer.de/kuferweb / DE
METHOD:PUBLISH
CALSCALE:GREGORIAN
X-WR-TIMEZONE:Europe/Berlin
BEGIN:VTIMEZONE
TZID:Europe/Berlin
X-LIC-LOCATION:Europe/Berlin
BEGIN:DAYLIGHT
TZOFFSETFROM:+0100
TZOFFSETTO:+0200
TZNAME:CEST
DTSTART:19700329T020000
RRULE:FREQ=YEARLY;INTERVAL=1;BYDAY=-1SU;BYMONTH=3
END:DAYLIGHT
BEGIN:STANDARD
TZOFFSETFROM:+0200
TZOFFSETTO:+0100
TZNAME:CET
DTSTART:19701025T030000
RRULE:FREQ=YEARLY;INTERVAL=1;BYDAY=-1SU;BYMONTH=10
END:STANDARD
END:VTIMEZONE
BEGIN:VEVENT
DTSTAMP:20260420T175751
DTSTART;TZID=Europe/Berlin:20260226T074500
DTEND;TZID=Europe/Berlin:20260226T083000
UID:V84138610-20260226T074500@VHSBÖBLINGEN-SINDELFINGEN
SUMMARY:Englisch B1, Early morning Business Conversation (V84138610) 
LOCATION:Online vhs, Budapest (Alfaview), Online vhs
END:VEVENT
BEGIN:VEVENT
DTSTAMP:20260420T175751
DTSTART;TZID=Europe/Berlin:20260305T074500
DTEND;TZID=Europe/Berlin:20260305T083000
UID:V84138610-20260305T074500@VHSBÖBLINGEN-SINDELFINGEN
SUMMARY:Englisch B1, Early morning Business Conversation (V84138610) 
LOCATION:Online vhs, Budapest (Alfaview), Online vhs
END:VEVENT
BEGIN:VEVENT
DTSTAMP:20260420T175751
DTSTART;TZID=Europe/Berlin:20260312T074500
DTEND;TZID=Europe/Berlin:20260312T083000
UID:V84138610-20260312T074500@VHSBÖBLINGEN-SINDELFINGEN
SUMMARY:Englisch B1, Early morning Business Conversation (V84138610) 
LOCATION:Online vhs, Budapest (Alfaview), Online vhs
END:VEVENT
BEGIN:VEVENT
DTSTAMP:20260420T175751
DTSTART;TZID=Europe/Berlin:20260319T074500
DTEND;TZID=Europe/Berlin:20260319T083000
UID:V84138610-20260319T074500@VHSBÖBLINGEN-SINDELFINGEN
SUMMARY:Englisch B1, Early morning Business Conversation (V84138610) 
LOCATION:Online vhs, Budapest (Alfaview), Online vhs
END:VEVENT
BEGIN:VEVENT
DTSTAMP:20260420T175751
DTSTART;TZID=Europe/Berlin:20260326T074500
DTEND;TZID=Europe/Berlin:20260326T083000
UID:V84138610-20260326T074500@VHSBÖBLINGEN-SINDELFINGEN
SUMMARY:Englisch B1, Early morning Business Conversation (V84138610) 
LOCATION:Online vhs, Budapest (Alfaview), Online vhs
END:VEVENT
BEGIN:VEVENT
DTSTAMP:20260420T175751
DTSTART;TZID=Europe/Berlin:20260416T074500
DTEND;TZID=Europe/Berlin:20260416T083000
UID:V84138610-20260416T074500@VHSBÖBLINGEN-SINDELFINGEN
SUMMARY:Englisch B1, Early morning Business Conversation (V84138610) 
LOCATION:Online vhs, Budapest (Alfaview), Online vhs
END:VEVENT
BEGIN:VEVENT
DTSTAMP:20260420T175751
DTSTART;TZID=Europe/Berlin:20260423T074500
DTEND;TZID=Europe/Berlin:20260423T083000
UID:V84138610-20260423T074500@VHSBÖBLINGEN-SINDELFINGEN
SUMMARY:Englisch B1, Early morning Business Conversation (V84138610) 
LOCATION:Online vhs, Budapest (Alfaview), Online vhs
END:VEVENT
BEGIN:VEVENT
DTSTAMP:20260420T175751
DTSTART;TZID=Europe/Berlin:20260430T074500
DTEND;TZID=Europe/Berlin:20260430T083000
UID:V84138610-20260430T074500@VHSBÖBLINGEN-SINDELFINGEN
SUMMARY:Englisch B1, Early morning Business Conversation (V84138610) 
LOCATION:Online vhs, Budapest (Alfaview), Online vhs
END:VEVENT
BEGIN:VEVENT
DTSTAMP:20260420T175751
DTSTART;TZID=Europe/Berlin:20260507T074500
DTEND;TZID=Europe/Berlin:20260507T083000
UID:V84138610-20260507T074500@VHSBÖBLINGEN-SINDELFINGEN
SUMMARY:Englisch B1, Early morning Business Conversation (V84138610) 
LOCATION:Online vhs, Budapest (Alfaview), Online vhs
END:VEVENT
END:VCALENDAR