BEGIN:VCALENDAR
VERSION:2.0
PRODID:https://www.kufer.de/kuferweb / DE
METHOD:PUBLISH
CALSCALE:GREGORIAN
X-WR-TIMEZONE:Europe/Berlin
BEGIN:VTIMEZONE
TZID:Europe/Berlin
X-LIC-LOCATION:Europe/Berlin
BEGIN:DAYLIGHT
TZOFFSETFROM:+0100
TZOFFSETTO:+0200
TZNAME:CEST
DTSTART:19700329T020000
RRULE:FREQ=YEARLY;INTERVAL=1;BYDAY=-1SU;BYMONTH=3
END:DAYLIGHT
BEGIN:STANDARD
TZOFFSETFROM:+0200
TZOFFSETTO:+0100
TZNAME:CET
DTSTART:19701025T030000
RRULE:FREQ=YEARLY;INTERVAL=1;BYDAY=-1SU;BYMONTH=10
END:STANDARD
END:VTIMEZONE
BEGIN:VEVENT
DTSTAMP:20260420T194041
DTSTART;TZID=Europe/Berlin:20260512T190000
DTEND;TZID=Europe/Berlin:20260512T203000
UID:V84138110-20260512T190000@VHSBÖBLINGEN-SINDELFINGEN
SUMMARY:Englisch B1, Business-English ab Lektion 4 (V84138110) 
LOCATION:Online vhs, Manchester (Alfaview), Online vhs
END:VEVENT
BEGIN:VEVENT
DTSTAMP:20260420T194041
DTSTART;TZID=Europe/Berlin:20260519T190000
DTEND;TZID=Europe/Berlin:20260519T203000
UID:V84138110-20260519T190000@VHSBÖBLINGEN-SINDELFINGEN
SUMMARY:Englisch B1, Business-English ab Lektion 4 (V84138110) 
LOCATION:Online vhs, Manchester (Alfaview), Online vhs
END:VEVENT
BEGIN:VEVENT
DTSTAMP:20260420T194041
DTSTART;TZID=Europe/Berlin:20260609T190000
DTEND;TZID=Europe/Berlin:20260609T203000
UID:V84138110-20260609T190000@VHSBÖBLINGEN-SINDELFINGEN
SUMMARY:Englisch B1, Business-English ab Lektion 4 (V84138110) 
LOCATION:Online vhs, Manchester (Alfaview), Online vhs
END:VEVENT
BEGIN:VEVENT
DTSTAMP:20260420T194041
DTSTART;TZID=Europe/Berlin:20260616T190000
DTEND;TZID=Europe/Berlin:20260616T203000
UID:V84138110-20260616T190000@VHSBÖBLINGEN-SINDELFINGEN
SUMMARY:Englisch B1, Business-English ab Lektion 4 (V84138110) 
LOCATION:Online vhs, Manchester (Alfaview), Online vhs
END:VEVENT
BEGIN:VEVENT
DTSTAMP:20260420T194041
DTSTART;TZID=Europe/Berlin:20260623T190000
DTEND;TZID=Europe/Berlin:20260623T203000
UID:V84138110-20260623T190000@VHSBÖBLINGEN-SINDELFINGEN
SUMMARY:Englisch B1, Business-English ab Lektion 4 (V84138110) 
LOCATION:Online vhs, Manchester (Alfaview), Online vhs
END:VEVENT
BEGIN:VEVENT
DTSTAMP:20260420T194041
DTSTART;TZID=Europe/Berlin:20260630T190000
DTEND;TZID=Europe/Berlin:20260630T203000
UID:V84138110-20260630T190000@VHSBÖBLINGEN-SINDELFINGEN
SUMMARY:Englisch B1, Business-English ab Lektion 4 (V84138110) 
LOCATION:Online vhs, Manchester (Alfaview), Online vhs
END:VEVENT
BEGIN:VEVENT
DTSTAMP:20260420T194041
DTSTART;TZID=Europe/Berlin:20260707T190000
DTEND;TZID=Europe/Berlin:20260707T203000
UID:V84138110-20260707T190000@VHSBÖBLINGEN-SINDELFINGEN
SUMMARY:Englisch B1, Business-English ab Lektion 4 (V84138110) 
LOCATION:Online vhs, Manchester (Alfaview), Online vhs
END:VEVENT
BEGIN:VEVENT
DTSTAMP:20260420T194041
DTSTART;TZID=Europe/Berlin:20260714T190000
DTEND;TZID=Europe/Berlin:20260714T203000
UID:V84138110-20260714T190000@VHSBÖBLINGEN-SINDELFINGEN
SUMMARY:Englisch B1, Business-English ab Lektion 4 (V84138110) 
LOCATION:Online vhs, Manchester (Alfaview), Online vhs
END:VEVENT
END:VCALENDAR