BEGIN:VCALENDAR
VERSION:2.0
PRODID:https://www.kufer.de/kuferweb / DE
METHOD:PUBLISH
CALSCALE:GREGORIAN
X-WR-TIMEZONE:Europe/Berlin
BEGIN:VTIMEZONE
TZID:Europe/Berlin
X-LIC-LOCATION:Europe/Berlin
BEGIN:DAYLIGHT
TZOFFSETFROM:+0100
TZOFFSETTO:+0200
TZNAME:CEST
DTSTART:19700329T020000
RRULE:FREQ=YEARLY;INTERVAL=1;BYDAY=-1SU;BYMONTH=3
END:DAYLIGHT
BEGIN:STANDARD
TZOFFSETFROM:+0200
TZOFFSETTO:+0100
TZNAME:CET
DTSTART:19701025T030000
RRULE:FREQ=YEARLY;INTERVAL=1;BYDAY=-1SU;BYMONTH=10
END:STANDARD
END:VTIMEZONE
BEGIN:VEVENT
DTSTAMP:20260421T152141
DTSTART;TZID=Europe/Berlin:20260227T200000
DTEND;TZID=Europe/Berlin:20260227T210000
UID:V84133310-20260227T200000@VHSBÖBLINGEN-SINDELFINGEN
SUMMARY:Englisch B1, Conversation (V84133310) 
LOCATION:Online vhs, Stockholm (Alfaview), Online vhs
END:VEVENT
BEGIN:VEVENT
DTSTAMP:20260421T152141
DTSTART;TZID=Europe/Berlin:20260306T200000
DTEND;TZID=Europe/Berlin:20260306T210000
UID:V84133310-20260306T200000@VHSBÖBLINGEN-SINDELFINGEN
SUMMARY:Englisch B1, Conversation (V84133310) 
LOCATION:Online vhs, Stockholm (Alfaview), Online vhs
END:VEVENT
BEGIN:VEVENT
DTSTAMP:20260421T152141
DTSTART;TZID=Europe/Berlin:20260313T200000
DTEND;TZID=Europe/Berlin:20260313T210000
UID:V84133310-20260313T200000@VHSBÖBLINGEN-SINDELFINGEN
SUMMARY:Englisch B1, Conversation (V84133310) 
LOCATION:Online vhs, Stockholm (Alfaview), Online vhs
END:VEVENT
BEGIN:VEVENT
DTSTAMP:20260421T152141
DTSTART;TZID=Europe/Berlin:20260320T200000
DTEND;TZID=Europe/Berlin:20260320T210000
UID:V84133310-20260320T200000@VHSBÖBLINGEN-SINDELFINGEN
SUMMARY:Englisch B1, Conversation (V84133310) 
LOCATION:Online vhs, Stockholm (Alfaview), Online vhs
END:VEVENT
BEGIN:VEVENT
DTSTAMP:20260421T152141
DTSTART;TZID=Europe/Berlin:20260327T200000
DTEND;TZID=Europe/Berlin:20260327T210000
UID:V84133310-20260327T200000@VHSBÖBLINGEN-SINDELFINGEN
SUMMARY:Englisch B1, Conversation (V84133310) 
LOCATION:Online vhs, Stockholm (Alfaview), Online vhs
END:VEVENT
BEGIN:VEVENT
DTSTAMP:20260421T152141
DTSTART;TZID=Europe/Berlin:20260417T200000
DTEND;TZID=Europe/Berlin:20260417T210000
UID:V84133310-20260417T200000@VHSBÖBLINGEN-SINDELFINGEN
SUMMARY:Englisch B1, Conversation (V84133310) 
LOCATION:Online vhs, Stockholm (Alfaview), Online vhs
END:VEVENT
BEGIN:VEVENT
DTSTAMP:20260421T152141
DTSTART;TZID=Europe/Berlin:20260424T200000
DTEND;TZID=Europe/Berlin:20260424T210000
UID:V84133310-20260424T200000@VHSBÖBLINGEN-SINDELFINGEN
SUMMARY:Englisch B1, Conversation (V84133310) 
LOCATION:Online vhs, Stockholm (Alfaview), Online vhs
END:VEVENT
BEGIN:VEVENT
DTSTAMP:20260421T152141
DTSTART;TZID=Europe/Berlin:20260508T200000
DTEND;TZID=Europe/Berlin:20260508T210000
UID:V84133310-20260508T200000@VHSBÖBLINGEN-SINDELFINGEN
SUMMARY:Englisch B1, Conversation (V84133310) 
LOCATION:Online vhs, Stockholm (Alfaview), Online vhs
END:VEVENT
END:VCALENDAR