BEGIN:VCALENDAR
VERSION:2.0
PRODID:https://www.kufer.de/kuferweb / DE
METHOD:PUBLISH
CALSCALE:GREGORIAN
X-WR-TIMEZONE:Europe/Berlin
BEGIN:VTIMEZONE
TZID:Europe/Berlin
X-LIC-LOCATION:Europe/Berlin
BEGIN:DAYLIGHT
TZOFFSETFROM:+0100
TZOFFSETTO:+0200
TZNAME:CEST
DTSTART:19700329T020000
RRULE:FREQ=YEARLY;INTERVAL=1;BYDAY=-1SU;BYMONTH=3
END:DAYLIGHT
BEGIN:STANDARD
TZOFFSETFROM:+0200
TZOFFSETTO:+0100
TZNAME:CET
DTSTART:19701025T030000
RRULE:FREQ=YEARLY;INTERVAL=1;BYDAY=-1SU;BYMONTH=10
END:STANDARD
END:VTIMEZONE
BEGIN:VEVENT
DTSTAMP:20260422T014952
DTSTART;TZID=Europe/Berlin:20260612T180000
DTEND;TZID=Europe/Berlin:20260612T193000
UID:V84131910-20260612T180000@VHSBÖBLINGEN-SINDELFINGEN
SUMMARY:Englisch B1 ab Lektion 5 (V84131910) 
LOCATION:Online vhs, London (Alfaview), Online vhs
END:VEVENT
BEGIN:VEVENT
DTSTAMP:20260422T014952
DTSTART;TZID=Europe/Berlin:20260619T180000
DTEND;TZID=Europe/Berlin:20260619T193000
UID:V84131910-20260619T180000@VHSBÖBLINGEN-SINDELFINGEN
SUMMARY:Englisch B1 ab Lektion 5 (V84131910) 
LOCATION:Online vhs, London (Alfaview), Online vhs
END:VEVENT
BEGIN:VEVENT
DTSTAMP:20260422T014952
DTSTART;TZID=Europe/Berlin:20260626T180000
DTEND;TZID=Europe/Berlin:20260626T193000
UID:V84131910-20260626T180000@VHSBÖBLINGEN-SINDELFINGEN
SUMMARY:Englisch B1 ab Lektion 5 (V84131910) 
LOCATION:Online vhs, London (Alfaview), Online vhs
END:VEVENT
BEGIN:VEVENT
DTSTAMP:20260422T014952
DTSTART;TZID=Europe/Berlin:20260703T180000
DTEND;TZID=Europe/Berlin:20260703T193000
UID:V84131910-20260703T180000@VHSBÖBLINGEN-SINDELFINGEN
SUMMARY:Englisch B1 ab Lektion 5 (V84131910) 
LOCATION:Online vhs, London (Alfaview), Online vhs
END:VEVENT
BEGIN:VEVENT
DTSTAMP:20260422T014952
DTSTART;TZID=Europe/Berlin:20260710T180000
DTEND;TZID=Europe/Berlin:20260710T193000
UID:V84131910-20260710T180000@VHSBÖBLINGEN-SINDELFINGEN
SUMMARY:Englisch B1 ab Lektion 5 (V84131910) 
LOCATION:Online vhs, London (Alfaview), Online vhs
END:VEVENT
BEGIN:VEVENT
DTSTAMP:20260422T014952
DTSTART;TZID=Europe/Berlin:20260717T180000
DTEND;TZID=Europe/Berlin:20260717T193000
UID:V84131910-20260717T180000@VHSBÖBLINGEN-SINDELFINGEN
SUMMARY:Englisch B1 ab Lektion 5 (V84131910) 
LOCATION:Online vhs, London (Alfaview), Online vhs
END:VEVENT
BEGIN:VEVENT
DTSTAMP:20260422T014952
DTSTART;TZID=Europe/Berlin:20260724T180000
DTEND;TZID=Europe/Berlin:20260724T193000
UID:V84131910-20260724T180000@VHSBÖBLINGEN-SINDELFINGEN
SUMMARY:Englisch B1 ab Lektion 5 (V84131910) 
LOCATION:Online vhs, London (Alfaview), Online vhs
END:VEVENT
END:VCALENDAR