BEGIN:VCALENDAR
VERSION:2.0
PRODID:https://www.kufer.de/kuferweb / DE
METHOD:PUBLISH
CALSCALE:GREGORIAN
X-WR-TIMEZONE:Europe/Berlin
BEGIN:VTIMEZONE
TZID:Europe/Berlin
X-LIC-LOCATION:Europe/Berlin
BEGIN:DAYLIGHT
TZOFFSETFROM:+0100
TZOFFSETTO:+0200
TZNAME:CEST
DTSTART:19700329T020000
RRULE:FREQ=YEARLY;INTERVAL=1;BYDAY=-1SU;BYMONTH=3
END:DAYLIGHT
BEGIN:STANDARD
TZOFFSETFROM:+0200
TZOFFSETTO:+0100
TZNAME:CET
DTSTART:19701025T030000
RRULE:FREQ=YEARLY;INTERVAL=1;BYDAY=-1SU;BYMONTH=10
END:STANDARD
END:VTIMEZONE
BEGIN:VEVENT
DTSTAMP:20260420T194051
DTSTART;TZID=Europe/Berlin:20260416T200000
DTEND;TZID=Europe/Berlin:20260416T210000
UID:V84131510-20260416T200000@VHSBÖBLINGEN-SINDELFINGEN
SUMMARY:Englisch B1 ab Lektion 9B (V84131510) 
LOCATION:Online vhs, Monaco (Alfaview), Online vhs
END:VEVENT
BEGIN:VEVENT
DTSTAMP:20260420T194051
DTSTART;TZID=Europe/Berlin:20260423T200000
DTEND;TZID=Europe/Berlin:20260423T210000
UID:V84131510-20260423T200000@VHSBÖBLINGEN-SINDELFINGEN
SUMMARY:Englisch B1 ab Lektion 9B (V84131510) 
LOCATION:Online vhs, Monaco (Alfaview), Online vhs
END:VEVENT
BEGIN:VEVENT
DTSTAMP:20260420T194051
DTSTART;TZID=Europe/Berlin:20260507T200000
DTEND;TZID=Europe/Berlin:20260507T210000
UID:V84131510-20260507T200000@VHSBÖBLINGEN-SINDELFINGEN
SUMMARY:Englisch B1 ab Lektion 9B (V84131510) 
LOCATION:Online vhs, Monaco (Alfaview), Online vhs
END:VEVENT
BEGIN:VEVENT
DTSTAMP:20260420T194051
DTSTART;TZID=Europe/Berlin:20260521T200000
DTEND;TZID=Europe/Berlin:20260521T210000
UID:V84131510-20260521T200000@VHSBÖBLINGEN-SINDELFINGEN
SUMMARY:Englisch B1 ab Lektion 9B (V84131510) 
LOCATION:Online vhs, Monaco (Alfaview), Online vhs
END:VEVENT
BEGIN:VEVENT
DTSTAMP:20260420T194051
DTSTART;TZID=Europe/Berlin:20260611T200000
DTEND;TZID=Europe/Berlin:20260611T210000
UID:V84131510-20260611T200000@VHSBÖBLINGEN-SINDELFINGEN
SUMMARY:Englisch B1 ab Lektion 9B (V84131510) 
LOCATION:Online vhs, Monaco (Alfaview), Online vhs
END:VEVENT
BEGIN:VEVENT
DTSTAMP:20260420T194051
DTSTART;TZID=Europe/Berlin:20260618T200000
DTEND;TZID=Europe/Berlin:20260618T210000
UID:V84131510-20260618T200000@VHSBÖBLINGEN-SINDELFINGEN
SUMMARY:Englisch B1 ab Lektion 9B (V84131510) 
LOCATION:Online vhs, Monaco (Alfaview), Online vhs
END:VEVENT
BEGIN:VEVENT
DTSTAMP:20260420T194051
DTSTART;TZID=Europe/Berlin:20260625T200000
DTEND;TZID=Europe/Berlin:20260625T210000
UID:V84131510-20260625T200000@VHSBÖBLINGEN-SINDELFINGEN
SUMMARY:Englisch B1 ab Lektion 9B (V84131510) 
LOCATION:Online vhs, Monaco (Alfaview), Online vhs
END:VEVENT
END:VCALENDAR