BEGIN:VCALENDAR
VERSION:2.0
PRODID:https://www.kufer.de/kuferweb / DE
METHOD:PUBLISH
CALSCALE:GREGORIAN
X-WR-TIMEZONE:Europe/Berlin
BEGIN:VTIMEZONE
TZID:Europe/Berlin
X-LIC-LOCATION:Europe/Berlin
BEGIN:DAYLIGHT
TZOFFSETFROM:+0100
TZOFFSETTO:+0200
TZNAME:CEST
DTSTART:19700329T020000
RRULE:FREQ=YEARLY;INTERVAL=1;BYDAY=-1SU;BYMONTH=3
END:DAYLIGHT
BEGIN:STANDARD
TZOFFSETFROM:+0200
TZOFFSETTO:+0100
TZNAME:CET
DTSTART:19701025T030000
RRULE:FREQ=YEARLY;INTERVAL=1;BYDAY=-1SU;BYMONTH=10
END:STANDARD
END:VTIMEZONE
BEGIN:VEVENT
DTSTAMP:20260420T175907
DTSTART;TZID=Europe/Berlin:20260227T090000
DTEND;TZID=Europe/Berlin:20260227T103000
UID:V84131210-20260227T090000@VHSBÖBLINGEN-SINDELFINGEN
SUMMARY:Englisch B1 ab Lektion 7 (V84131210) 
LOCATION:Online vhs, Budapest (Alfaview), Online vhs
END:VEVENT
BEGIN:VEVENT
DTSTAMP:20260420T175907
DTSTART;TZID=Europe/Berlin:20260306T090000
DTEND;TZID=Europe/Berlin:20260306T103000
UID:V84131210-20260306T090000@VHSBÖBLINGEN-SINDELFINGEN
SUMMARY:Englisch B1 ab Lektion 7 (V84131210) 
LOCATION:Online vhs, Budapest (Alfaview), Online vhs
END:VEVENT
BEGIN:VEVENT
DTSTAMP:20260420T175907
DTSTART;TZID=Europe/Berlin:20260313T090000
DTEND;TZID=Europe/Berlin:20260313T103000
UID:V84131210-20260313T090000@VHSBÖBLINGEN-SINDELFINGEN
SUMMARY:Englisch B1 ab Lektion 7 (V84131210) 
LOCATION:Online vhs, Budapest (Alfaview), Online vhs
END:VEVENT
BEGIN:VEVENT
DTSTAMP:20260420T175907
DTSTART;TZID=Europe/Berlin:20260320T090000
DTEND;TZID=Europe/Berlin:20260320T103000
UID:V84131210-20260320T090000@VHSBÖBLINGEN-SINDELFINGEN
SUMMARY:Englisch B1 ab Lektion 7 (V84131210) 
LOCATION:Online vhs, Budapest (Alfaview), Online vhs
END:VEVENT
BEGIN:VEVENT
DTSTAMP:20260420T175907
DTSTART;TZID=Europe/Berlin:20260327T090000
DTEND;TZID=Europe/Berlin:20260327T103000
UID:V84131210-20260327T090000@VHSBÖBLINGEN-SINDELFINGEN
SUMMARY:Englisch B1 ab Lektion 7 (V84131210) 
LOCATION:Online vhs, Budapest (Alfaview), Online vhs
END:VEVENT
BEGIN:VEVENT
DTSTAMP:20260420T175907
DTSTART;TZID=Europe/Berlin:20260417T090000
DTEND;TZID=Europe/Berlin:20260417T103000
UID:V84131210-20260417T090000@VHSBÖBLINGEN-SINDELFINGEN
SUMMARY:Englisch B1 ab Lektion 7 (V84131210) 
LOCATION:Online vhs, Budapest (Alfaview), Online vhs
END:VEVENT
BEGIN:VEVENT
DTSTAMP:20260420T175907
DTSTART;TZID=Europe/Berlin:20260424T090000
DTEND;TZID=Europe/Berlin:20260424T103000
UID:V84131210-20260424T090000@VHSBÖBLINGEN-SINDELFINGEN
SUMMARY:Englisch B1 ab Lektion 7 (V84131210) 
LOCATION:Online vhs, Budapest (Alfaview), Online vhs
END:VEVENT
BEGIN:VEVENT
DTSTAMP:20260420T175907
DTSTART;TZID=Europe/Berlin:20260508T090000
DTEND;TZID=Europe/Berlin:20260508T103000
UID:V84131210-20260508T090000@VHSBÖBLINGEN-SINDELFINGEN
SUMMARY:Englisch B1 ab Lektion 7 (V84131210) 
LOCATION:Online vhs, Budapest (Alfaview), Online vhs
END:VEVENT
END:VCALENDAR