BEGIN:VCALENDAR
VERSION:2.0
PRODID:https://www.kufer.de/kuferweb / DE
METHOD:PUBLISH
CALSCALE:GREGORIAN
X-WR-TIMEZONE:Europe/Berlin
BEGIN:VTIMEZONE
TZID:Europe/Berlin
X-LIC-LOCATION:Europe/Berlin
BEGIN:DAYLIGHT
TZOFFSETFROM:+0100
TZOFFSETTO:+0200
TZNAME:CEST
DTSTART:19700329T020000
RRULE:FREQ=YEARLY;INTERVAL=1;BYDAY=-1SU;BYMONTH=3
END:DAYLIGHT
BEGIN:STANDARD
TZOFFSETFROM:+0200
TZOFFSETTO:+0100
TZNAME:CET
DTSTART:19701025T030000
RRULE:FREQ=YEARLY;INTERVAL=1;BYDAY=-1SU;BYMONTH=10
END:STANDARD
END:VTIMEZONE
BEGIN:VEVENT
DTSTAMP:20260420T194021
DTSTART;TZID=Europe/Berlin:20260513T101500
DTEND;TZID=Europe/Berlin:20260513T111500
UID:V84131110-20260513T101500@VHSBÖBLINGEN-SINDELFINGEN
SUMMARY:Englisch B1 ab Lektion 7 (V84131110) 
LOCATION:Online vhs, Budapest (Alfaview), Online vhs
END:VEVENT
BEGIN:VEVENT
DTSTAMP:20260420T194021
DTSTART;TZID=Europe/Berlin:20260520T101500
DTEND;TZID=Europe/Berlin:20260520T111500
UID:V84131110-20260520T101500@VHSBÖBLINGEN-SINDELFINGEN
SUMMARY:Englisch B1 ab Lektion 7 (V84131110) 
LOCATION:Online vhs, Budapest (Alfaview), Online vhs
END:VEVENT
BEGIN:VEVENT
DTSTAMP:20260420T194021
DTSTART;TZID=Europe/Berlin:20260610T101500
DTEND;TZID=Europe/Berlin:20260610T111500
UID:V84131110-20260610T101500@VHSBÖBLINGEN-SINDELFINGEN
SUMMARY:Englisch B1 ab Lektion 7 (V84131110) 
LOCATION:Online vhs, Budapest (Alfaview), Online vhs
END:VEVENT
BEGIN:VEVENT
DTSTAMP:20260420T194021
DTSTART;TZID=Europe/Berlin:20260617T101500
DTEND;TZID=Europe/Berlin:20260617T111500
UID:V84131110-20260617T101500@VHSBÖBLINGEN-SINDELFINGEN
SUMMARY:Englisch B1 ab Lektion 7 (V84131110) 
LOCATION:Online vhs, Budapest (Alfaview), Online vhs
END:VEVENT
BEGIN:VEVENT
DTSTAMP:20260420T194021
DTSTART;TZID=Europe/Berlin:20260624T101500
DTEND;TZID=Europe/Berlin:20260624T111500
UID:V84131110-20260624T101500@VHSBÖBLINGEN-SINDELFINGEN
SUMMARY:Englisch B1 ab Lektion 7 (V84131110) 
LOCATION:Online vhs, Budapest (Alfaview), Online vhs
END:VEVENT
BEGIN:VEVENT
DTSTAMP:20260420T194021
DTSTART;TZID=Europe/Berlin:20260701T101500
DTEND;TZID=Europe/Berlin:20260701T111500
UID:V84131110-20260701T101500@VHSBÖBLINGEN-SINDELFINGEN
SUMMARY:Englisch B1 ab Lektion 7 (V84131110) 
LOCATION:Online vhs, Budapest (Alfaview), Online vhs
END:VEVENT
BEGIN:VEVENT
DTSTAMP:20260420T194021
DTSTART;TZID=Europe/Berlin:20260708T101500
DTEND;TZID=Europe/Berlin:20260708T111500
UID:V84131110-20260708T101500@VHSBÖBLINGEN-SINDELFINGEN
SUMMARY:Englisch B1 ab Lektion 7 (V84131110) 
LOCATION:Online vhs, Budapest (Alfaview), Online vhs
END:VEVENT
BEGIN:VEVENT
DTSTAMP:20260420T194021
DTSTART;TZID=Europe/Berlin:20260715T101500
DTEND;TZID=Europe/Berlin:20260715T111500
UID:V84131110-20260715T101500@VHSBÖBLINGEN-SINDELFINGEN
SUMMARY:Englisch B1 ab Lektion 7 (V84131110) 
LOCATION:Online vhs, Budapest (Alfaview), Online vhs
END:VEVENT
BEGIN:VEVENT
DTSTAMP:20260420T194021
DTSTART;TZID=Europe/Berlin:20260722T101500
DTEND;TZID=Europe/Berlin:20260722T111500
UID:V84131110-20260722T101500@VHSBÖBLINGEN-SINDELFINGEN
SUMMARY:Englisch B1 ab Lektion 7 (V84131110) 
LOCATION:Online vhs, Budapest (Alfaview), Online vhs
END:VEVENT
END:VCALENDAR