BEGIN:VCALENDAR
VERSION:2.0
PRODID:https://www.kufer.de/kuferweb / DE
METHOD:PUBLISH
CALSCALE:GREGORIAN
X-WR-TIMEZONE:Europe/Berlin
BEGIN:VTIMEZONE
TZID:Europe/Berlin
X-LIC-LOCATION:Europe/Berlin
BEGIN:DAYLIGHT
TZOFFSETFROM:+0100
TZOFFSETTO:+0200
TZNAME:CEST
DTSTART:19700329T020000
RRULE:FREQ=YEARLY;INTERVAL=1;BYDAY=-1SU;BYMONTH=3
END:DAYLIGHT
BEGIN:STANDARD
TZOFFSETFROM:+0200
TZOFFSETTO:+0100
TZNAME:CET
DTSTART:19701025T030000
RRULE:FREQ=YEARLY;INTERVAL=1;BYDAY=-1SU;BYMONTH=10
END:STANDARD
END:VTIMEZONE
BEGIN:VEVENT
DTSTAMP:20260421T084005
DTSTART;TZID=Europe/Berlin:20260521T193000
DTEND;TZID=Europe/Berlin:20260521T203000
UID:V84120410-20260521T193000@VHSBÖBLINGEN-SINDELFINGEN
SUMMARY:Englisch A2 ab Lektion 3 (V84120410) 
LOCATION:Online vhs, Rotterdam (Alfaview), Online vhs
END:VEVENT
BEGIN:VEVENT
DTSTAMP:20260421T084005
DTSTART;TZID=Europe/Berlin:20260611T193000
DTEND;TZID=Europe/Berlin:20260611T203000
UID:V84120410-20260611T193000@VHSBÖBLINGEN-SINDELFINGEN
SUMMARY:Englisch A2 ab Lektion 3 (V84120410) 
LOCATION:Online vhs, Rotterdam (Alfaview), Online vhs
END:VEVENT
BEGIN:VEVENT
DTSTAMP:20260421T084005
DTSTART;TZID=Europe/Berlin:20260618T193000
DTEND;TZID=Europe/Berlin:20260618T203000
UID:V84120410-20260618T193000@VHSBÖBLINGEN-SINDELFINGEN
SUMMARY:Englisch A2 ab Lektion 3 (V84120410) 
LOCATION:Online vhs, Rotterdam (Alfaview), Online vhs
END:VEVENT
BEGIN:VEVENT
DTSTAMP:20260421T084005
DTSTART;TZID=Europe/Berlin:20260702T193000
DTEND;TZID=Europe/Berlin:20260702T203000
UID:V84120410-20260702T193000@VHSBÖBLINGEN-SINDELFINGEN
SUMMARY:Englisch A2 ab Lektion 3 (V84120410) 
LOCATION:Online vhs, Rotterdam (Alfaview), Online vhs
END:VEVENT
BEGIN:VEVENT
DTSTAMP:20260421T084005
DTSTART;TZID=Europe/Berlin:20260709T193000
DTEND;TZID=Europe/Berlin:20260709T203000
UID:V84120410-20260709T193000@VHSBÖBLINGEN-SINDELFINGEN
SUMMARY:Englisch A2 ab Lektion 3 (V84120410) 
LOCATION:Online vhs, Rotterdam (Alfaview), Online vhs
END:VEVENT
BEGIN:VEVENT
DTSTAMP:20260421T084005
DTSTART;TZID=Europe/Berlin:20260716T193000
DTEND;TZID=Europe/Berlin:20260716T203000
UID:V84120410-20260716T193000@VHSBÖBLINGEN-SINDELFINGEN
SUMMARY:Englisch A2 ab Lektion 3 (V84120410) 
LOCATION:Online vhs, Rotterdam (Alfaview), Online vhs
END:VEVENT
BEGIN:VEVENT
DTSTAMP:20260421T084005
DTSTART;TZID=Europe/Berlin:20260723T193000
DTEND;TZID=Europe/Berlin:20260723T203000
UID:V84120410-20260723T193000@VHSBÖBLINGEN-SINDELFINGEN
SUMMARY:Englisch A2 ab Lektion 3 (V84120410) 
LOCATION:Online vhs, Rotterdam (Alfaview), Online vhs
END:VEVENT
END:VCALENDAR