BEGIN:VCALENDAR
VERSION:2.0
PRODID:https://www.kufer.de/kuferweb / DE
METHOD:PUBLISH
CALSCALE:GREGORIAN
X-WR-TIMEZONE:Europe/Berlin
BEGIN:VTIMEZONE
TZID:Europe/Berlin
X-LIC-LOCATION:Europe/Berlin
BEGIN:DAYLIGHT
TZOFFSETFROM:+0100
TZOFFSETTO:+0200
TZNAME:CEST
DTSTART:19700329T020000
RRULE:FREQ=YEARLY;INTERVAL=1;BYDAY=-1SU;BYMONTH=3
END:DAYLIGHT
BEGIN:STANDARD
TZOFFSETFROM:+0200
TZOFFSETTO:+0100
TZNAME:CET
DTSTART:19701025T030000
RRULE:FREQ=YEARLY;INTERVAL=1;BYDAY=-1SU;BYMONTH=10
END:STANDARD
END:VTIMEZONE
BEGIN:VEVENT
DTSTAMP:20260421T003532
DTSTART;TZID=Europe/Berlin:20260518T191500
DTEND;TZID=Europe/Berlin:20260518T203000
UID:V84120110-20260518T191500@VHSBÖBLINGEN-SINDELFINGEN
SUMMARY:Englisch A2 ab Lektion 6 (V84120110) 
LOCATION:Online vhs, Kopenhagen (Alfaview), Online vhs
END:VEVENT
BEGIN:VEVENT
DTSTAMP:20260421T003532
DTSTART;TZID=Europe/Berlin:20260608T191500
DTEND;TZID=Europe/Berlin:20260608T203000
UID:V84120110-20260608T191500@VHSBÖBLINGEN-SINDELFINGEN
SUMMARY:Englisch A2 ab Lektion 6 (V84120110) 
LOCATION:Online vhs, Kopenhagen (Alfaview), Online vhs
END:VEVENT
BEGIN:VEVENT
DTSTAMP:20260421T003532
DTSTART;TZID=Europe/Berlin:20260615T191500
DTEND;TZID=Europe/Berlin:20260615T203000
UID:V84120110-20260615T191500@VHSBÖBLINGEN-SINDELFINGEN
SUMMARY:Englisch A2 ab Lektion 6 (V84120110) 
LOCATION:Online vhs, Kopenhagen (Alfaview), Online vhs
END:VEVENT
BEGIN:VEVENT
DTSTAMP:20260421T003532
DTSTART;TZID=Europe/Berlin:20260629T191500
DTEND;TZID=Europe/Berlin:20260629T203000
UID:V84120110-20260629T191500@VHSBÖBLINGEN-SINDELFINGEN
SUMMARY:Englisch A2 ab Lektion 6 (V84120110) 
LOCATION:Online vhs, Kopenhagen (Alfaview), Online vhs
END:VEVENT
BEGIN:VEVENT
DTSTAMP:20260421T003532
DTSTART;TZID=Europe/Berlin:20260706T191500
DTEND;TZID=Europe/Berlin:20260706T203000
UID:V84120110-20260706T191500@VHSBÖBLINGEN-SINDELFINGEN
SUMMARY:Englisch A2 ab Lektion 6 (V84120110) 
LOCATION:Online vhs, Kopenhagen (Alfaview), Online vhs
END:VEVENT
BEGIN:VEVENT
DTSTAMP:20260421T003532
DTSTART;TZID=Europe/Berlin:20260713T191500
DTEND;TZID=Europe/Berlin:20260713T203000
UID:V84120110-20260713T191500@VHSBÖBLINGEN-SINDELFINGEN
SUMMARY:Englisch A2 ab Lektion 6 (V84120110) 
LOCATION:Online vhs, Kopenhagen (Alfaview), Online vhs
END:VEVENT
BEGIN:VEVENT
DTSTAMP:20260421T003532
DTSTART;TZID=Europe/Berlin:20260720T191500
DTEND;TZID=Europe/Berlin:20260720T203000
UID:V84120110-20260720T191500@VHSBÖBLINGEN-SINDELFINGEN
SUMMARY:Englisch A2 ab Lektion 6 (V84120110) 
LOCATION:Online vhs, Kopenhagen (Alfaview), Online vhs
END:VEVENT
END:VCALENDAR