BEGIN:VCALENDAR
VERSION:2.0
PRODID:https://www.kufer.de/kuferweb / DE
METHOD:PUBLISH
CALSCALE:GREGORIAN
X-WR-TIMEZONE:Europe/Berlin
BEGIN:VTIMEZONE
TZID:Europe/Berlin
X-LIC-LOCATION:Europe/Berlin
BEGIN:DAYLIGHT
TZOFFSETFROM:+0100
TZOFFSETTO:+0200
TZNAME:CEST
DTSTART:19700329T020000
RRULE:FREQ=YEARLY;INTERVAL=1;BYDAY=-1SU;BYMONTH=3
END:DAYLIGHT
BEGIN:STANDARD
TZOFFSETFROM:+0200
TZOFFSETTO:+0100
TZNAME:CET
DTSTART:19701025T030000
RRULE:FREQ=YEARLY;INTERVAL=1;BYDAY=-1SU;BYMONTH=10
END:STANDARD
END:VTIMEZONE
BEGIN:VEVENT
DTSTAMP:20260421T101317
DTSTART;TZID=Europe/Berlin:20260302T191500
DTEND;TZID=Europe/Berlin:20260302T203000
UID:V84120010-20260302T191500@VHSBÖBLINGEN-SINDELFINGEN
SUMMARY:Englisch A2 ab Lektion 4 (V84120010) 
LOCATION:Online vhs, Kopenhagen (Alfaview), Online vhs
END:VEVENT
BEGIN:VEVENT
DTSTAMP:20260421T101317
DTSTART;TZID=Europe/Berlin:20260309T191500
DTEND;TZID=Europe/Berlin:20260309T203000
UID:V84120010-20260309T191500@VHSBÖBLINGEN-SINDELFINGEN
SUMMARY:Englisch A2 ab Lektion 4 (V84120010) 
LOCATION:Online vhs, Kopenhagen (Alfaview), Online vhs
END:VEVENT
BEGIN:VEVENT
DTSTAMP:20260421T101317
DTSTART;TZID=Europe/Berlin:20260316T191500
DTEND;TZID=Europe/Berlin:20260316T203000
UID:V84120010-20260316T191500@VHSBÖBLINGEN-SINDELFINGEN
SUMMARY:Englisch A2 ab Lektion 4 (V84120010) 
LOCATION:Online vhs, Kopenhagen (Alfaview), Online vhs
END:VEVENT
BEGIN:VEVENT
DTSTAMP:20260421T101317
DTSTART;TZID=Europe/Berlin:20260323T191500
DTEND;TZID=Europe/Berlin:20260323T203000
UID:V84120010-20260323T191500@VHSBÖBLINGEN-SINDELFINGEN
SUMMARY:Englisch A2 ab Lektion 4 (V84120010) 
LOCATION:Online vhs, Kopenhagen (Alfaview), Online vhs
END:VEVENT
BEGIN:VEVENT
DTSTAMP:20260421T101317
DTSTART;TZID=Europe/Berlin:20260413T191500
DTEND;TZID=Europe/Berlin:20260413T203000
UID:V84120010-20260413T191500@VHSBÖBLINGEN-SINDELFINGEN
SUMMARY:Englisch A2 ab Lektion 4 (V84120010) 
LOCATION:Online vhs, Kopenhagen (Alfaview), Online vhs
END:VEVENT
BEGIN:VEVENT
DTSTAMP:20260421T101317
DTSTART;TZID=Europe/Berlin:20260420T191500
DTEND;TZID=Europe/Berlin:20260420T203000
UID:V84120010-20260420T191500@VHSBÖBLINGEN-SINDELFINGEN
SUMMARY:Englisch A2 ab Lektion 4 (V84120010) 
LOCATION:Online vhs, Kopenhagen (Alfaview), Online vhs
END:VEVENT
BEGIN:VEVENT
DTSTAMP:20260421T101317
DTSTART;TZID=Europe/Berlin:20260427T191500
DTEND;TZID=Europe/Berlin:20260427T203000
UID:V84120010-20260427T191500@VHSBÖBLINGEN-SINDELFINGEN
SUMMARY:Englisch A2 ab Lektion 4 (V84120010) 
LOCATION:Online vhs, Kopenhagen (Alfaview), Online vhs
END:VEVENT
BEGIN:VEVENT
DTSTAMP:20260421T101317
DTSTART;TZID=Europe/Berlin:20260504T191500
DTEND;TZID=Europe/Berlin:20260504T203000
UID:V84120010-20260504T191500@VHSBÖBLINGEN-SINDELFINGEN
SUMMARY:Englisch A2 ab Lektion 4 (V84120010) 
LOCATION:Online vhs, Kopenhagen (Alfaview), Online vhs
END:VEVENT
END:VCALENDAR