BEGIN:VCALENDAR
VERSION:2.0
PRODID:https://www.kufer.de/kuferweb / DE
METHOD:PUBLISH
CALSCALE:GREGORIAN
X-WR-TIMEZONE:Europe/Berlin
BEGIN:VTIMEZONE
TZID:Europe/Berlin
X-LIC-LOCATION:Europe/Berlin
BEGIN:DAYLIGHT
TZOFFSETFROM:+0100
TZOFFSETTO:+0200
TZNAME:CEST
DTSTART:19700329T020000
RRULE:FREQ=YEARLY;INTERVAL=1;BYDAY=-1SU;BYMONTH=3
END:DAYLIGHT
BEGIN:STANDARD
TZOFFSETFROM:+0200
TZOFFSETTO:+0100
TZNAME:CET
DTSTART:19701025T030000
RRULE:FREQ=YEARLY;INTERVAL=1;BYDAY=-1SU;BYMONTH=10
END:STANDARD
END:VTIMEZONE
BEGIN:VEVENT
DTSTAMP:20260421T063537
DTSTART;TZID=Europe/Berlin:20260604T080000
DTEND;TZID=Europe/Berlin:20260604T084500
UID:V83082310-20260604T080000@VHSBÖBLINGEN-SINDELFINGEN
SUMMARY:Gesunde Beweglichkeit für Schulter und Hüfte – Mobilisation und Dehnung (V83082310) 
LOCATION:Online vhs, edudip, Online vhs
END:VEVENT
BEGIN:VEVENT
DTSTAMP:20260421T063537
DTSTART;TZID=Europe/Berlin:20260611T080000
DTEND;TZID=Europe/Berlin:20260611T084500
UID:V83082310-20260611T080000@VHSBÖBLINGEN-SINDELFINGEN
SUMMARY:Gesunde Beweglichkeit für Schulter und Hüfte – Mobilisation und Dehnung (V83082310) 
LOCATION:Online vhs, edudip, Online vhs
END:VEVENT
BEGIN:VEVENT
DTSTAMP:20260421T063537
DTSTART;TZID=Europe/Berlin:20260618T080000
DTEND;TZID=Europe/Berlin:20260618T084500
UID:V83082310-20260618T080000@VHSBÖBLINGEN-SINDELFINGEN
SUMMARY:Gesunde Beweglichkeit für Schulter und Hüfte – Mobilisation und Dehnung (V83082310) 
LOCATION:Online vhs, edudip, Online vhs
END:VEVENT
BEGIN:VEVENT
DTSTAMP:20260421T063537
DTSTART;TZID=Europe/Berlin:20260625T080000
DTEND;TZID=Europe/Berlin:20260625T084500
UID:V83082310-20260625T080000@VHSBÖBLINGEN-SINDELFINGEN
SUMMARY:Gesunde Beweglichkeit für Schulter und Hüfte – Mobilisation und Dehnung (V83082310) 
LOCATION:Online vhs, edudip, Online vhs
END:VEVENT
END:VCALENDAR