BEGIN:VCALENDAR
VERSION:2.0
PRODID:https://www.kufer.de/kuferweb / DE
METHOD:PUBLISH
CALSCALE:GREGORIAN
X-WR-TIMEZONE:Europe/Berlin
BEGIN:VTIMEZONE
TZID:Europe/Berlin
X-LIC-LOCATION:Europe/Berlin
BEGIN:DAYLIGHT
TZOFFSETFROM:+0100
TZOFFSETTO:+0200
TZNAME:CEST
DTSTART:19700329T020000
RRULE:FREQ=YEARLY;INTERVAL=1;BYDAY=-1SU;BYMONTH=3
END:DAYLIGHT
BEGIN:STANDARD
TZOFFSETFROM:+0200
TZOFFSETTO:+0100
TZNAME:CET
DTSTART:19701025T030000
RRULE:FREQ=YEARLY;INTERVAL=1;BYDAY=-1SU;BYMONTH=10
END:STANDARD
END:VTIMEZONE
BEGIN:VEVENT
DTSTAMP:20260421T150655
DTSTART;TZID=Europe/Berlin:20260602T080000
DTEND;TZID=Europe/Berlin:20260602T084500
UID:V83081210-20260602T080000@VHSBÖBLINGEN-SINDELFINGEN
SUMMARY:Rücken@Fit am Morgen (V83081210) 
LOCATION:Online vhs
END:VEVENT
BEGIN:VEVENT
DTSTAMP:20260421T150655
DTSTART;TZID=Europe/Berlin:20260609T080000
DTEND;TZID=Europe/Berlin:20260609T084500
UID:V83081210-20260609T080000@VHSBÖBLINGEN-SINDELFINGEN
SUMMARY:Rücken@Fit am Morgen (V83081210) 
LOCATION:Online vhs
END:VEVENT
BEGIN:VEVENT
DTSTAMP:20260421T150655
DTSTART;TZID=Europe/Berlin:20260616T080000
DTEND;TZID=Europe/Berlin:20260616T084500
UID:V83081210-20260616T080000@VHSBÖBLINGEN-SINDELFINGEN
SUMMARY:Rücken@Fit am Morgen (V83081210) 
LOCATION:Online vhs
END:VEVENT
BEGIN:VEVENT
DTSTAMP:20260421T150655
DTSTART;TZID=Europe/Berlin:20260623T080000
DTEND;TZID=Europe/Berlin:20260623T084500
UID:V83081210-20260623T080000@VHSBÖBLINGEN-SINDELFINGEN
SUMMARY:Rücken@Fit am Morgen (V83081210) 
LOCATION:Online vhs
END:VEVENT
BEGIN:VEVENT
DTSTAMP:20260421T150655
DTSTART;TZID=Europe/Berlin:20260630T080000
DTEND;TZID=Europe/Berlin:20260630T084500
UID:V83081210-20260630T080000@VHSBÖBLINGEN-SINDELFINGEN
SUMMARY:Rücken@Fit am Morgen (V83081210) 
LOCATION:Online vhs
END:VEVENT
END:VCALENDAR