BEGIN:VCALENDAR
VERSION:2.0
PRODID:https://www.kufer.de/kuferweb / DE
METHOD:PUBLISH
CALSCALE:GREGORIAN
X-WR-TIMEZONE:Europe/Berlin
BEGIN:VTIMEZONE
TZID:Europe/Berlin
X-LIC-LOCATION:Europe/Berlin
BEGIN:DAYLIGHT
TZOFFSETFROM:+0100
TZOFFSETTO:+0200
TZNAME:CEST
DTSTART:19700329T020000
RRULE:FREQ=YEARLY;INTERVAL=1;BYDAY=-1SU;BYMONTH=3
END:DAYLIGHT
BEGIN:STANDARD
TZOFFSETFROM:+0200
TZOFFSETTO:+0100
TZNAME:CET
DTSTART:19701025T030000
RRULE:FREQ=YEARLY;INTERVAL=1;BYDAY=-1SU;BYMONTH=10
END:STANDARD
END:VTIMEZONE
BEGIN:VEVENT
DTSTAMP:20260421T183615
DTSTART;TZID=Europe/Berlin:20260504T071500
DTEND;TZID=Europe/Berlin:20260504T074500
UID:V83075210-20260504T071500@VHSBÖBLINGEN-SINDELFINGEN
SUMMARY:vhs.Motions: Fit in den Tag (V83075210) 
LOCATION:Online vhs, edudip, Online vhs
END:VEVENT
BEGIN:VEVENT
DTSTAMP:20260421T183615
DTSTART;TZID=Europe/Berlin:20260507T071500
DTEND;TZID=Europe/Berlin:20260507T074500
UID:V83075210-20260507T071500@VHSBÖBLINGEN-SINDELFINGEN
SUMMARY:vhs.Motions: Fit in den Tag (V83075210) 
LOCATION:Online vhs, edudip, Online vhs
END:VEVENT
BEGIN:VEVENT
DTSTAMP:20260421T183615
DTSTART;TZID=Europe/Berlin:20260511T071500
DTEND;TZID=Europe/Berlin:20260511T074500
UID:V83075210-20260511T071500@VHSBÖBLINGEN-SINDELFINGEN
SUMMARY:vhs.Motions: Fit in den Tag (V83075210) 
LOCATION:Online vhs, edudip, Online vhs
END:VEVENT
BEGIN:VEVENT
DTSTAMP:20260421T183615
DTSTART;TZID=Europe/Berlin:20260518T071500
DTEND;TZID=Europe/Berlin:20260518T074500
UID:V83075210-20260518T071500@VHSBÖBLINGEN-SINDELFINGEN
SUMMARY:vhs.Motions: Fit in den Tag (V83075210) 
LOCATION:Online vhs, edudip, Online vhs
END:VEVENT
BEGIN:VEVENT
DTSTAMP:20260421T183615
DTSTART;TZID=Europe/Berlin:20260521T071500
DTEND;TZID=Europe/Berlin:20260521T074500
UID:V83075210-20260521T071500@VHSBÖBLINGEN-SINDELFINGEN
SUMMARY:vhs.Motions: Fit in den Tag (V83075210) 
LOCATION:Online vhs, edudip, Online vhs
END:VEVENT
BEGIN:VEVENT
DTSTAMP:20260421T183615
DTSTART;TZID=Europe/Berlin:20260528T071500
DTEND;TZID=Europe/Berlin:20260528T074500
UID:V83075210-20260528T071500@VHSBÖBLINGEN-SINDELFINGEN
SUMMARY:vhs.Motions: Fit in den Tag (V83075210) 
LOCATION:Online vhs, edudip, Online vhs
END:VEVENT
END:VCALENDAR