BEGIN:VCALENDAR
VERSION:2.0
PRODID:https://www.kufer.de/kuferweb / DE
METHOD:PUBLISH
CALSCALE:GREGORIAN
X-WR-TIMEZONE:Europe/Berlin
BEGIN:VTIMEZONE
TZID:Europe/Berlin
X-LIC-LOCATION:Europe/Berlin
BEGIN:DAYLIGHT
TZOFFSETFROM:+0100
TZOFFSETTO:+0200
TZNAME:CEST
DTSTART:19700329T020000
RRULE:FREQ=YEARLY;INTERVAL=1;BYDAY=-1SU;BYMONTH=3
END:DAYLIGHT
BEGIN:STANDARD
TZOFFSETFROM:+0200
TZOFFSETTO:+0100
TZNAME:CET
DTSTART:19701025T030000
RRULE:FREQ=YEARLY;INTERVAL=1;BYDAY=-1SU;BYMONTH=10
END:STANDARD
END:VTIMEZONE
BEGIN:VEVENT
DTSTAMP:20260420T181501
DTSTART;TZID=Europe/Berlin:20260402T071500
DTEND;TZID=Europe/Berlin:20260402T074500
UID:V83075110-20260402T071500@VHSBÖBLINGEN-SINDELFINGEN
SUMMARY:vhs.Motions: Fit in den Tag (V83075110) 
LOCATION:Online vhs, edudip, Online vhs
END:VEVENT
BEGIN:VEVENT
DTSTAMP:20260420T181501
DTSTART;TZID=Europe/Berlin:20260409T071500
DTEND;TZID=Europe/Berlin:20260409T074500
UID:V83075110-20260409T071500@VHSBÖBLINGEN-SINDELFINGEN
SUMMARY:vhs.Motions: Fit in den Tag (V83075110) 
LOCATION:Online vhs, edudip, Online vhs
END:VEVENT
BEGIN:VEVENT
DTSTAMP:20260420T181501
DTSTART;TZID=Europe/Berlin:20260413T071500
DTEND;TZID=Europe/Berlin:20260413T074500
UID:V83075110-20260413T071500@VHSBÖBLINGEN-SINDELFINGEN
SUMMARY:vhs.Motions: Fit in den Tag (V83075110) 
LOCATION:Online vhs, edudip, Online vhs
END:VEVENT
BEGIN:VEVENT
DTSTAMP:20260420T181501
DTSTART;TZID=Europe/Berlin:20260416T071500
DTEND;TZID=Europe/Berlin:20260416T074500
UID:V83075110-20260416T071500@VHSBÖBLINGEN-SINDELFINGEN
SUMMARY:vhs.Motions: Fit in den Tag (V83075110) 
LOCATION:Online vhs, edudip, Online vhs
END:VEVENT
BEGIN:VEVENT
DTSTAMP:20260420T181501
DTSTART;TZID=Europe/Berlin:20260420T071500
DTEND;TZID=Europe/Berlin:20260420T074500
UID:V83075110-20260420T071500@VHSBÖBLINGEN-SINDELFINGEN
SUMMARY:vhs.Motions: Fit in den Tag (V83075110) 
LOCATION:Online vhs, edudip, Online vhs
END:VEVENT
BEGIN:VEVENT
DTSTAMP:20260420T181501
DTSTART;TZID=Europe/Berlin:20260423T071500
DTEND;TZID=Europe/Berlin:20260423T074500
UID:V83075110-20260423T071500@VHSBÖBLINGEN-SINDELFINGEN
SUMMARY:vhs.Motions: Fit in den Tag (V83075110) 
LOCATION:Online vhs, edudip, Online vhs
END:VEVENT
BEGIN:VEVENT
DTSTAMP:20260420T181501
DTSTART;TZID=Europe/Berlin:20260427T071500
DTEND;TZID=Europe/Berlin:20260427T074500
UID:V83075110-20260427T071500@VHSBÖBLINGEN-SINDELFINGEN
SUMMARY:vhs.Motions: Fit in den Tag (V83075110) 
LOCATION:Online vhs, edudip, Online vhs
END:VEVENT
BEGIN:VEVENT
DTSTAMP:20260420T181501
DTSTART;TZID=Europe/Berlin:20260430T071500
DTEND;TZID=Europe/Berlin:20260430T074500
UID:V83075110-20260430T071500@VHSBÖBLINGEN-SINDELFINGEN
SUMMARY:vhs.Motions: Fit in den Tag (V83075110) 
LOCATION:Online vhs, edudip, Online vhs
END:VEVENT
END:VCALENDAR