BEGIN:VCALENDAR
VERSION:2.0
PRODID:https://www.kufer.de/kuferweb / DE
METHOD:PUBLISH
CALSCALE:GREGORIAN
X-WR-TIMEZONE:Europe/Berlin
BEGIN:VTIMEZONE
TZID:Europe/Berlin
X-LIC-LOCATION:Europe/Berlin
BEGIN:DAYLIGHT
TZOFFSETFROM:+0100
TZOFFSETTO:+0200
TZNAME:CEST
DTSTART:19700329T020000
RRULE:FREQ=YEARLY;INTERVAL=1;BYDAY=-1SU;BYMONTH=3
END:DAYLIGHT
BEGIN:STANDARD
TZOFFSETFROM:+0200
TZOFFSETTO:+0100
TZNAME:CET
DTSTART:19701025T030000
RRULE:FREQ=YEARLY;INTERVAL=1;BYDAY=-1SU;BYMONTH=10
END:STANDARD
END:VTIMEZONE
BEGIN:VEVENT
DTSTAMP:20260420T220524
DTSTART;TZID=Europe/Berlin:20260302T071500
DTEND;TZID=Europe/Berlin:20260302T074500
UID:V83075010-20260302T071500@VHSBÖBLINGEN-SINDELFINGEN
SUMMARY:vhs.Motions: Fit in den Tag (V83075010) 
LOCATION:Online vhs, edudip, Online vhs
END:VEVENT
BEGIN:VEVENT
DTSTAMP:20260420T220524
DTSTART;TZID=Europe/Berlin:20260309T071500
DTEND;TZID=Europe/Berlin:20260309T074500
UID:V83075010-20260309T071500@VHSBÖBLINGEN-SINDELFINGEN
SUMMARY:vhs.Motions: Fit in den Tag (V83075010) 
LOCATION:Online vhs, edudip, Online vhs
END:VEVENT
BEGIN:VEVENT
DTSTAMP:20260420T220524
DTSTART;TZID=Europe/Berlin:20260312T071500
DTEND;TZID=Europe/Berlin:20260312T074500
UID:V83075010-20260312T071500@VHSBÖBLINGEN-SINDELFINGEN
SUMMARY:vhs.Motions: Fit in den Tag (V83075010) 
LOCATION:Online vhs, edudip, Online vhs
END:VEVENT
BEGIN:VEVENT
DTSTAMP:20260420T220524
DTSTART;TZID=Europe/Berlin:20260316T071500
DTEND;TZID=Europe/Berlin:20260316T074500
UID:V83075010-20260316T071500@VHSBÖBLINGEN-SINDELFINGEN
SUMMARY:vhs.Motions: Fit in den Tag (V83075010) 
LOCATION:Online vhs, edudip, Online vhs
END:VEVENT
BEGIN:VEVENT
DTSTAMP:20260420T220524
DTSTART;TZID=Europe/Berlin:20260319T071500
DTEND;TZID=Europe/Berlin:20260319T074500
UID:V83075010-20260319T071500@VHSBÖBLINGEN-SINDELFINGEN
SUMMARY:vhs.Motions: Fit in den Tag (V83075010) 
LOCATION:Online vhs, edudip, Online vhs
END:VEVENT
BEGIN:VEVENT
DTSTAMP:20260420T220524
DTSTART;TZID=Europe/Berlin:20260323T071500
DTEND;TZID=Europe/Berlin:20260323T074500
UID:V83075010-20260323T071500@VHSBÖBLINGEN-SINDELFINGEN
SUMMARY:vhs.Motions: Fit in den Tag (V83075010) 
LOCATION:Online vhs, edudip, Online vhs
END:VEVENT
BEGIN:VEVENT
DTSTAMP:20260420T220524
DTSTART;TZID=Europe/Berlin:20260326T071500
DTEND;TZID=Europe/Berlin:20260326T074500
UID:V83075010-20260326T071500@VHSBÖBLINGEN-SINDELFINGEN
SUMMARY:vhs.Motions: Fit in den Tag (V83075010) 
LOCATION:Online vhs, edudip, Online vhs
END:VEVENT
BEGIN:VEVENT
DTSTAMP:20260420T220524
DTSTART;TZID=Europe/Berlin:20260330T071500
DTEND;TZID=Europe/Berlin:20260330T074500
UID:V83075010-20260330T071500@VHSBÖBLINGEN-SINDELFINGEN
SUMMARY:vhs.Motions: Fit in den Tag (V83075010) 
LOCATION:Online vhs, edudip, Online vhs
END:VEVENT
END:VCALENDAR