BEGIN:VCALENDAR
VERSION:2.0
PRODID:https://www.kufer.de/kuferweb / DE
METHOD:PUBLISH
CALSCALE:GREGORIAN
X-WR-TIMEZONE:Europe/Berlin
BEGIN:VTIMEZONE
TZID:Europe/Berlin
X-LIC-LOCATION:Europe/Berlin
BEGIN:DAYLIGHT
TZOFFSETFROM:+0100
TZOFFSETTO:+0200
TZNAME:CEST
DTSTART:19700329T020000
RRULE:FREQ=YEARLY;INTERVAL=1;BYDAY=-1SU;BYMONTH=3
END:DAYLIGHT
BEGIN:STANDARD
TZOFFSETFROM:+0200
TZOFFSETTO:+0100
TZNAME:CET
DTSTART:19701025T030000
RRULE:FREQ=YEARLY;INTERVAL=1;BYDAY=-1SU;BYMONTH=10
END:STANDARD
END:VTIMEZONE
BEGIN:VEVENT
DTSTAMP:20260421T152053
DTSTART;TZID=Europe/Berlin:20260601T172000
DTEND;TZID=Europe/Berlin:20260601T175000
UID:V83073110-20260601T172000@VHSBÖBLINGEN-SINDELFINGEN
SUMMARY:After Work - Workout - Dein 30 minütiger Energie-Reset nach Feierabend (V83073110) 
LOCATION:Online vhs, edudip, Online vhs
END:VEVENT
BEGIN:VEVENT
DTSTAMP:20260421T152053
DTSTART;TZID=Europe/Berlin:20260602T172000
DTEND;TZID=Europe/Berlin:20260602T175000
UID:V83073110-20260602T172000@VHSBÖBLINGEN-SINDELFINGEN
SUMMARY:After Work - Workout - Dein 30 minütiger Energie-Reset nach Feierabend (V83073110) 
LOCATION:Online vhs, edudip, Online vhs
END:VEVENT
BEGIN:VEVENT
DTSTAMP:20260421T152053
DTSTART;TZID=Europe/Berlin:20260603T172000
DTEND;TZID=Europe/Berlin:20260603T175000
UID:V83073110-20260603T172000@VHSBÖBLINGEN-SINDELFINGEN
SUMMARY:After Work - Workout - Dein 30 minütiger Energie-Reset nach Feierabend (V83073110) 
LOCATION:Online vhs, edudip, Online vhs
END:VEVENT
BEGIN:VEVENT
DTSTAMP:20260421T152053
DTSTART;TZID=Europe/Berlin:20260604T172000
DTEND;TZID=Europe/Berlin:20260604T175000
UID:V83073110-20260604T172000@VHSBÖBLINGEN-SINDELFINGEN
SUMMARY:After Work - Workout - Dein 30 minütiger Energie-Reset nach Feierabend (V83073110) 
LOCATION:Online vhs, edudip, Online vhs
END:VEVENT
BEGIN:VEVENT
DTSTAMP:20260421T152053
DTSTART;TZID=Europe/Berlin:20260605T172000
DTEND;TZID=Europe/Berlin:20260605T175000
UID:V83073110-20260605T172000@VHSBÖBLINGEN-SINDELFINGEN
SUMMARY:After Work - Workout - Dein 30 minütiger Energie-Reset nach Feierabend (V83073110) 
LOCATION:Online vhs, edudip, Online vhs
END:VEVENT
BEGIN:VEVENT
DTSTAMP:20260421T152053
DTSTART;TZID=Europe/Berlin:20260608T172000
DTEND;TZID=Europe/Berlin:20260608T175000
UID:V83073110-20260608T172000@VHSBÖBLINGEN-SINDELFINGEN
SUMMARY:After Work - Workout - Dein 30 minütiger Energie-Reset nach Feierabend (V83073110) 
LOCATION:Online vhs, edudip, Online vhs
END:VEVENT
BEGIN:VEVENT
DTSTAMP:20260421T152053
DTSTART;TZID=Europe/Berlin:20260609T172000
DTEND;TZID=Europe/Berlin:20260609T175000
UID:V83073110-20260609T172000@VHSBÖBLINGEN-SINDELFINGEN
SUMMARY:After Work - Workout - Dein 30 minütiger Energie-Reset nach Feierabend (V83073110) 
LOCATION:Online vhs, edudip, Online vhs
END:VEVENT
BEGIN:VEVENT
DTSTAMP:20260421T152053
DTSTART;TZID=Europe/Berlin:20260610T172000
DTEND;TZID=Europe/Berlin:20260610T175000
UID:V83073110-20260610T172000@VHSBÖBLINGEN-SINDELFINGEN
SUMMARY:After Work - Workout - Dein 30 minütiger Energie-Reset nach Feierabend (V83073110) 
LOCATION:Online vhs, edudip, Online vhs
END:VEVENT
BEGIN:VEVENT
DTSTAMP:20260421T152053
DTSTART;TZID=Europe/Berlin:20260611T172000
DTEND;TZID=Europe/Berlin:20260611T175000
UID:V83073110-20260611T172000@VHSBÖBLINGEN-SINDELFINGEN
SUMMARY:After Work - Workout - Dein 30 minütiger Energie-Reset nach Feierabend (V83073110) 
LOCATION:Online vhs, edudip, Online vhs
END:VEVENT
BEGIN:VEVENT
DTSTAMP:20260421T152053
DTSTART;TZID=Europe/Berlin:20260612T172000
DTEND;TZID=Europe/Berlin:20260612T175000
UID:V83073110-20260612T172000@VHSBÖBLINGEN-SINDELFINGEN
SUMMARY:After Work - Workout - Dein 30 minütiger Energie-Reset nach Feierabend (V83073110) 
LOCATION:Online vhs, edudip, Online vhs
END:VEVENT
BEGIN:VEVENT
DTSTAMP:20260421T152053
DTSTART;TZID=Europe/Berlin:20260615T172000
DTEND;TZID=Europe/Berlin:20260615T175000
UID:V83073110-20260615T172000@VHSBÖBLINGEN-SINDELFINGEN
SUMMARY:After Work - Workout - Dein 30 minütiger Energie-Reset nach Feierabend (V83073110) 
LOCATION:Online vhs, edudip, Online vhs
END:VEVENT
BEGIN:VEVENT
DTSTAMP:20260421T152053
DTSTART;TZID=Europe/Berlin:20260616T172000
DTEND;TZID=Europe/Berlin:20260616T175000
UID:V83073110-20260616T172000@VHSBÖBLINGEN-SINDELFINGEN
SUMMARY:After Work - Workout - Dein 30 minütiger Energie-Reset nach Feierabend (V83073110) 
LOCATION:Online vhs, edudip, Online vhs
END:VEVENT
BEGIN:VEVENT
DTSTAMP:20260421T152053
DTSTART;TZID=Europe/Berlin:20260617T172000
DTEND;TZID=Europe/Berlin:20260617T175000
UID:V83073110-20260617T172000@VHSBÖBLINGEN-SINDELFINGEN
SUMMARY:After Work - Workout - Dein 30 minütiger Energie-Reset nach Feierabend (V83073110) 
LOCATION:Online vhs, edudip, Online vhs
END:VEVENT
BEGIN:VEVENT
DTSTAMP:20260421T152053
DTSTART;TZID=Europe/Berlin:20260618T172000
DTEND;TZID=Europe/Berlin:20260618T175000
UID:V83073110-20260618T172000@VHSBÖBLINGEN-SINDELFINGEN
SUMMARY:After Work - Workout - Dein 30 minütiger Energie-Reset nach Feierabend (V83073110) 
LOCATION:Online vhs, edudip, Online vhs
END:VEVENT
BEGIN:VEVENT
DTSTAMP:20260421T152053
DTSTART;TZID=Europe/Berlin:20260619T172000
DTEND;TZID=Europe/Berlin:20260619T175000
UID:V83073110-20260619T172000@VHSBÖBLINGEN-SINDELFINGEN
SUMMARY:After Work - Workout - Dein 30 minütiger Energie-Reset nach Feierabend (V83073110) 
LOCATION:Online vhs, edudip, Online vhs
END:VEVENT
BEGIN:VEVENT
DTSTAMP:20260421T152053
DTSTART;TZID=Europe/Berlin:20260622T172000
DTEND;TZID=Europe/Berlin:20260622T175000
UID:V83073110-20260622T172000@VHSBÖBLINGEN-SINDELFINGEN
SUMMARY:After Work - Workout - Dein 30 minütiger Energie-Reset nach Feierabend (V83073110) 
LOCATION:Online vhs, edudip, Online vhs
END:VEVENT
BEGIN:VEVENT
DTSTAMP:20260421T152053
DTSTART;TZID=Europe/Berlin:20260623T172000
DTEND;TZID=Europe/Berlin:20260623T175000
UID:V83073110-20260623T172000@VHSBÖBLINGEN-SINDELFINGEN
SUMMARY:After Work - Workout - Dein 30 minütiger Energie-Reset nach Feierabend (V83073110) 
LOCATION:Online vhs, edudip, Online vhs
END:VEVENT
BEGIN:VEVENT
DTSTAMP:20260421T152053
DTSTART;TZID=Europe/Berlin:20260624T172000
DTEND;TZID=Europe/Berlin:20260624T175000
UID:V83073110-20260624T172000@VHSBÖBLINGEN-SINDELFINGEN
SUMMARY:After Work - Workout - Dein 30 minütiger Energie-Reset nach Feierabend (V83073110) 
LOCATION:Online vhs, edudip, Online vhs
END:VEVENT
BEGIN:VEVENT
DTSTAMP:20260421T152053
DTSTART;TZID=Europe/Berlin:20260625T172000
DTEND;TZID=Europe/Berlin:20260625T175000
UID:V83073110-20260625T172000@VHSBÖBLINGEN-SINDELFINGEN
SUMMARY:After Work - Workout - Dein 30 minütiger Energie-Reset nach Feierabend (V83073110) 
LOCATION:Online vhs, edudip, Online vhs
END:VEVENT
BEGIN:VEVENT
DTSTAMP:20260421T152053
DTSTART;TZID=Europe/Berlin:20260626T172000
DTEND;TZID=Europe/Berlin:20260626T175000
UID:V83073110-20260626T172000@VHSBÖBLINGEN-SINDELFINGEN
SUMMARY:After Work - Workout - Dein 30 minütiger Energie-Reset nach Feierabend (V83073110) 
LOCATION:Online vhs, edudip, Online vhs
END:VEVENT
BEGIN:VEVENT
DTSTAMP:20260421T152053
DTSTART;TZID=Europe/Berlin:20260629T172000
DTEND;TZID=Europe/Berlin:20260629T175000
UID:V83073110-20260629T172000@VHSBÖBLINGEN-SINDELFINGEN
SUMMARY:After Work - Workout - Dein 30 minütiger Energie-Reset nach Feierabend (V83073110) 
LOCATION:Online vhs, edudip, Online vhs
END:VEVENT
BEGIN:VEVENT
DTSTAMP:20260421T152053
DTSTART;TZID=Europe/Berlin:20260630T172000
DTEND;TZID=Europe/Berlin:20260630T175000
UID:V83073110-20260630T172000@VHSBÖBLINGEN-SINDELFINGEN
SUMMARY:After Work - Workout - Dein 30 minütiger Energie-Reset nach Feierabend (V83073110) 
LOCATION:Online vhs, edudip, Online vhs
END:VEVENT
END:VCALENDAR