BEGIN:VCALENDAR
VERSION:2.0
PRODID:https://www.kufer.de/kuferweb / DE
METHOD:PUBLISH
CALSCALE:GREGORIAN
X-WR-TIMEZONE:Europe/Berlin
BEGIN:VTIMEZONE
TZID:Europe/Berlin
X-LIC-LOCATION:Europe/Berlin
BEGIN:DAYLIGHT
TZOFFSETFROM:+0100
TZOFFSETTO:+0200
TZNAME:CEST
DTSTART:19700329T020000
RRULE:FREQ=YEARLY;INTERVAL=1;BYDAY=-1SU;BYMONTH=3
END:DAYLIGHT
BEGIN:STANDARD
TZOFFSETFROM:+0200
TZOFFSETTO:+0100
TZNAME:CET
DTSTART:19701025T030000
RRULE:FREQ=YEARLY;INTERVAL=1;BYDAY=-1SU;BYMONTH=10
END:STANDARD
END:VTIMEZONE
BEGIN:VEVENT
DTSTAMP:20260421T151750
DTSTART;TZID=Europe/Berlin:20260504T172000
DTEND;TZID=Europe/Berlin:20260504T175000
UID:V83073010-20260504T172000@VHSBÖBLINGEN-SINDELFINGEN
SUMMARY:After Work - Workout - Dein 30 minütiger Energie-Reset nach Feierabend (V83073010) 
LOCATION:Online vhs, edudip, Online vhs
END:VEVENT
BEGIN:VEVENT
DTSTAMP:20260421T151750
DTSTART;TZID=Europe/Berlin:20260505T172000
DTEND;TZID=Europe/Berlin:20260505T175000
UID:V83073010-20260505T172000@VHSBÖBLINGEN-SINDELFINGEN
SUMMARY:After Work - Workout - Dein 30 minütiger Energie-Reset nach Feierabend (V83073010) 
LOCATION:Online vhs, edudip, Online vhs
END:VEVENT
BEGIN:VEVENT
DTSTAMP:20260421T151750
DTSTART;TZID=Europe/Berlin:20260506T172000
DTEND;TZID=Europe/Berlin:20260506T175000
UID:V83073010-20260506T172000@VHSBÖBLINGEN-SINDELFINGEN
SUMMARY:After Work - Workout - Dein 30 minütiger Energie-Reset nach Feierabend (V83073010) 
LOCATION:Online vhs, edudip, Online vhs
END:VEVENT
BEGIN:VEVENT
DTSTAMP:20260421T151750
DTSTART;TZID=Europe/Berlin:20260507T172000
DTEND;TZID=Europe/Berlin:20260507T175000
UID:V83073010-20260507T172000@VHSBÖBLINGEN-SINDELFINGEN
SUMMARY:After Work - Workout - Dein 30 minütiger Energie-Reset nach Feierabend (V83073010) 
LOCATION:Online vhs, edudip, Online vhs
END:VEVENT
BEGIN:VEVENT
DTSTAMP:20260421T151750
DTSTART;TZID=Europe/Berlin:20260508T172000
DTEND;TZID=Europe/Berlin:20260508T175000
UID:V83073010-20260508T172000@VHSBÖBLINGEN-SINDELFINGEN
SUMMARY:After Work - Workout - Dein 30 minütiger Energie-Reset nach Feierabend (V83073010) 
LOCATION:Online vhs, edudip, Online vhs
END:VEVENT
BEGIN:VEVENT
DTSTAMP:20260421T151750
DTSTART;TZID=Europe/Berlin:20260511T172000
DTEND;TZID=Europe/Berlin:20260511T175000
UID:V83073010-20260511T172000@VHSBÖBLINGEN-SINDELFINGEN
SUMMARY:After Work - Workout - Dein 30 minütiger Energie-Reset nach Feierabend (V83073010) 
LOCATION:Online vhs, edudip, Online vhs
END:VEVENT
BEGIN:VEVENT
DTSTAMP:20260421T151750
DTSTART;TZID=Europe/Berlin:20260512T172000
DTEND;TZID=Europe/Berlin:20260512T175000
UID:V83073010-20260512T172000@VHSBÖBLINGEN-SINDELFINGEN
SUMMARY:After Work - Workout - Dein 30 minütiger Energie-Reset nach Feierabend (V83073010) 
LOCATION:Online vhs, edudip, Online vhs
END:VEVENT
BEGIN:VEVENT
DTSTAMP:20260421T151750
DTSTART;TZID=Europe/Berlin:20260513T172000
DTEND;TZID=Europe/Berlin:20260513T175000
UID:V83073010-20260513T172000@VHSBÖBLINGEN-SINDELFINGEN
SUMMARY:After Work - Workout - Dein 30 minütiger Energie-Reset nach Feierabend (V83073010) 
LOCATION:Online vhs, edudip, Online vhs
END:VEVENT
BEGIN:VEVENT
DTSTAMP:20260421T151750
DTSTART;TZID=Europe/Berlin:20260514T172000
DTEND;TZID=Europe/Berlin:20260514T175000
UID:V83073010-20260514T172000@VHSBÖBLINGEN-SINDELFINGEN
SUMMARY:After Work - Workout - Dein 30 minütiger Energie-Reset nach Feierabend (V83073010) 
LOCATION:Online vhs, edudip, Online vhs
END:VEVENT
BEGIN:VEVENT
DTSTAMP:20260421T151750
DTSTART;TZID=Europe/Berlin:20260515T172000
DTEND;TZID=Europe/Berlin:20260515T175000
UID:V83073010-20260515T172000@VHSBÖBLINGEN-SINDELFINGEN
SUMMARY:After Work - Workout - Dein 30 minütiger Energie-Reset nach Feierabend (V83073010) 
LOCATION:Online vhs, edudip, Online vhs
END:VEVENT
BEGIN:VEVENT
DTSTAMP:20260421T151750
DTSTART;TZID=Europe/Berlin:20260518T172000
DTEND;TZID=Europe/Berlin:20260518T175000
UID:V83073010-20260518T172000@VHSBÖBLINGEN-SINDELFINGEN
SUMMARY:After Work - Workout - Dein 30 minütiger Energie-Reset nach Feierabend (V83073010) 
LOCATION:Online vhs, edudip, Online vhs
END:VEVENT
BEGIN:VEVENT
DTSTAMP:20260421T151750
DTSTART;TZID=Europe/Berlin:20260519T172000
DTEND;TZID=Europe/Berlin:20260519T175000
UID:V83073010-20260519T172000@VHSBÖBLINGEN-SINDELFINGEN
SUMMARY:After Work - Workout - Dein 30 minütiger Energie-Reset nach Feierabend (V83073010) 
LOCATION:Online vhs, edudip, Online vhs
END:VEVENT
BEGIN:VEVENT
DTSTAMP:20260421T151750
DTSTART;TZID=Europe/Berlin:20260520T172000
DTEND;TZID=Europe/Berlin:20260520T175000
UID:V83073010-20260520T172000@VHSBÖBLINGEN-SINDELFINGEN
SUMMARY:After Work - Workout - Dein 30 minütiger Energie-Reset nach Feierabend (V83073010) 
LOCATION:Online vhs, edudip, Online vhs
END:VEVENT
BEGIN:VEVENT
DTSTAMP:20260421T151750
DTSTART;TZID=Europe/Berlin:20260521T172000
DTEND;TZID=Europe/Berlin:20260521T175000
UID:V83073010-20260521T172000@VHSBÖBLINGEN-SINDELFINGEN
SUMMARY:After Work - Workout - Dein 30 minütiger Energie-Reset nach Feierabend (V83073010) 
LOCATION:Online vhs, edudip, Online vhs
END:VEVENT
BEGIN:VEVENT
DTSTAMP:20260421T151750
DTSTART;TZID=Europe/Berlin:20260522T172000
DTEND;TZID=Europe/Berlin:20260522T175000
UID:V83073010-20260522T172000@VHSBÖBLINGEN-SINDELFINGEN
SUMMARY:After Work - Workout - Dein 30 minütiger Energie-Reset nach Feierabend (V83073010) 
LOCATION:Online vhs, edudip, Online vhs
END:VEVENT
BEGIN:VEVENT
DTSTAMP:20260421T151750
DTSTART;TZID=Europe/Berlin:20260525T172000
DTEND;TZID=Europe/Berlin:20260525T175000
UID:V83073010-20260525T172000@VHSBÖBLINGEN-SINDELFINGEN
SUMMARY:After Work - Workout - Dein 30 minütiger Energie-Reset nach Feierabend (V83073010) 
LOCATION:Online vhs, edudip, Online vhs
END:VEVENT
BEGIN:VEVENT
DTSTAMP:20260421T151750
DTSTART;TZID=Europe/Berlin:20260526T172000
DTEND;TZID=Europe/Berlin:20260526T175000
UID:V83073010-20260526T172000@VHSBÖBLINGEN-SINDELFINGEN
SUMMARY:After Work - Workout - Dein 30 minütiger Energie-Reset nach Feierabend (V83073010) 
LOCATION:Online vhs, edudip, Online vhs
END:VEVENT
BEGIN:VEVENT
DTSTAMP:20260421T151750
DTSTART;TZID=Europe/Berlin:20260527T172000
DTEND;TZID=Europe/Berlin:20260527T175000
UID:V83073010-20260527T172000@VHSBÖBLINGEN-SINDELFINGEN
SUMMARY:After Work - Workout - Dein 30 minütiger Energie-Reset nach Feierabend (V83073010) 
LOCATION:Online vhs, edudip, Online vhs
END:VEVENT
BEGIN:VEVENT
DTSTAMP:20260421T151750
DTSTART;TZID=Europe/Berlin:20260528T172000
DTEND;TZID=Europe/Berlin:20260528T175000
UID:V83073010-20260528T172000@VHSBÖBLINGEN-SINDELFINGEN
SUMMARY:After Work - Workout - Dein 30 minütiger Energie-Reset nach Feierabend (V83073010) 
LOCATION:Online vhs, edudip, Online vhs
END:VEVENT
BEGIN:VEVENT
DTSTAMP:20260421T151750
DTSTART;TZID=Europe/Berlin:20260529T172000
DTEND;TZID=Europe/Berlin:20260529T175000
UID:V83073010-20260529T172000@VHSBÖBLINGEN-SINDELFINGEN
SUMMARY:After Work - Workout - Dein 30 minütiger Energie-Reset nach Feierabend (V83073010) 
LOCATION:Online vhs, edudip, Online vhs
END:VEVENT
END:VCALENDAR