BEGIN:VCALENDAR
VERSION:2.0
PRODID:https://www.kufer.de/kuferweb / DE
METHOD:PUBLISH
CALSCALE:GREGORIAN
X-WR-TIMEZONE:Europe/Berlin
BEGIN:VTIMEZONE
TZID:Europe/Berlin
X-LIC-LOCATION:Europe/Berlin
BEGIN:DAYLIGHT
TZOFFSETFROM:+0100
TZOFFSETTO:+0200
TZNAME:CEST
DTSTART:19700329T020000
RRULE:FREQ=YEARLY;INTERVAL=1;BYDAY=-1SU;BYMONTH=3
END:DAYLIGHT
BEGIN:STANDARD
TZOFFSETFROM:+0200
TZOFFSETTO:+0100
TZNAME:CET
DTSTART:19701025T030000
RRULE:FREQ=YEARLY;INTERVAL=1;BYDAY=-1SU;BYMONTH=10
END:STANDARD
END:VTIMEZONE
BEGIN:VEVENT
DTSTAMP:20260421T111955
DTSTART;TZID=Europe/Berlin:20260804T190000
DTEND;TZID=Europe/Berlin:20260804T194500
UID:V83071510-20260804T190000@VHSBÖBLINGEN-SINDELFINGEN
SUMMARY:Vom Stress zur Balance: Entspannungstechniken rund um den Vagusnerv Der Onlinekurs für gestresste Menschen, die ihr Nervensystem nicht nur regulieren, sondern auch feiern wollen (V83071510) 
LOCATION:Online vhs, edudip, Online vhs
END:VEVENT
BEGIN:VEVENT
DTSTAMP:20260421T111955
DTSTART;TZID=Europe/Berlin:20260811T190000
DTEND;TZID=Europe/Berlin:20260811T194500
UID:V83071510-20260811T190000@VHSBÖBLINGEN-SINDELFINGEN
SUMMARY:Vom Stress zur Balance: Entspannungstechniken rund um den Vagusnerv Der Onlinekurs für gestresste Menschen, die ihr Nervensystem nicht nur regulieren, sondern auch feiern wollen (V83071510) 
LOCATION:Online vhs, edudip, Online vhs
END:VEVENT
BEGIN:VEVENT
DTSTAMP:20260421T111955
DTSTART;TZID=Europe/Berlin:20260818T190000
DTEND;TZID=Europe/Berlin:20260818T194500
UID:V83071510-20260818T190000@VHSBÖBLINGEN-SINDELFINGEN
SUMMARY:Vom Stress zur Balance: Entspannungstechniken rund um den Vagusnerv Der Onlinekurs für gestresste Menschen, die ihr Nervensystem nicht nur regulieren, sondern auch feiern wollen (V83071510) 
LOCATION:Online vhs, edudip, Online vhs
END:VEVENT
BEGIN:VEVENT
DTSTAMP:20260421T111955
DTSTART;TZID=Europe/Berlin:20260825T190000
DTEND;TZID=Europe/Berlin:20260825T194500
UID:V83071510-20260825T190000@VHSBÖBLINGEN-SINDELFINGEN
SUMMARY:Vom Stress zur Balance: Entspannungstechniken rund um den Vagusnerv Der Onlinekurs für gestresste Menschen, die ihr Nervensystem nicht nur regulieren, sondern auch feiern wollen (V83071510) 
LOCATION:Online vhs, edudip, Online vhs
END:VEVENT
END:VCALENDAR