BEGIN:VCALENDAR
VERSION:2.0
PRODID:https://www.kufer.de/kuferweb / DE
METHOD:PUBLISH
CALSCALE:GREGORIAN
X-WR-TIMEZONE:Europe/Berlin
BEGIN:VTIMEZONE
TZID:Europe/Berlin
X-LIC-LOCATION:Europe/Berlin
BEGIN:DAYLIGHT
TZOFFSETFROM:+0100
TZOFFSETTO:+0200
TZNAME:CEST
DTSTART:19700329T020000
RRULE:FREQ=YEARLY;INTERVAL=1;BYDAY=-1SU;BYMONTH=3
END:DAYLIGHT
BEGIN:STANDARD
TZOFFSETFROM:+0200
TZOFFSETTO:+0100
TZNAME:CET
DTSTART:19701025T030000
RRULE:FREQ=YEARLY;INTERVAL=1;BYDAY=-1SU;BYMONTH=10
END:STANDARD
END:VTIMEZONE
BEGIN:VEVENT
DTSTAMP:20260420T174900
DTSTART;TZID=Europe/Berlin:20260409T200000
DTEND;TZID=Europe/Berlin:20260409T203000
UID:V83065110-20260409T200000@VHSBÖBLINGEN-SINDELFINGEN
SUMMARY:Meno Fitness - Kraftvoll durch die Wechseljahre Power Fitness - stärke deine Mitte (V83065110) 
LOCATION:Online vhs, edudip, Online vhs
END:VEVENT
BEGIN:VEVENT
DTSTAMP:20260420T174900
DTSTART;TZID=Europe/Berlin:20260416T200000
DTEND;TZID=Europe/Berlin:20260416T203000
UID:V83065110-20260416T200000@VHSBÖBLINGEN-SINDELFINGEN
SUMMARY:Meno Fitness - Kraftvoll durch die Wechseljahre Power Fitness - stärke deine Mitte (V83065110) 
LOCATION:Online vhs, edudip, Online vhs
END:VEVENT
BEGIN:VEVENT
DTSTAMP:20260420T174900
DTSTART;TZID=Europe/Berlin:20260423T200000
DTEND;TZID=Europe/Berlin:20260423T203000
UID:V83065110-20260423T200000@VHSBÖBLINGEN-SINDELFINGEN
SUMMARY:Meno Fitness - Kraftvoll durch die Wechseljahre Power Fitness - stärke deine Mitte (V83065110) 
LOCATION:Online vhs, edudip, Online vhs
END:VEVENT
BEGIN:VEVENT
DTSTAMP:20260420T174900
DTSTART;TZID=Europe/Berlin:20260430T200000
DTEND;TZID=Europe/Berlin:20260430T203000
UID:V83065110-20260430T200000@VHSBÖBLINGEN-SINDELFINGEN
SUMMARY:Meno Fitness - Kraftvoll durch die Wechseljahre Power Fitness - stärke deine Mitte (V83065110) 
LOCATION:Online vhs, edudip, Online vhs
END:VEVENT
END:VCALENDAR