BEGIN:VCALENDAR
VERSION:2.0
PRODID:https://www.kufer.de/kuferweb / DE
METHOD:PUBLISH
CALSCALE:GREGORIAN
X-WR-TIMEZONE:Europe/Berlin
BEGIN:VTIMEZONE
TZID:Europe/Berlin
X-LIC-LOCATION:Europe/Berlin
BEGIN:DAYLIGHT
TZOFFSETFROM:+0100
TZOFFSETTO:+0200
TZNAME:CEST
DTSTART:19700329T020000
RRULE:FREQ=YEARLY;INTERVAL=1;BYDAY=-1SU;BYMONTH=3
END:DAYLIGHT
BEGIN:STANDARD
TZOFFSETFROM:+0200
TZOFFSETTO:+0100
TZNAME:CET
DTSTART:19701025T030000
RRULE:FREQ=YEARLY;INTERVAL=1;BYDAY=-1SU;BYMONTH=10
END:STANDARD
END:VTIMEZONE
BEGIN:VEVENT
DTSTAMP:20260420T220514
DTSTART;TZID=Europe/Berlin:20260303T200000
DTEND;TZID=Europe/Berlin:20260303T204500
UID:V83047010-20260303T200000@VHSBÖBLINGEN-SINDELFINGEN
SUMMARY:Longevity Workout - Beweglichkeit, Kraft und Vitalität (V83047010) 
LOCATION:Online vhs, edudip, Online vhs
END:VEVENT
BEGIN:VEVENT
DTSTAMP:20260420T220514
DTSTART;TZID=Europe/Berlin:20260310T200000
DTEND;TZID=Europe/Berlin:20260310T204500
UID:V83047010-20260310T200000@VHSBÖBLINGEN-SINDELFINGEN
SUMMARY:Longevity Workout - Beweglichkeit, Kraft und Vitalität (V83047010) 
LOCATION:Online vhs, edudip, Online vhs
END:VEVENT
BEGIN:VEVENT
DTSTAMP:20260420T220514
DTSTART;TZID=Europe/Berlin:20260317T200000
DTEND;TZID=Europe/Berlin:20260317T204500
UID:V83047010-20260317T200000@VHSBÖBLINGEN-SINDELFINGEN
SUMMARY:Longevity Workout - Beweglichkeit, Kraft und Vitalität (V83047010) 
LOCATION:Online vhs, edudip, Online vhs
END:VEVENT
BEGIN:VEVENT
DTSTAMP:20260420T220514
DTSTART;TZID=Europe/Berlin:20260324T200000
DTEND;TZID=Europe/Berlin:20260324T204500
UID:V83047010-20260324T200000@VHSBÖBLINGEN-SINDELFINGEN
SUMMARY:Longevity Workout - Beweglichkeit, Kraft und Vitalität (V83047010) 
LOCATION:Online vhs, edudip, Online vhs
END:VEVENT
BEGIN:VEVENT
DTSTAMP:20260420T220514
DTSTART;TZID=Europe/Berlin:20260331T200000
DTEND;TZID=Europe/Berlin:20260331T204500
UID:V83047010-20260331T200000@VHSBÖBLINGEN-SINDELFINGEN
SUMMARY:Longevity Workout - Beweglichkeit, Kraft und Vitalität (V83047010) 
LOCATION:Online vhs, edudip, Online vhs
END:VEVENT
END:VCALENDAR