BEGIN:VCALENDAR
VERSION:2.0
PRODID:https://www.kufer.de/kuferweb / DE
METHOD:PUBLISH
CALSCALE:GREGORIAN
X-WR-TIMEZONE:Europe/Berlin
BEGIN:VTIMEZONE
TZID:Europe/Berlin
X-LIC-LOCATION:Europe/Berlin
BEGIN:DAYLIGHT
TZOFFSETFROM:+0100
TZOFFSETTO:+0200
TZNAME:CEST
DTSTART:19700329T020000
RRULE:FREQ=YEARLY;INTERVAL=1;BYDAY=-1SU;BYMONTH=3
END:DAYLIGHT
BEGIN:STANDARD
TZOFFSETFROM:+0200
TZOFFSETTO:+0100
TZNAME:CET
DTSTART:19701025T030000
RRULE:FREQ=YEARLY;INTERVAL=1;BYDAY=-1SU;BYMONTH=10
END:STANDARD
END:VTIMEZONE
BEGIN:VEVENT
DTSTAMP:20260420T220434
DTSTART;TZID=Europe/Berlin:20260803T200000
DTEND;TZID=Europe/Berlin:20260803T204500
UID:V83044610-20260803T200000@VHSBÖBLINGEN-SINDELFINGEN
SUMMARY:Pilates - das perfekte Allround Training für einen schlanken Körper (alle Level) (V83044610) 
LOCATION:Online vhs
END:VEVENT
BEGIN:VEVENT
DTSTAMP:20260420T220434
DTSTART;TZID=Europe/Berlin:20260810T200000
DTEND;TZID=Europe/Berlin:20260810T204500
UID:V83044610-20260810T200000@VHSBÖBLINGEN-SINDELFINGEN
SUMMARY:Pilates - das perfekte Allround Training für einen schlanken Körper (alle Level) (V83044610) 
LOCATION:Online vhs
END:VEVENT
BEGIN:VEVENT
DTSTAMP:20260420T220434
DTSTART;TZID=Europe/Berlin:20260817T200000
DTEND;TZID=Europe/Berlin:20260817T204500
UID:V83044610-20260817T200000@VHSBÖBLINGEN-SINDELFINGEN
SUMMARY:Pilates - das perfekte Allround Training für einen schlanken Körper (alle Level) (V83044610) 
LOCATION:Online vhs
END:VEVENT
BEGIN:VEVENT
DTSTAMP:20260420T220434
DTSTART;TZID=Europe/Berlin:20260824T200000
DTEND;TZID=Europe/Berlin:20260824T204500
UID:V83044610-20260824T200000@VHSBÖBLINGEN-SINDELFINGEN
SUMMARY:Pilates - das perfekte Allround Training für einen schlanken Körper (alle Level) (V83044610) 
LOCATION:Online vhs
END:VEVENT
END:VCALENDAR