BEGIN:VCALENDAR
VERSION:2.0
PRODID:https://www.kufer.de/kuferweb / DE
METHOD:PUBLISH
CALSCALE:GREGORIAN
X-WR-TIMEZONE:Europe/Berlin
BEGIN:VTIMEZONE
TZID:Europe/Berlin
X-LIC-LOCATION:Europe/Berlin
BEGIN:DAYLIGHT
TZOFFSETFROM:+0100
TZOFFSETTO:+0200
TZNAME:CEST
DTSTART:19700329T020000
RRULE:FREQ=YEARLY;INTERVAL=1;BYDAY=-1SU;BYMONTH=3
END:DAYLIGHT
BEGIN:STANDARD
TZOFFSETFROM:+0200
TZOFFSETTO:+0100
TZNAME:CET
DTSTART:19701025T030000
RRULE:FREQ=YEARLY;INTERVAL=1;BYDAY=-1SU;BYMONTH=10
END:STANDARD
END:VTIMEZONE
BEGIN:VEVENT
DTSTAMP:20260420T202234
DTSTART;TZID=Europe/Berlin:20260407T180000
DTEND;TZID=Europe/Berlin:20260407T183000
UID:V83042110-20260407T180000@VHSBÖBLINGEN-SINDELFINGEN
SUMMARY:Yoga für die Füße: Gesunde Füße - Gesunder Rücken (V83042110) 
LOCATION:Online vhs, edudip, Online vhs
END:VEVENT
BEGIN:VEVENT
DTSTAMP:20260420T202234
DTSTART;TZID=Europe/Berlin:20260414T180000
DTEND;TZID=Europe/Berlin:20260414T183000
UID:V83042110-20260414T180000@VHSBÖBLINGEN-SINDELFINGEN
SUMMARY:Yoga für die Füße: Gesunde Füße - Gesunder Rücken (V83042110) 
LOCATION:Online vhs, edudip, Online vhs
END:VEVENT
BEGIN:VEVENT
DTSTAMP:20260420T202234
DTSTART;TZID=Europe/Berlin:20260421T180000
DTEND;TZID=Europe/Berlin:20260421T183000
UID:V83042110-20260421T180000@VHSBÖBLINGEN-SINDELFINGEN
SUMMARY:Yoga für die Füße: Gesunde Füße - Gesunder Rücken (V83042110) 
LOCATION:Online vhs, edudip, Online vhs
END:VEVENT
BEGIN:VEVENT
DTSTAMP:20260420T202234
DTSTART;TZID=Europe/Berlin:20260428T180000
DTEND;TZID=Europe/Berlin:20260428T183000
UID:V83042110-20260428T180000@VHSBÖBLINGEN-SINDELFINGEN
SUMMARY:Yoga für die Füße: Gesunde Füße - Gesunder Rücken (V83042110) 
LOCATION:Online vhs, edudip, Online vhs
END:VEVENT
END:VCALENDAR