BEGIN:VCALENDAR
VERSION:2.0
PRODID:https://www.kufer.de/kuferweb / DE
METHOD:PUBLISH
CALSCALE:GREGORIAN
X-WR-TIMEZONE:Europe/Berlin
BEGIN:VTIMEZONE
TZID:Europe/Berlin
X-LIC-LOCATION:Europe/Berlin
BEGIN:DAYLIGHT
TZOFFSETFROM:+0100
TZOFFSETTO:+0200
TZNAME:CEST
DTSTART:19700329T020000
RRULE:FREQ=YEARLY;INTERVAL=1;BYDAY=-1SU;BYMONTH=3
END:DAYLIGHT
BEGIN:STANDARD
TZOFFSETFROM:+0200
TZOFFSETTO:+0100
TZNAME:CET
DTSTART:19701025T030000
RRULE:FREQ=YEARLY;INTERVAL=1;BYDAY=-1SU;BYMONTH=10
END:STANDARD
END:VTIMEZONE
BEGIN:VEVENT
DTSTAMP:20260420T202037
DTSTART;TZID=Europe/Berlin:20260302T190000
DTEND;TZID=Europe/Berlin:20260302T194500
UID:V83040010-20260302T190000@VHSBÖBLINGEN-SINDELFINGEN
SUMMARY:Rückenfit - Wirbelsäulengymnastik (V83040010) 
LOCATION:Online vhs, edudip, Online vhs
END:VEVENT
BEGIN:VEVENT
DTSTAMP:20260420T202037
DTSTART;TZID=Europe/Berlin:20260309T190000
DTEND;TZID=Europe/Berlin:20260309T194500
UID:V83040010-20260309T190000@VHSBÖBLINGEN-SINDELFINGEN
SUMMARY:Rückenfit - Wirbelsäulengymnastik (V83040010) 
LOCATION:Online vhs, edudip, Online vhs
END:VEVENT
BEGIN:VEVENT
DTSTAMP:20260420T202037
DTSTART;TZID=Europe/Berlin:20260316T190000
DTEND;TZID=Europe/Berlin:20260316T194500
UID:V83040010-20260316T190000@VHSBÖBLINGEN-SINDELFINGEN
SUMMARY:Rückenfit - Wirbelsäulengymnastik (V83040010) 
LOCATION:Online vhs, edudip, Online vhs
END:VEVENT
BEGIN:VEVENT
DTSTAMP:20260420T202037
DTSTART;TZID=Europe/Berlin:20260323T190000
DTEND;TZID=Europe/Berlin:20260323T194500
UID:V83040010-20260323T190000@VHSBÖBLINGEN-SINDELFINGEN
SUMMARY:Rückenfit - Wirbelsäulengymnastik (V83040010) 
LOCATION:Online vhs, edudip, Online vhs
END:VEVENT
BEGIN:VEVENT
DTSTAMP:20260420T202037
DTSTART;TZID=Europe/Berlin:20260330T190000
DTEND;TZID=Europe/Berlin:20260330T194500
UID:V83040010-20260330T190000@VHSBÖBLINGEN-SINDELFINGEN
SUMMARY:Rückenfit - Wirbelsäulengymnastik (V83040010) 
LOCATION:Online vhs, edudip, Online vhs
END:VEVENT
END:VCALENDAR