BEGIN:VCALENDAR
VERSION:2.0
PRODID:https://www.kufer.de/kuferweb / DE
METHOD:PUBLISH
CALSCALE:GREGORIAN
X-WR-TIMEZONE:Europe/Berlin
BEGIN:VTIMEZONE
TZID:Europe/Berlin
X-LIC-LOCATION:Europe/Berlin
BEGIN:DAYLIGHT
TZOFFSETFROM:+0100
TZOFFSETTO:+0200
TZNAME:CEST
DTSTART:19700329T020000
RRULE:FREQ=YEARLY;INTERVAL=1;BYDAY=-1SU;BYMONTH=3
END:DAYLIGHT
BEGIN:STANDARD
TZOFFSETFROM:+0200
TZOFFSETTO:+0100
TZNAME:CET
DTSTART:19701025T030000
RRULE:FREQ=YEARLY;INTERVAL=1;BYDAY=-1SU;BYMONTH=10
END:STANDARD
END:VTIMEZONE
BEGIN:VEVENT
DTSTAMP:20260421T134515
DTSTART;TZID=Europe/Berlin:20260802T090000
DTEND;TZID=Europe/Berlin:20260802T093000
UID:V83035510-20260802T090000@VHSBÖBLINGEN-SINDELFINGEN
SUMMARY:Morgenfit - bewegt in den Tag starten Morning Workout 2.0 (V83035510) 
LOCATION:Online vhs, edudip, Online vhs
END:VEVENT
BEGIN:VEVENT
DTSTAMP:20260421T134515
DTSTART;TZID=Europe/Berlin:20260803T080000
DTEND;TZID=Europe/Berlin:20260803T082000
UID:V83035510-20260803T080000@VHSBÖBLINGEN-SINDELFINGEN
SUMMARY:Morgenfit - bewegt in den Tag starten Morning Workout 2.0 (V83035510) 
LOCATION:Online vhs, edudip, Online vhs
END:VEVENT
BEGIN:VEVENT
DTSTAMP:20260421T134515
DTSTART;TZID=Europe/Berlin:20260805T080000
DTEND;TZID=Europe/Berlin:20260805T082000
UID:V83035510-20260805T080000@VHSBÖBLINGEN-SINDELFINGEN
SUMMARY:Morgenfit - bewegt in den Tag starten Morning Workout 2.0 (V83035510) 
LOCATION:Online vhs, edudip, Online vhs
END:VEVENT
BEGIN:VEVENT
DTSTAMP:20260421T134515
DTSTART;TZID=Europe/Berlin:20260807T080000
DTEND;TZID=Europe/Berlin:20260807T082000
UID:V83035510-20260807T080000@VHSBÖBLINGEN-SINDELFINGEN
SUMMARY:Morgenfit - bewegt in den Tag starten Morning Workout 2.0 (V83035510) 
LOCATION:Online vhs, edudip, Online vhs
END:VEVENT
BEGIN:VEVENT
DTSTAMP:20260421T134515
DTSTART;TZID=Europe/Berlin:20260809T090000
DTEND;TZID=Europe/Berlin:20260809T093000
UID:V83035510-20260809T090000@VHSBÖBLINGEN-SINDELFINGEN
SUMMARY:Morgenfit - bewegt in den Tag starten Morning Workout 2.0 (V83035510) 
LOCATION:Online vhs, edudip, Online vhs
END:VEVENT
BEGIN:VEVENT
DTSTAMP:20260421T134515
DTSTART;TZID=Europe/Berlin:20260810T080000
DTEND;TZID=Europe/Berlin:20260810T082000
UID:V83035510-20260810T080000@VHSBÖBLINGEN-SINDELFINGEN
SUMMARY:Morgenfit - bewegt in den Tag starten Morning Workout 2.0 (V83035510) 
LOCATION:Online vhs, edudip, Online vhs
END:VEVENT
BEGIN:VEVENT
DTSTAMP:20260421T134515
DTSTART;TZID=Europe/Berlin:20260812T080000
DTEND;TZID=Europe/Berlin:20260812T082000
UID:V83035510-20260812T080000@VHSBÖBLINGEN-SINDELFINGEN
SUMMARY:Morgenfit - bewegt in den Tag starten Morning Workout 2.0 (V83035510) 
LOCATION:Online vhs, edudip, Online vhs
END:VEVENT
BEGIN:VEVENT
DTSTAMP:20260421T134515
DTSTART;TZID=Europe/Berlin:20260814T080000
DTEND;TZID=Europe/Berlin:20260814T082000
UID:V83035510-20260814T080000@VHSBÖBLINGEN-SINDELFINGEN
SUMMARY:Morgenfit - bewegt in den Tag starten Morning Workout 2.0 (V83035510) 
LOCATION:Online vhs, edudip, Online vhs
END:VEVENT
BEGIN:VEVENT
DTSTAMP:20260421T134515
DTSTART;TZID=Europe/Berlin:20260816T090000
DTEND;TZID=Europe/Berlin:20260816T093000
UID:V83035510-20260816T090000@VHSBÖBLINGEN-SINDELFINGEN
SUMMARY:Morgenfit - bewegt in den Tag starten Morning Workout 2.0 (V83035510) 
LOCATION:Online vhs, edudip, Online vhs
END:VEVENT
BEGIN:VEVENT
DTSTAMP:20260421T134515
DTSTART;TZID=Europe/Berlin:20260817T080000
DTEND;TZID=Europe/Berlin:20260817T082000
UID:V83035510-20260817T080000@VHSBÖBLINGEN-SINDELFINGEN
SUMMARY:Morgenfit - bewegt in den Tag starten Morning Workout 2.0 (V83035510) 
LOCATION:Online vhs, edudip, Online vhs
END:VEVENT
BEGIN:VEVENT
DTSTAMP:20260421T134515
DTSTART;TZID=Europe/Berlin:20260819T080000
DTEND;TZID=Europe/Berlin:20260819T082000
UID:V83035510-20260819T080000@VHSBÖBLINGEN-SINDELFINGEN
SUMMARY:Morgenfit - bewegt in den Tag starten Morning Workout 2.0 (V83035510) 
LOCATION:Online vhs, edudip, Online vhs
END:VEVENT
BEGIN:VEVENT
DTSTAMP:20260421T134515
DTSTART;TZID=Europe/Berlin:20260821T080000
DTEND;TZID=Europe/Berlin:20260821T082000
UID:V83035510-20260821T080000@VHSBÖBLINGEN-SINDELFINGEN
SUMMARY:Morgenfit - bewegt in den Tag starten Morning Workout 2.0 (V83035510) 
LOCATION:Online vhs, edudip, Online vhs
END:VEVENT
BEGIN:VEVENT
DTSTAMP:20260421T134515
DTSTART;TZID=Europe/Berlin:20260823T090000
DTEND;TZID=Europe/Berlin:20260823T093000
UID:V83035510-20260823T090000@VHSBÖBLINGEN-SINDELFINGEN
SUMMARY:Morgenfit - bewegt in den Tag starten Morning Workout 2.0 (V83035510) 
LOCATION:Online vhs, edudip, Online vhs
END:VEVENT
BEGIN:VEVENT
DTSTAMP:20260421T134515
DTSTART;TZID=Europe/Berlin:20260824T080000
DTEND;TZID=Europe/Berlin:20260824T082000
UID:V83035510-20260824T080000@VHSBÖBLINGEN-SINDELFINGEN
SUMMARY:Morgenfit - bewegt in den Tag starten Morning Workout 2.0 (V83035510) 
LOCATION:Online vhs, edudip, Online vhs
END:VEVENT
BEGIN:VEVENT
DTSTAMP:20260421T134515
DTSTART;TZID=Europe/Berlin:20260826T080000
DTEND;TZID=Europe/Berlin:20260826T082000
UID:V83035510-20260826T080000@VHSBÖBLINGEN-SINDELFINGEN
SUMMARY:Morgenfit - bewegt in den Tag starten Morning Workout 2.0 (V83035510) 
LOCATION:Online vhs, edudip, Online vhs
END:VEVENT
BEGIN:VEVENT
DTSTAMP:20260421T134515
DTSTART;TZID=Europe/Berlin:20260828T080000
DTEND;TZID=Europe/Berlin:20260828T082000
UID:V83035510-20260828T080000@VHSBÖBLINGEN-SINDELFINGEN
SUMMARY:Morgenfit - bewegt in den Tag starten Morning Workout 2.0 (V83035510) 
LOCATION:Online vhs, edudip, Online vhs
END:VEVENT
BEGIN:VEVENT
DTSTAMP:20260421T134515
DTSTART;TZID=Europe/Berlin:20260830T090000
DTEND;TZID=Europe/Berlin:20260830T093000
UID:V83035510-20260830T090000@VHSBÖBLINGEN-SINDELFINGEN
SUMMARY:Morgenfit - bewegt in den Tag starten Morning Workout 2.0 (V83035510) 
LOCATION:Online vhs, edudip, Online vhs
END:VEVENT
BEGIN:VEVENT
DTSTAMP:20260421T134515
DTSTART;TZID=Europe/Berlin:20260831T080000
DTEND;TZID=Europe/Berlin:20260831T082000
UID:V83035510-20260831T080000@VHSBÖBLINGEN-SINDELFINGEN
SUMMARY:Morgenfit - bewegt in den Tag starten Morning Workout 2.0 (V83035510) 
LOCATION:Online vhs, edudip, Online vhs
END:VEVENT
END:VCALENDAR