BEGIN:VCALENDAR
VERSION:2.0
PRODID:https://www.kufer.de/kuferweb / DE
METHOD:PUBLISH
CALSCALE:GREGORIAN
X-WR-TIMEZONE:Europe/Berlin
BEGIN:VTIMEZONE
TZID:Europe/Berlin
X-LIC-LOCATION:Europe/Berlin
BEGIN:DAYLIGHT
TZOFFSETFROM:+0100
TZOFFSETTO:+0200
TZNAME:CEST
DTSTART:19700329T020000
RRULE:FREQ=YEARLY;INTERVAL=1;BYDAY=-1SU;BYMONTH=3
END:DAYLIGHT
BEGIN:STANDARD
TZOFFSETFROM:+0200
TZOFFSETTO:+0100
TZNAME:CET
DTSTART:19701025T030000
RRULE:FREQ=YEARLY;INTERVAL=1;BYDAY=-1SU;BYMONTH=10
END:STANDARD
END:VTIMEZONE
BEGIN:VEVENT
DTSTAMP:20260421T124804
DTSTART;TZID=Europe/Berlin:20260701T080000
DTEND;TZID=Europe/Berlin:20260701T082000
UID:V83035410-20260701T080000@VHSBÖBLINGEN-SINDELFINGEN
SUMMARY:Morgenfit - bewegt in den Tag starten Morning Workout 2.0 (V83035410) 
LOCATION:Online vhs, edudip, Online vhs
END:VEVENT
BEGIN:VEVENT
DTSTAMP:20260421T124804
DTSTART;TZID=Europe/Berlin:20260703T080000
DTEND;TZID=Europe/Berlin:20260703T082000
UID:V83035410-20260703T080000@VHSBÖBLINGEN-SINDELFINGEN
SUMMARY:Morgenfit - bewegt in den Tag starten Morning Workout 2.0 (V83035410) 
LOCATION:Online vhs, edudip, Online vhs
END:VEVENT
BEGIN:VEVENT
DTSTAMP:20260421T124804
DTSTART;TZID=Europe/Berlin:20260705T090000
DTEND;TZID=Europe/Berlin:20260705T093000
UID:V83035410-20260705T090000@VHSBÖBLINGEN-SINDELFINGEN
SUMMARY:Morgenfit - bewegt in den Tag starten Morning Workout 2.0 (V83035410) 
LOCATION:Online vhs, edudip, Online vhs
END:VEVENT
BEGIN:VEVENT
DTSTAMP:20260421T124804
DTSTART;TZID=Europe/Berlin:20260706T080000
DTEND;TZID=Europe/Berlin:20260706T082000
UID:V83035410-20260706T080000@VHSBÖBLINGEN-SINDELFINGEN
SUMMARY:Morgenfit - bewegt in den Tag starten Morning Workout 2.0 (V83035410) 
LOCATION:Online vhs, edudip, Online vhs
END:VEVENT
BEGIN:VEVENT
DTSTAMP:20260421T124804
DTSTART;TZID=Europe/Berlin:20260708T080000
DTEND;TZID=Europe/Berlin:20260708T082000
UID:V83035410-20260708T080000@VHSBÖBLINGEN-SINDELFINGEN
SUMMARY:Morgenfit - bewegt in den Tag starten Morning Workout 2.0 (V83035410) 
LOCATION:Online vhs, edudip, Online vhs
END:VEVENT
BEGIN:VEVENT
DTSTAMP:20260421T124804
DTSTART;TZID=Europe/Berlin:20260710T080000
DTEND;TZID=Europe/Berlin:20260710T082000
UID:V83035410-20260710T080000@VHSBÖBLINGEN-SINDELFINGEN
SUMMARY:Morgenfit - bewegt in den Tag starten Morning Workout 2.0 (V83035410) 
LOCATION:Online vhs, edudip, Online vhs
END:VEVENT
BEGIN:VEVENT
DTSTAMP:20260421T124804
DTSTART;TZID=Europe/Berlin:20260712T090000
DTEND;TZID=Europe/Berlin:20260712T093000
UID:V83035410-20260712T090000@VHSBÖBLINGEN-SINDELFINGEN
SUMMARY:Morgenfit - bewegt in den Tag starten Morning Workout 2.0 (V83035410) 
LOCATION:Online vhs, edudip, Online vhs
END:VEVENT
BEGIN:VEVENT
DTSTAMP:20260421T124804
DTSTART;TZID=Europe/Berlin:20260713T080000
DTEND;TZID=Europe/Berlin:20260713T082000
UID:V83035410-20260713T080000@VHSBÖBLINGEN-SINDELFINGEN
SUMMARY:Morgenfit - bewegt in den Tag starten Morning Workout 2.0 (V83035410) 
LOCATION:Online vhs, edudip, Online vhs
END:VEVENT
BEGIN:VEVENT
DTSTAMP:20260421T124804
DTSTART;TZID=Europe/Berlin:20260715T080000
DTEND;TZID=Europe/Berlin:20260715T082000
UID:V83035410-20260715T080000@VHSBÖBLINGEN-SINDELFINGEN
SUMMARY:Morgenfit - bewegt in den Tag starten Morning Workout 2.0 (V83035410) 
LOCATION:Online vhs, edudip, Online vhs
END:VEVENT
BEGIN:VEVENT
DTSTAMP:20260421T124804
DTSTART;TZID=Europe/Berlin:20260717T080000
DTEND;TZID=Europe/Berlin:20260717T082000
UID:V83035410-20260717T080000@VHSBÖBLINGEN-SINDELFINGEN
SUMMARY:Morgenfit - bewegt in den Tag starten Morning Workout 2.0 (V83035410) 
LOCATION:Online vhs, edudip, Online vhs
END:VEVENT
BEGIN:VEVENT
DTSTAMP:20260421T124804
DTSTART;TZID=Europe/Berlin:20260719T090000
DTEND;TZID=Europe/Berlin:20260719T093000
UID:V83035410-20260719T090000@VHSBÖBLINGEN-SINDELFINGEN
SUMMARY:Morgenfit - bewegt in den Tag starten Morning Workout 2.0 (V83035410) 
LOCATION:Online vhs, edudip, Online vhs
END:VEVENT
BEGIN:VEVENT
DTSTAMP:20260421T124804
DTSTART;TZID=Europe/Berlin:20260720T080000
DTEND;TZID=Europe/Berlin:20260720T082000
UID:V83035410-20260720T080000@VHSBÖBLINGEN-SINDELFINGEN
SUMMARY:Morgenfit - bewegt in den Tag starten Morning Workout 2.0 (V83035410) 
LOCATION:Online vhs, edudip, Online vhs
END:VEVENT
BEGIN:VEVENT
DTSTAMP:20260421T124804
DTSTART;TZID=Europe/Berlin:20260722T080000
DTEND;TZID=Europe/Berlin:20260722T082000
UID:V83035410-20260722T080000@VHSBÖBLINGEN-SINDELFINGEN
SUMMARY:Morgenfit - bewegt in den Tag starten Morning Workout 2.0 (V83035410) 
LOCATION:Online vhs, edudip, Online vhs
END:VEVENT
BEGIN:VEVENT
DTSTAMP:20260421T124804
DTSTART;TZID=Europe/Berlin:20260724T080000
DTEND;TZID=Europe/Berlin:20260724T082000
UID:V83035410-20260724T080000@VHSBÖBLINGEN-SINDELFINGEN
SUMMARY:Morgenfit - bewegt in den Tag starten Morning Workout 2.0 (V83035410) 
LOCATION:Online vhs, edudip, Online vhs
END:VEVENT
BEGIN:VEVENT
DTSTAMP:20260421T124804
DTSTART;TZID=Europe/Berlin:20260726T090000
DTEND;TZID=Europe/Berlin:20260726T093000
UID:V83035410-20260726T090000@VHSBÖBLINGEN-SINDELFINGEN
SUMMARY:Morgenfit - bewegt in den Tag starten Morning Workout 2.0 (V83035410) 
LOCATION:Online vhs, edudip, Online vhs
END:VEVENT
BEGIN:VEVENT
DTSTAMP:20260421T124804
DTSTART;TZID=Europe/Berlin:20260727T080000
DTEND;TZID=Europe/Berlin:20260727T082000
UID:V83035410-20260727T080000@VHSBÖBLINGEN-SINDELFINGEN
SUMMARY:Morgenfit - bewegt in den Tag starten Morning Workout 2.0 (V83035410) 
LOCATION:Online vhs, edudip, Online vhs
END:VEVENT
BEGIN:VEVENT
DTSTAMP:20260421T124804
DTSTART;TZID=Europe/Berlin:20260729T080000
DTEND;TZID=Europe/Berlin:20260729T082000
UID:V83035410-20260729T080000@VHSBÖBLINGEN-SINDELFINGEN
SUMMARY:Morgenfit - bewegt in den Tag starten Morning Workout 2.0 (V83035410) 
LOCATION:Online vhs, edudip, Online vhs
END:VEVENT
BEGIN:VEVENT
DTSTAMP:20260421T124804
DTSTART;TZID=Europe/Berlin:20260731T080000
DTEND;TZID=Europe/Berlin:20260731T082000
UID:V83035410-20260731T080000@VHSBÖBLINGEN-SINDELFINGEN
SUMMARY:Morgenfit - bewegt in den Tag starten Morning Workout 2.0 (V83035410) 
LOCATION:Online vhs, edudip, Online vhs
END:VEVENT
END:VCALENDAR