BEGIN:VCALENDAR
VERSION:2.0
PRODID:https://www.kufer.de/kuferweb / DE
METHOD:PUBLISH
CALSCALE:GREGORIAN
X-WR-TIMEZONE:Europe/Berlin
BEGIN:VTIMEZONE
TZID:Europe/Berlin
X-LIC-LOCATION:Europe/Berlin
BEGIN:DAYLIGHT
TZOFFSETFROM:+0100
TZOFFSETTO:+0200
TZNAME:CEST
DTSTART:19700329T020000
RRULE:FREQ=YEARLY;INTERVAL=1;BYDAY=-1SU;BYMONTH=3
END:DAYLIGHT
BEGIN:STANDARD
TZOFFSETFROM:+0200
TZOFFSETTO:+0100
TZNAME:CET
DTSTART:19701025T030000
RRULE:FREQ=YEARLY;INTERVAL=1;BYDAY=-1SU;BYMONTH=10
END:STANDARD
END:VTIMEZONE
BEGIN:VEVENT
DTSTAMP:20260420T191839
DTSTART;TZID=Europe/Berlin:20260601T080000
DTEND;TZID=Europe/Berlin:20260601T082000
UID:V83035310-20260601T080000@VHSBÖBLINGEN-SINDELFINGEN
SUMMARY:Morgenfit - bewegt in den Tag starten Morning Workout 2.0 (V83035310) 
LOCATION:Online vhs, edudip, Online vhs
END:VEVENT
BEGIN:VEVENT
DTSTAMP:20260420T191839
DTSTART;TZID=Europe/Berlin:20260603T080000
DTEND;TZID=Europe/Berlin:20260603T082000
UID:V83035310-20260603T080000@VHSBÖBLINGEN-SINDELFINGEN
SUMMARY:Morgenfit - bewegt in den Tag starten Morning Workout 2.0 (V83035310) 
LOCATION:Online vhs, edudip, Online vhs
END:VEVENT
BEGIN:VEVENT
DTSTAMP:20260420T191839
DTSTART;TZID=Europe/Berlin:20260605T080000
DTEND;TZID=Europe/Berlin:20260605T082000
UID:V83035310-20260605T080000@VHSBÖBLINGEN-SINDELFINGEN
SUMMARY:Morgenfit - bewegt in den Tag starten Morning Workout 2.0 (V83035310) 
LOCATION:Online vhs, edudip, Online vhs
END:VEVENT
BEGIN:VEVENT
DTSTAMP:20260420T191839
DTSTART;TZID=Europe/Berlin:20260607T090000
DTEND;TZID=Europe/Berlin:20260607T093000
UID:V83035310-20260607T090000@VHSBÖBLINGEN-SINDELFINGEN
SUMMARY:Morgenfit - bewegt in den Tag starten Morning Workout 2.0 (V83035310) 
LOCATION:Online vhs, edudip, Online vhs
END:VEVENT
BEGIN:VEVENT
DTSTAMP:20260420T191839
DTSTART;TZID=Europe/Berlin:20260608T080000
DTEND;TZID=Europe/Berlin:20260608T082000
UID:V83035310-20260608T080000@VHSBÖBLINGEN-SINDELFINGEN
SUMMARY:Morgenfit - bewegt in den Tag starten Morning Workout 2.0 (V83035310) 
LOCATION:Online vhs, edudip, Online vhs
END:VEVENT
BEGIN:VEVENT
DTSTAMP:20260420T191839
DTSTART;TZID=Europe/Berlin:20260610T080000
DTEND;TZID=Europe/Berlin:20260610T082000
UID:V83035310-20260610T080000@VHSBÖBLINGEN-SINDELFINGEN
SUMMARY:Morgenfit - bewegt in den Tag starten Morning Workout 2.0 (V83035310) 
LOCATION:Online vhs, edudip, Online vhs
END:VEVENT
BEGIN:VEVENT
DTSTAMP:20260420T191839
DTSTART;TZID=Europe/Berlin:20260612T080000
DTEND;TZID=Europe/Berlin:20260612T082000
UID:V83035310-20260612T080000@VHSBÖBLINGEN-SINDELFINGEN
SUMMARY:Morgenfit - bewegt in den Tag starten Morning Workout 2.0 (V83035310) 
LOCATION:Online vhs, edudip, Online vhs
END:VEVENT
BEGIN:VEVENT
DTSTAMP:20260420T191839
DTSTART;TZID=Europe/Berlin:20260614T090000
DTEND;TZID=Europe/Berlin:20260614T093000
UID:V83035310-20260614T090000@VHSBÖBLINGEN-SINDELFINGEN
SUMMARY:Morgenfit - bewegt in den Tag starten Morning Workout 2.0 (V83035310) 
LOCATION:Online vhs, edudip, Online vhs
END:VEVENT
BEGIN:VEVENT
DTSTAMP:20260420T191839
DTSTART;TZID=Europe/Berlin:20260615T080000
DTEND;TZID=Europe/Berlin:20260615T082000
UID:V83035310-20260615T080000@VHSBÖBLINGEN-SINDELFINGEN
SUMMARY:Morgenfit - bewegt in den Tag starten Morning Workout 2.0 (V83035310) 
LOCATION:Online vhs, edudip, Online vhs
END:VEVENT
BEGIN:VEVENT
DTSTAMP:20260420T191839
DTSTART;TZID=Europe/Berlin:20260617T080000
DTEND;TZID=Europe/Berlin:20260617T082000
UID:V83035310-20260617T080000@VHSBÖBLINGEN-SINDELFINGEN
SUMMARY:Morgenfit - bewegt in den Tag starten Morning Workout 2.0 (V83035310) 
LOCATION:Online vhs, edudip, Online vhs
END:VEVENT
BEGIN:VEVENT
DTSTAMP:20260420T191839
DTSTART;TZID=Europe/Berlin:20260619T080000
DTEND;TZID=Europe/Berlin:20260619T082000
UID:V83035310-20260619T080000@VHSBÖBLINGEN-SINDELFINGEN
SUMMARY:Morgenfit - bewegt in den Tag starten Morning Workout 2.0 (V83035310) 
LOCATION:Online vhs, edudip, Online vhs
END:VEVENT
BEGIN:VEVENT
DTSTAMP:20260420T191839
DTSTART;TZID=Europe/Berlin:20260621T090000
DTEND;TZID=Europe/Berlin:20260621T093000
UID:V83035310-20260621T090000@VHSBÖBLINGEN-SINDELFINGEN
SUMMARY:Morgenfit - bewegt in den Tag starten Morning Workout 2.0 (V83035310) 
LOCATION:Online vhs, edudip, Online vhs
END:VEVENT
BEGIN:VEVENT
DTSTAMP:20260420T191839
DTSTART;TZID=Europe/Berlin:20260622T080000
DTEND;TZID=Europe/Berlin:20260622T082000
UID:V83035310-20260622T080000@VHSBÖBLINGEN-SINDELFINGEN
SUMMARY:Morgenfit - bewegt in den Tag starten Morning Workout 2.0 (V83035310) 
LOCATION:Online vhs, edudip, Online vhs
END:VEVENT
BEGIN:VEVENT
DTSTAMP:20260420T191839
DTSTART;TZID=Europe/Berlin:20260624T080000
DTEND;TZID=Europe/Berlin:20260624T082000
UID:V83035310-20260624T080000@VHSBÖBLINGEN-SINDELFINGEN
SUMMARY:Morgenfit - bewegt in den Tag starten Morning Workout 2.0 (V83035310) 
LOCATION:Online vhs, edudip, Online vhs
END:VEVENT
BEGIN:VEVENT
DTSTAMP:20260420T191839
DTSTART;TZID=Europe/Berlin:20260626T080000
DTEND;TZID=Europe/Berlin:20260626T082000
UID:V83035310-20260626T080000@VHSBÖBLINGEN-SINDELFINGEN
SUMMARY:Morgenfit - bewegt in den Tag starten Morning Workout 2.0 (V83035310) 
LOCATION:Online vhs, edudip, Online vhs
END:VEVENT
BEGIN:VEVENT
DTSTAMP:20260420T191839
DTSTART;TZID=Europe/Berlin:20260628T090000
DTEND;TZID=Europe/Berlin:20260628T093000
UID:V83035310-20260628T090000@VHSBÖBLINGEN-SINDELFINGEN
SUMMARY:Morgenfit - bewegt in den Tag starten Morning Workout 2.0 (V83035310) 
LOCATION:Online vhs, edudip, Online vhs
END:VEVENT
BEGIN:VEVENT
DTSTAMP:20260420T191839
DTSTART;TZID=Europe/Berlin:20260629T080000
DTEND;TZID=Europe/Berlin:20260629T082000
UID:V83035310-20260629T080000@VHSBÖBLINGEN-SINDELFINGEN
SUMMARY:Morgenfit - bewegt in den Tag starten Morning Workout 2.0 (V83035310) 
LOCATION:Online vhs, edudip, Online vhs
END:VEVENT
END:VCALENDAR