BEGIN:VCALENDAR
VERSION:2.0
PRODID:https://www.kufer.de/kuferweb / DE
METHOD:PUBLISH
CALSCALE:GREGORIAN
X-WR-TIMEZONE:Europe/Berlin
BEGIN:VTIMEZONE
TZID:Europe/Berlin
X-LIC-LOCATION:Europe/Berlin
BEGIN:DAYLIGHT
TZOFFSETFROM:+0100
TZOFFSETTO:+0200
TZNAME:CEST
DTSTART:19700329T020000
RRULE:FREQ=YEARLY;INTERVAL=1;BYDAY=-1SU;BYMONTH=3
END:DAYLIGHT
BEGIN:STANDARD
TZOFFSETFROM:+0200
TZOFFSETTO:+0100
TZNAME:CET
DTSTART:19701025T030000
RRULE:FREQ=YEARLY;INTERVAL=1;BYDAY=-1SU;BYMONTH=10
END:STANDARD
END:VTIMEZONE
BEGIN:VEVENT
DTSTAMP:20260421T134520
DTSTART;TZID=Europe/Berlin:20260501T080000
DTEND;TZID=Europe/Berlin:20260501T082000
UID:V83035210-20260501T080000@VHSBÖBLINGEN-SINDELFINGEN
SUMMARY:Morgenfit - bewegt in den Tag starten Morning Workout 2.0 (V83035210) 
LOCATION:Online vhs, edudip, Online vhs
END:VEVENT
BEGIN:VEVENT
DTSTAMP:20260421T134520
DTSTART;TZID=Europe/Berlin:20260503T090000
DTEND;TZID=Europe/Berlin:20260503T093000
UID:V83035210-20260503T090000@VHSBÖBLINGEN-SINDELFINGEN
SUMMARY:Morgenfit - bewegt in den Tag starten Morning Workout 2.0 (V83035210) 
LOCATION:Online vhs, edudip, Online vhs
END:VEVENT
BEGIN:VEVENT
DTSTAMP:20260421T134520
DTSTART;TZID=Europe/Berlin:20260504T080000
DTEND;TZID=Europe/Berlin:20260504T082000
UID:V83035210-20260504T080000@VHSBÖBLINGEN-SINDELFINGEN
SUMMARY:Morgenfit - bewegt in den Tag starten Morning Workout 2.0 (V83035210) 
LOCATION:Online vhs, edudip, Online vhs
END:VEVENT
BEGIN:VEVENT
DTSTAMP:20260421T134520
DTSTART;TZID=Europe/Berlin:20260506T080000
DTEND;TZID=Europe/Berlin:20260506T082000
UID:V83035210-20260506T080000@VHSBÖBLINGEN-SINDELFINGEN
SUMMARY:Morgenfit - bewegt in den Tag starten Morning Workout 2.0 (V83035210) 
LOCATION:Online vhs, edudip, Online vhs
END:VEVENT
BEGIN:VEVENT
DTSTAMP:20260421T134520
DTSTART;TZID=Europe/Berlin:20260508T080000
DTEND;TZID=Europe/Berlin:20260508T082000
UID:V83035210-20260508T080000@VHSBÖBLINGEN-SINDELFINGEN
SUMMARY:Morgenfit - bewegt in den Tag starten Morning Workout 2.0 (V83035210) 
LOCATION:Online vhs, edudip, Online vhs
END:VEVENT
BEGIN:VEVENT
DTSTAMP:20260421T134520
DTSTART;TZID=Europe/Berlin:20260510T090000
DTEND;TZID=Europe/Berlin:20260510T093000
UID:V83035210-20260510T090000@VHSBÖBLINGEN-SINDELFINGEN
SUMMARY:Morgenfit - bewegt in den Tag starten Morning Workout 2.0 (V83035210) 
LOCATION:Online vhs, edudip, Online vhs
END:VEVENT
BEGIN:VEVENT
DTSTAMP:20260421T134520
DTSTART;TZID=Europe/Berlin:20260511T080000
DTEND;TZID=Europe/Berlin:20260511T082000
UID:V83035210-20260511T080000@VHSBÖBLINGEN-SINDELFINGEN
SUMMARY:Morgenfit - bewegt in den Tag starten Morning Workout 2.0 (V83035210) 
LOCATION:Online vhs, edudip, Online vhs
END:VEVENT
BEGIN:VEVENT
DTSTAMP:20260421T134520
DTSTART;TZID=Europe/Berlin:20260513T080000
DTEND;TZID=Europe/Berlin:20260513T082000
UID:V83035210-20260513T080000@VHSBÖBLINGEN-SINDELFINGEN
SUMMARY:Morgenfit - bewegt in den Tag starten Morning Workout 2.0 (V83035210) 
LOCATION:Online vhs, edudip, Online vhs
END:VEVENT
BEGIN:VEVENT
DTSTAMP:20260421T134520
DTSTART;TZID=Europe/Berlin:20260515T080000
DTEND;TZID=Europe/Berlin:20260515T082000
UID:V83035210-20260515T080000@VHSBÖBLINGEN-SINDELFINGEN
SUMMARY:Morgenfit - bewegt in den Tag starten Morning Workout 2.0 (V83035210) 
LOCATION:Online vhs, edudip, Online vhs
END:VEVENT
BEGIN:VEVENT
DTSTAMP:20260421T134520
DTSTART;TZID=Europe/Berlin:20260517T090000
DTEND;TZID=Europe/Berlin:20260517T093000
UID:V83035210-20260517T090000@VHSBÖBLINGEN-SINDELFINGEN
SUMMARY:Morgenfit - bewegt in den Tag starten Morning Workout 2.0 (V83035210) 
LOCATION:Online vhs, edudip, Online vhs
END:VEVENT
BEGIN:VEVENT
DTSTAMP:20260421T134520
DTSTART;TZID=Europe/Berlin:20260518T080000
DTEND;TZID=Europe/Berlin:20260518T082000
UID:V83035210-20260518T080000@VHSBÖBLINGEN-SINDELFINGEN
SUMMARY:Morgenfit - bewegt in den Tag starten Morning Workout 2.0 (V83035210) 
LOCATION:Online vhs, edudip, Online vhs
END:VEVENT
BEGIN:VEVENT
DTSTAMP:20260421T134520
DTSTART;TZID=Europe/Berlin:20260520T080000
DTEND;TZID=Europe/Berlin:20260520T082000
UID:V83035210-20260520T080000@VHSBÖBLINGEN-SINDELFINGEN
SUMMARY:Morgenfit - bewegt in den Tag starten Morning Workout 2.0 (V83035210) 
LOCATION:Online vhs, edudip, Online vhs
END:VEVENT
BEGIN:VEVENT
DTSTAMP:20260421T134520
DTSTART;TZID=Europe/Berlin:20260522T080000
DTEND;TZID=Europe/Berlin:20260522T082000
UID:V83035210-20260522T080000@VHSBÖBLINGEN-SINDELFINGEN
SUMMARY:Morgenfit - bewegt in den Tag starten Morning Workout 2.0 (V83035210) 
LOCATION:Online vhs, edudip, Online vhs
END:VEVENT
BEGIN:VEVENT
DTSTAMP:20260421T134520
DTSTART;TZID=Europe/Berlin:20260524T090000
DTEND;TZID=Europe/Berlin:20260524T093000
UID:V83035210-20260524T090000@VHSBÖBLINGEN-SINDELFINGEN
SUMMARY:Morgenfit - bewegt in den Tag starten Morning Workout 2.0 (V83035210) 
LOCATION:Online vhs, edudip, Online vhs
END:VEVENT
BEGIN:VEVENT
DTSTAMP:20260421T134520
DTSTART;TZID=Europe/Berlin:20260525T080000
DTEND;TZID=Europe/Berlin:20260525T082000
UID:V83035210-20260525T080000@VHSBÖBLINGEN-SINDELFINGEN
SUMMARY:Morgenfit - bewegt in den Tag starten Morning Workout 2.0 (V83035210) 
LOCATION:Online vhs, edudip, Online vhs
END:VEVENT
BEGIN:VEVENT
DTSTAMP:20260421T134520
DTSTART;TZID=Europe/Berlin:20260527T080000
DTEND;TZID=Europe/Berlin:20260527T082000
UID:V83035210-20260527T080000@VHSBÖBLINGEN-SINDELFINGEN
SUMMARY:Morgenfit - bewegt in den Tag starten Morning Workout 2.0 (V83035210) 
LOCATION:Online vhs, edudip, Online vhs
END:VEVENT
BEGIN:VEVENT
DTSTAMP:20260421T134520
DTSTART;TZID=Europe/Berlin:20260529T080000
DTEND;TZID=Europe/Berlin:20260529T082000
UID:V83035210-20260529T080000@VHSBÖBLINGEN-SINDELFINGEN
SUMMARY:Morgenfit - bewegt in den Tag starten Morning Workout 2.0 (V83035210) 
LOCATION:Online vhs, edudip, Online vhs
END:VEVENT
BEGIN:VEVENT
DTSTAMP:20260421T134520
DTSTART;TZID=Europe/Berlin:20260531T090000
DTEND;TZID=Europe/Berlin:20260531T093000
UID:V83035210-20260531T090000@VHSBÖBLINGEN-SINDELFINGEN
SUMMARY:Morgenfit - bewegt in den Tag starten Morning Workout 2.0 (V83035210) 
LOCATION:Online vhs, edudip, Online vhs
END:VEVENT
END:VCALENDAR