BEGIN:VCALENDAR
VERSION:2.0
PRODID:https://www.kufer.de/kuferweb / DE
METHOD:PUBLISH
CALSCALE:GREGORIAN
X-WR-TIMEZONE:Europe/Berlin
BEGIN:VTIMEZONE
TZID:Europe/Berlin
X-LIC-LOCATION:Europe/Berlin
BEGIN:DAYLIGHT
TZOFFSETFROM:+0100
TZOFFSETTO:+0200
TZNAME:CEST
DTSTART:19700329T020000
RRULE:FREQ=YEARLY;INTERVAL=1;BYDAY=-1SU;BYMONTH=3
END:DAYLIGHT
BEGIN:STANDARD
TZOFFSETFROM:+0200
TZOFFSETTO:+0100
TZNAME:CET
DTSTART:19701025T030000
RRULE:FREQ=YEARLY;INTERVAL=1;BYDAY=-1SU;BYMONTH=10
END:STANDARD
END:VTIMEZONE
BEGIN:VEVENT
DTSTAMP:20260420T175502
DTSTART;TZID=Europe/Berlin:20260408T080000
DTEND;TZID=Europe/Berlin:20260408T082000
UID:V83035110-20260408T080000@VHSBÖBLINGEN-SINDELFINGEN
SUMMARY:Morgenfit - bewegt in den Tag starten Morning Workout 2.0 (V83035110) 
LOCATION:Online vhs, edudip, Online vhs
END:VEVENT
BEGIN:VEVENT
DTSTAMP:20260420T175502
DTSTART;TZID=Europe/Berlin:20260410T080000
DTEND;TZID=Europe/Berlin:20260410T082000
UID:V83035110-20260410T080000@VHSBÖBLINGEN-SINDELFINGEN
SUMMARY:Morgenfit - bewegt in den Tag starten Morning Workout 2.0 (V83035110) 
LOCATION:Online vhs, edudip, Online vhs
END:VEVENT
BEGIN:VEVENT
DTSTAMP:20260420T175502
DTSTART;TZID=Europe/Berlin:20260412T090000
DTEND;TZID=Europe/Berlin:20260412T093000
UID:V83035110-20260412T090000@VHSBÖBLINGEN-SINDELFINGEN
SUMMARY:Morgenfit - bewegt in den Tag starten Morning Workout 2.0 (V83035110) 
LOCATION:Online vhs, edudip, Online vhs
END:VEVENT
BEGIN:VEVENT
DTSTAMP:20260420T175502
DTSTART;TZID=Europe/Berlin:20260413T080000
DTEND;TZID=Europe/Berlin:20260413T082000
UID:V83035110-20260413T080000@VHSBÖBLINGEN-SINDELFINGEN
SUMMARY:Morgenfit - bewegt in den Tag starten Morning Workout 2.0 (V83035110) 
LOCATION:Online vhs, edudip, Online vhs
END:VEVENT
BEGIN:VEVENT
DTSTAMP:20260420T175502
DTSTART;TZID=Europe/Berlin:20260415T080000
DTEND;TZID=Europe/Berlin:20260415T082000
UID:V83035110-20260415T080000@VHSBÖBLINGEN-SINDELFINGEN
SUMMARY:Morgenfit - bewegt in den Tag starten Morning Workout 2.0 (V83035110) 
LOCATION:Online vhs, edudip, Online vhs
END:VEVENT
BEGIN:VEVENT
DTSTAMP:20260420T175502
DTSTART;TZID=Europe/Berlin:20260417T080000
DTEND;TZID=Europe/Berlin:20260417T082000
UID:V83035110-20260417T080000@VHSBÖBLINGEN-SINDELFINGEN
SUMMARY:Morgenfit - bewegt in den Tag starten Morning Workout 2.0 (V83035110) 
LOCATION:Online vhs, edudip, Online vhs
END:VEVENT
BEGIN:VEVENT
DTSTAMP:20260420T175502
DTSTART;TZID=Europe/Berlin:20260419T090000
DTEND;TZID=Europe/Berlin:20260419T093000
UID:V83035110-20260419T090000@VHSBÖBLINGEN-SINDELFINGEN
SUMMARY:Morgenfit - bewegt in den Tag starten Morning Workout 2.0 (V83035110) 
LOCATION:Online vhs, edudip, Online vhs
END:VEVENT
BEGIN:VEVENT
DTSTAMP:20260420T175502
DTSTART;TZID=Europe/Berlin:20260420T080000
DTEND;TZID=Europe/Berlin:20260420T082000
UID:V83035110-20260420T080000@VHSBÖBLINGEN-SINDELFINGEN
SUMMARY:Morgenfit - bewegt in den Tag starten Morning Workout 2.0 (V83035110) 
LOCATION:Online vhs, edudip, Online vhs
END:VEVENT
BEGIN:VEVENT
DTSTAMP:20260420T175502
DTSTART;TZID=Europe/Berlin:20260422T080000
DTEND;TZID=Europe/Berlin:20260422T082000
UID:V83035110-20260422T080000@VHSBÖBLINGEN-SINDELFINGEN
SUMMARY:Morgenfit - bewegt in den Tag starten Morning Workout 2.0 (V83035110) 
LOCATION:Online vhs, edudip, Online vhs
END:VEVENT
BEGIN:VEVENT
DTSTAMP:20260420T175502
DTSTART;TZID=Europe/Berlin:20260424T080000
DTEND;TZID=Europe/Berlin:20260424T082000
UID:V83035110-20260424T080000@VHSBÖBLINGEN-SINDELFINGEN
SUMMARY:Morgenfit - bewegt in den Tag starten Morning Workout 2.0 (V83035110) 
LOCATION:Online vhs, edudip, Online vhs
END:VEVENT
BEGIN:VEVENT
DTSTAMP:20260420T175502
DTSTART;TZID=Europe/Berlin:20260426T090000
DTEND;TZID=Europe/Berlin:20260426T093000
UID:V83035110-20260426T090000@VHSBÖBLINGEN-SINDELFINGEN
SUMMARY:Morgenfit - bewegt in den Tag starten Morning Workout 2.0 (V83035110) 
LOCATION:Online vhs, edudip, Online vhs
END:VEVENT
BEGIN:VEVENT
DTSTAMP:20260420T175502
DTSTART;TZID=Europe/Berlin:20260427T080000
DTEND;TZID=Europe/Berlin:20260427T082000
UID:V83035110-20260427T080000@VHSBÖBLINGEN-SINDELFINGEN
SUMMARY:Morgenfit - bewegt in den Tag starten Morning Workout 2.0 (V83035110) 
LOCATION:Online vhs, edudip, Online vhs
END:VEVENT
BEGIN:VEVENT
DTSTAMP:20260420T175502
DTSTART;TZID=Europe/Berlin:20260429T080000
DTEND;TZID=Europe/Berlin:20260429T082000
UID:V83035110-20260429T080000@VHSBÖBLINGEN-SINDELFINGEN
SUMMARY:Morgenfit - bewegt in den Tag starten Morning Workout 2.0 (V83035110) 
LOCATION:Online vhs, edudip, Online vhs
END:VEVENT
END:VCALENDAR