BEGIN:VCALENDAR
VERSION:2.0
PRODID:https://www.kufer.de/kuferweb / DE
METHOD:PUBLISH
CALSCALE:GREGORIAN
X-WR-TIMEZONE:Europe/Berlin
BEGIN:VTIMEZONE
TZID:Europe/Berlin
X-LIC-LOCATION:Europe/Berlin
BEGIN:DAYLIGHT
TZOFFSETFROM:+0100
TZOFFSETTO:+0200
TZNAME:CEST
DTSTART:19700329T020000
RRULE:FREQ=YEARLY;INTERVAL=1;BYDAY=-1SU;BYMONTH=3
END:DAYLIGHT
BEGIN:STANDARD
TZOFFSETFROM:+0200
TZOFFSETTO:+0100
TZNAME:CET
DTSTART:19701025T030000
RRULE:FREQ=YEARLY;INTERVAL=1;BYDAY=-1SU;BYMONTH=10
END:STANDARD
END:VTIMEZONE
BEGIN:VEVENT
DTSTAMP:20260420T192122
DTSTART;TZID=Europe/Berlin:20260401T190000
DTEND;TZID=Europe/Berlin:20260401T194500
UID:V83033110-20260401T190000@VHSBÖBLINGEN-SINDELFINGEN
SUMMARY:Pilates auf dem Stuhl (V83033110) 
LOCATION:Online vhs, edudip, Online vhs
END:VEVENT
BEGIN:VEVENT
DTSTAMP:20260420T192122
DTSTART;TZID=Europe/Berlin:20260408T190000
DTEND;TZID=Europe/Berlin:20260408T194500
UID:V83033110-20260408T190000@VHSBÖBLINGEN-SINDELFINGEN
SUMMARY:Pilates auf dem Stuhl (V83033110) 
LOCATION:Online vhs, edudip, Online vhs
END:VEVENT
BEGIN:VEVENT
DTSTAMP:20260420T192122
DTSTART;TZID=Europe/Berlin:20260415T190000
DTEND;TZID=Europe/Berlin:20260415T194500
UID:V83033110-20260415T190000@VHSBÖBLINGEN-SINDELFINGEN
SUMMARY:Pilates auf dem Stuhl (V83033110) 
LOCATION:Online vhs, edudip, Online vhs
END:VEVENT
BEGIN:VEVENT
DTSTAMP:20260420T192122
DTSTART;TZID=Europe/Berlin:20260422T190000
DTEND;TZID=Europe/Berlin:20260422T194500
UID:V83033110-20260422T190000@VHSBÖBLINGEN-SINDELFINGEN
SUMMARY:Pilates auf dem Stuhl (V83033110) 
LOCATION:Online vhs, edudip, Online vhs
END:VEVENT
BEGIN:VEVENT
DTSTAMP:20260420T192122
DTSTART;TZID=Europe/Berlin:20260429T190000
DTEND;TZID=Europe/Berlin:20260429T194500
UID:V83033110-20260429T190000@VHSBÖBLINGEN-SINDELFINGEN
SUMMARY:Pilates auf dem Stuhl (V83033110) 
LOCATION:Online vhs, edudip, Online vhs
END:VEVENT
END:VCALENDAR