BEGIN:VCALENDAR
VERSION:2.0
PRODID:https://www.kufer.de/kuferweb / DE
METHOD:PUBLISH
CALSCALE:GREGORIAN
X-WR-TIMEZONE:Europe/Berlin
BEGIN:VTIMEZONE
TZID:Europe/Berlin
X-LIC-LOCATION:Europe/Berlin
BEGIN:DAYLIGHT
TZOFFSETFROM:+0100
TZOFFSETTO:+0200
TZNAME:CEST
DTSTART:19700329T020000
RRULE:FREQ=YEARLY;INTERVAL=1;BYDAY=-1SU;BYMONTH=3
END:DAYLIGHT
BEGIN:STANDARD
TZOFFSETFROM:+0200
TZOFFSETTO:+0100
TZNAME:CET
DTSTART:19701025T030000
RRULE:FREQ=YEARLY;INTERVAL=1;BYDAY=-1SU;BYMONTH=10
END:STANDARD
END:VTIMEZONE
BEGIN:VEVENT
DTSTAMP:20260421T021509
DTSTART;TZID=Europe/Berlin:20260302T100000
DTEND;TZID=Europe/Berlin:20260302T104500
UID:V83032610-20260302T100000@VHSBÖBLINGEN-SINDELFINGEN
SUMMARY:Yoga auf dem Stuhl (V83032610) 
LOCATION:Online vhs, edudip, Online vhs
END:VEVENT
BEGIN:VEVENT
DTSTAMP:20260421T021509
DTSTART;TZID=Europe/Berlin:20260309T100000
DTEND;TZID=Europe/Berlin:20260309T104500
UID:V83032610-20260309T100000@VHSBÖBLINGEN-SINDELFINGEN
SUMMARY:Yoga auf dem Stuhl (V83032610) 
LOCATION:Online vhs, edudip, Online vhs
END:VEVENT
BEGIN:VEVENT
DTSTAMP:20260421T021509
DTSTART;TZID=Europe/Berlin:20260316T100000
DTEND;TZID=Europe/Berlin:20260316T104500
UID:V83032610-20260316T100000@VHSBÖBLINGEN-SINDELFINGEN
SUMMARY:Yoga auf dem Stuhl (V83032610) 
LOCATION:Online vhs, edudip, Online vhs
END:VEVENT
BEGIN:VEVENT
DTSTAMP:20260421T021509
DTSTART;TZID=Europe/Berlin:20260323T100000
DTEND;TZID=Europe/Berlin:20260323T104500
UID:V83032610-20260323T100000@VHSBÖBLINGEN-SINDELFINGEN
SUMMARY:Yoga auf dem Stuhl (V83032610) 
LOCATION:Online vhs, edudip, Online vhs
END:VEVENT
BEGIN:VEVENT
DTSTAMP:20260421T021509
DTSTART;TZID=Europe/Berlin:20260330T100000
DTEND;TZID=Europe/Berlin:20260330T104500
UID:V83032610-20260330T100000@VHSBÖBLINGEN-SINDELFINGEN
SUMMARY:Yoga auf dem Stuhl (V83032610) 
LOCATION:Online vhs, edudip, Online vhs
END:VEVENT
END:VCALENDAR