BEGIN:VCALENDAR
VERSION:2.0
PRODID:https://www.kufer.de/kuferweb / DE
METHOD:PUBLISH
CALSCALE:GREGORIAN
X-WR-TIMEZONE:Europe/Berlin
BEGIN:VTIMEZONE
TZID:Europe/Berlin
X-LIC-LOCATION:Europe/Berlin
BEGIN:DAYLIGHT
TZOFFSETFROM:+0100
TZOFFSETTO:+0200
TZNAME:CEST
DTSTART:19700329T020000
RRULE:FREQ=YEARLY;INTERVAL=1;BYDAY=-1SU;BYMONTH=3
END:DAYLIGHT
BEGIN:STANDARD
TZOFFSETFROM:+0200
TZOFFSETTO:+0100
TZNAME:CET
DTSTART:19701025T030000
RRULE:FREQ=YEARLY;INTERVAL=1;BYDAY=-1SU;BYMONTH=10
END:STANDARD
END:VTIMEZONE
BEGIN:VEVENT
DTSTAMP:20260421T080211
DTSTART;TZID=Europe/Berlin:20260803T120000
DTEND;TZID=Europe/Berlin:20260803T121500
UID:V83029510-20260803T120000@VHSBÖBLINGEN-SINDELFINGEN
SUMMARY:Augen-Gymnastik- Das 15 Minuten Programm in der Mittagspause (V83029510) 
LOCATION:Online vhs, edudip, Online vhs
END:VEVENT
BEGIN:VEVENT
DTSTAMP:20260421T080211
DTSTART;TZID=Europe/Berlin:20260805T120000
DTEND;TZID=Europe/Berlin:20260805T121500
UID:V83029510-20260805T120000@VHSBÖBLINGEN-SINDELFINGEN
SUMMARY:Augen-Gymnastik- Das 15 Minuten Programm in der Mittagspause (V83029510) 
LOCATION:Online vhs, edudip, Online vhs
END:VEVENT
BEGIN:VEVENT
DTSTAMP:20260421T080211
DTSTART;TZID=Europe/Berlin:20260810T120000
DTEND;TZID=Europe/Berlin:20260810T121500
UID:V83029510-20260810T120000@VHSBÖBLINGEN-SINDELFINGEN
SUMMARY:Augen-Gymnastik- Das 15 Minuten Programm in der Mittagspause (V83029510) 
LOCATION:Online vhs, edudip, Online vhs
END:VEVENT
BEGIN:VEVENT
DTSTAMP:20260421T080211
DTSTART;TZID=Europe/Berlin:20260812T120000
DTEND;TZID=Europe/Berlin:20260812T121500
UID:V83029510-20260812T120000@VHSBÖBLINGEN-SINDELFINGEN
SUMMARY:Augen-Gymnastik- Das 15 Minuten Programm in der Mittagspause (V83029510) 
LOCATION:Online vhs, edudip, Online vhs
END:VEVENT
BEGIN:VEVENT
DTSTAMP:20260421T080211
DTSTART;TZID=Europe/Berlin:20260817T120000
DTEND;TZID=Europe/Berlin:20260817T121500
UID:V83029510-20260817T120000@VHSBÖBLINGEN-SINDELFINGEN
SUMMARY:Augen-Gymnastik- Das 15 Minuten Programm in der Mittagspause (V83029510) 
LOCATION:Online vhs, edudip, Online vhs
END:VEVENT
BEGIN:VEVENT
DTSTAMP:20260421T080211
DTSTART;TZID=Europe/Berlin:20260819T120000
DTEND;TZID=Europe/Berlin:20260819T121500
UID:V83029510-20260819T120000@VHSBÖBLINGEN-SINDELFINGEN
SUMMARY:Augen-Gymnastik- Das 15 Minuten Programm in der Mittagspause (V83029510) 
LOCATION:Online vhs, edudip, Online vhs
END:VEVENT
BEGIN:VEVENT
DTSTAMP:20260421T080211
DTSTART;TZID=Europe/Berlin:20260824T120000
DTEND;TZID=Europe/Berlin:20260824T121500
UID:V83029510-20260824T120000@VHSBÖBLINGEN-SINDELFINGEN
SUMMARY:Augen-Gymnastik- Das 15 Minuten Programm in der Mittagspause (V83029510) 
LOCATION:Online vhs, edudip, Online vhs
END:VEVENT
BEGIN:VEVENT
DTSTAMP:20260421T080211
DTSTART;TZID=Europe/Berlin:20260826T120000
DTEND;TZID=Europe/Berlin:20260826T121500
UID:V83029510-20260826T120000@VHSBÖBLINGEN-SINDELFINGEN
SUMMARY:Augen-Gymnastik- Das 15 Minuten Programm in der Mittagspause (V83029510) 
LOCATION:Online vhs, edudip, Online vhs
END:VEVENT
BEGIN:VEVENT
DTSTAMP:20260421T080211
DTSTART;TZID=Europe/Berlin:20260831T120000
DTEND;TZID=Europe/Berlin:20260831T121500
UID:V83029510-20260831T120000@VHSBÖBLINGEN-SINDELFINGEN
SUMMARY:Augen-Gymnastik- Das 15 Minuten Programm in der Mittagspause (V83029510) 
LOCATION:Online vhs, edudip, Online vhs
END:VEVENT
END:VCALENDAR