BEGIN:VCALENDAR
VERSION:2.0
PRODID:https://www.kufer.de/kuferweb / DE
METHOD:PUBLISH
CALSCALE:GREGORIAN
X-WR-TIMEZONE:Europe/Berlin
BEGIN:VTIMEZONE
TZID:Europe/Berlin
X-LIC-LOCATION:Europe/Berlin
BEGIN:DAYLIGHT
TZOFFSETFROM:+0100
TZOFFSETTO:+0200
TZNAME:CEST
DTSTART:19700329T020000
RRULE:FREQ=YEARLY;INTERVAL=1;BYDAY=-1SU;BYMONTH=3
END:DAYLIGHT
BEGIN:STANDARD
TZOFFSETFROM:+0200
TZOFFSETTO:+0100
TZNAME:CET
DTSTART:19701025T030000
RRULE:FREQ=YEARLY;INTERVAL=1;BYDAY=-1SU;BYMONTH=10
END:STANDARD
END:VTIMEZONE
BEGIN:VEVENT
DTSTAMP:20260421T200328
DTSTART;TZID=Europe/Berlin:20260701T120000
DTEND;TZID=Europe/Berlin:20260701T121500
UID:V83029410-20260701T120000@VHSBÖBLINGEN-SINDELFINGEN
SUMMARY:Augen-Gymnastik- Das 15 Minuten Programm in der Mittagspause (V83029410) 
LOCATION:Online vhs, edudip, Online vhs
END:VEVENT
BEGIN:VEVENT
DTSTAMP:20260421T200328
DTSTART;TZID=Europe/Berlin:20260706T120000
DTEND;TZID=Europe/Berlin:20260706T121500
UID:V83029410-20260706T120000@VHSBÖBLINGEN-SINDELFINGEN
SUMMARY:Augen-Gymnastik- Das 15 Minuten Programm in der Mittagspause (V83029410) 
LOCATION:Online vhs, edudip, Online vhs
END:VEVENT
BEGIN:VEVENT
DTSTAMP:20260421T200328
DTSTART;TZID=Europe/Berlin:20260708T120000
DTEND;TZID=Europe/Berlin:20260708T121500
UID:V83029410-20260708T120000@VHSBÖBLINGEN-SINDELFINGEN
SUMMARY:Augen-Gymnastik- Das 15 Minuten Programm in der Mittagspause (V83029410) 
LOCATION:Online vhs, edudip, Online vhs
END:VEVENT
BEGIN:VEVENT
DTSTAMP:20260421T200328
DTSTART;TZID=Europe/Berlin:20260713T120000
DTEND;TZID=Europe/Berlin:20260713T121500
UID:V83029410-20260713T120000@VHSBÖBLINGEN-SINDELFINGEN
SUMMARY:Augen-Gymnastik- Das 15 Minuten Programm in der Mittagspause (V83029410) 
LOCATION:Online vhs, edudip, Online vhs
END:VEVENT
BEGIN:VEVENT
DTSTAMP:20260421T200328
DTSTART;TZID=Europe/Berlin:20260715T120000
DTEND;TZID=Europe/Berlin:20260715T121500
UID:V83029410-20260715T120000@VHSBÖBLINGEN-SINDELFINGEN
SUMMARY:Augen-Gymnastik- Das 15 Minuten Programm in der Mittagspause (V83029410) 
LOCATION:Online vhs, edudip, Online vhs
END:VEVENT
BEGIN:VEVENT
DTSTAMP:20260421T200328
DTSTART;TZID=Europe/Berlin:20260720T120000
DTEND;TZID=Europe/Berlin:20260720T121500
UID:V83029410-20260720T120000@VHSBÖBLINGEN-SINDELFINGEN
SUMMARY:Augen-Gymnastik- Das 15 Minuten Programm in der Mittagspause (V83029410) 
LOCATION:Online vhs, edudip, Online vhs
END:VEVENT
BEGIN:VEVENT
DTSTAMP:20260421T200328
DTSTART;TZID=Europe/Berlin:20260722T120000
DTEND;TZID=Europe/Berlin:20260722T121500
UID:V83029410-20260722T120000@VHSBÖBLINGEN-SINDELFINGEN
SUMMARY:Augen-Gymnastik- Das 15 Minuten Programm in der Mittagspause (V83029410) 
LOCATION:Online vhs, edudip, Online vhs
END:VEVENT
BEGIN:VEVENT
DTSTAMP:20260421T200328
DTSTART;TZID=Europe/Berlin:20260727T120000
DTEND;TZID=Europe/Berlin:20260727T121500
UID:V83029410-20260727T120000@VHSBÖBLINGEN-SINDELFINGEN
SUMMARY:Augen-Gymnastik- Das 15 Minuten Programm in der Mittagspause (V83029410) 
LOCATION:Online vhs, edudip, Online vhs
END:VEVENT
BEGIN:VEVENT
DTSTAMP:20260421T200328
DTSTART;TZID=Europe/Berlin:20260729T120000
DTEND;TZID=Europe/Berlin:20260729T121500
UID:V83029410-20260729T120000@VHSBÖBLINGEN-SINDELFINGEN
SUMMARY:Augen-Gymnastik- Das 15 Minuten Programm in der Mittagspause (V83029410) 
LOCATION:Online vhs, edudip, Online vhs
END:VEVENT
END:VCALENDAR