BEGIN:VCALENDAR
VERSION:2.0
PRODID:https://www.kufer.de/kuferweb / DE
METHOD:PUBLISH
CALSCALE:GREGORIAN
X-WR-TIMEZONE:Europe/Berlin
BEGIN:VTIMEZONE
TZID:Europe/Berlin
X-LIC-LOCATION:Europe/Berlin
BEGIN:DAYLIGHT
TZOFFSETFROM:+0100
TZOFFSETTO:+0200
TZNAME:CEST
DTSTART:19700329T020000
RRULE:FREQ=YEARLY;INTERVAL=1;BYDAY=-1SU;BYMONTH=3
END:DAYLIGHT
BEGIN:STANDARD
TZOFFSETFROM:+0200
TZOFFSETTO:+0100
TZNAME:CET
DTSTART:19701025T030000
RRULE:FREQ=YEARLY;INTERVAL=1;BYDAY=-1SU;BYMONTH=10
END:STANDARD
END:VTIMEZONE
BEGIN:VEVENT
DTSTAMP:20260421T141852
DTSTART;TZID=Europe/Berlin:20260601T120000
DTEND;TZID=Europe/Berlin:20260601T121500
UID:V83029310-20260601T120000@VHSBÖBLINGEN-SINDELFINGEN
SUMMARY:Augen-Gymnastik- Das 15 Minuten Programm in der Mittagspause (V83029310) 
LOCATION:Online vhs, edudip, Online vhs
END:VEVENT
BEGIN:VEVENT
DTSTAMP:20260421T141852
DTSTART;TZID=Europe/Berlin:20260603T120000
DTEND;TZID=Europe/Berlin:20260603T121500
UID:V83029310-20260603T120000@VHSBÖBLINGEN-SINDELFINGEN
SUMMARY:Augen-Gymnastik- Das 15 Minuten Programm in der Mittagspause (V83029310) 
LOCATION:Online vhs, edudip, Online vhs
END:VEVENT
BEGIN:VEVENT
DTSTAMP:20260421T141852
DTSTART;TZID=Europe/Berlin:20260608T120000
DTEND;TZID=Europe/Berlin:20260608T121500
UID:V83029310-20260608T120000@VHSBÖBLINGEN-SINDELFINGEN
SUMMARY:Augen-Gymnastik- Das 15 Minuten Programm in der Mittagspause (V83029310) 
LOCATION:Online vhs, edudip, Online vhs
END:VEVENT
BEGIN:VEVENT
DTSTAMP:20260421T141852
DTSTART;TZID=Europe/Berlin:20260610T120000
DTEND;TZID=Europe/Berlin:20260610T121500
UID:V83029310-20260610T120000@VHSBÖBLINGEN-SINDELFINGEN
SUMMARY:Augen-Gymnastik- Das 15 Minuten Programm in der Mittagspause (V83029310) 
LOCATION:Online vhs, edudip, Online vhs
END:VEVENT
BEGIN:VEVENT
DTSTAMP:20260421T141852
DTSTART;TZID=Europe/Berlin:20260615T120000
DTEND;TZID=Europe/Berlin:20260615T121500
UID:V83029310-20260615T120000@VHSBÖBLINGEN-SINDELFINGEN
SUMMARY:Augen-Gymnastik- Das 15 Minuten Programm in der Mittagspause (V83029310) 
LOCATION:Online vhs, edudip, Online vhs
END:VEVENT
BEGIN:VEVENT
DTSTAMP:20260421T141852
DTSTART;TZID=Europe/Berlin:20260617T120000
DTEND;TZID=Europe/Berlin:20260617T121500
UID:V83029310-20260617T120000@VHSBÖBLINGEN-SINDELFINGEN
SUMMARY:Augen-Gymnastik- Das 15 Minuten Programm in der Mittagspause (V83029310) 
LOCATION:Online vhs, edudip, Online vhs
END:VEVENT
BEGIN:VEVENT
DTSTAMP:20260421T141852
DTSTART;TZID=Europe/Berlin:20260622T120000
DTEND;TZID=Europe/Berlin:20260622T121500
UID:V83029310-20260622T120000@VHSBÖBLINGEN-SINDELFINGEN
SUMMARY:Augen-Gymnastik- Das 15 Minuten Programm in der Mittagspause (V83029310) 
LOCATION:Online vhs, edudip, Online vhs
END:VEVENT
BEGIN:VEVENT
DTSTAMP:20260421T141852
DTSTART;TZID=Europe/Berlin:20260624T120000
DTEND;TZID=Europe/Berlin:20260624T121500
UID:V83029310-20260624T120000@VHSBÖBLINGEN-SINDELFINGEN
SUMMARY:Augen-Gymnastik- Das 15 Minuten Programm in der Mittagspause (V83029310) 
LOCATION:Online vhs, edudip, Online vhs
END:VEVENT
BEGIN:VEVENT
DTSTAMP:20260421T141852
DTSTART;TZID=Europe/Berlin:20260629T120000
DTEND;TZID=Europe/Berlin:20260629T121500
UID:V83029310-20260629T120000@VHSBÖBLINGEN-SINDELFINGEN
SUMMARY:Augen-Gymnastik- Das 15 Minuten Programm in der Mittagspause (V83029310) 
LOCATION:Online vhs, edudip, Online vhs
END:VEVENT
END:VCALENDAR