BEGIN:VCALENDAR
VERSION:2.0
PRODID:https://www.kufer.de/kuferweb / DE
METHOD:PUBLISH
CALSCALE:GREGORIAN
X-WR-TIMEZONE:Europe/Berlin
BEGIN:VTIMEZONE
TZID:Europe/Berlin
X-LIC-LOCATION:Europe/Berlin
BEGIN:DAYLIGHT
TZOFFSETFROM:+0100
TZOFFSETTO:+0200
TZNAME:CEST
DTSTART:19700329T020000
RRULE:FREQ=YEARLY;INTERVAL=1;BYDAY=-1SU;BYMONTH=3
END:DAYLIGHT
BEGIN:STANDARD
TZOFFSETFROM:+0200
TZOFFSETTO:+0100
TZNAME:CET
DTSTART:19701025T030000
RRULE:FREQ=YEARLY;INTERVAL=1;BYDAY=-1SU;BYMONTH=10
END:STANDARD
END:VTIMEZONE
BEGIN:VEVENT
DTSTAMP:20260422T030805
DTSTART;TZID=Europe/Berlin:20260504T120000
DTEND;TZID=Europe/Berlin:20260504T121500
UID:V83029210-20260504T120000@VHSBÖBLINGEN-SINDELFINGEN
SUMMARY:Augen-Gymnastik- Das 15 Minuten Programm in der Mittagspause (V83029210) 
LOCATION:Online vhs, edudip, Online vhs
END:VEVENT
BEGIN:VEVENT
DTSTAMP:20260422T030805
DTSTART;TZID=Europe/Berlin:20260506T120000
DTEND;TZID=Europe/Berlin:20260506T121500
UID:V83029210-20260506T120000@VHSBÖBLINGEN-SINDELFINGEN
SUMMARY:Augen-Gymnastik- Das 15 Minuten Programm in der Mittagspause (V83029210) 
LOCATION:Online vhs, edudip, Online vhs
END:VEVENT
BEGIN:VEVENT
DTSTAMP:20260422T030805
DTSTART;TZID=Europe/Berlin:20260511T120000
DTEND;TZID=Europe/Berlin:20260511T121500
UID:V83029210-20260511T120000@VHSBÖBLINGEN-SINDELFINGEN
SUMMARY:Augen-Gymnastik- Das 15 Minuten Programm in der Mittagspause (V83029210) 
LOCATION:Online vhs, edudip, Online vhs
END:VEVENT
BEGIN:VEVENT
DTSTAMP:20260422T030805
DTSTART;TZID=Europe/Berlin:20260513T120000
DTEND;TZID=Europe/Berlin:20260513T121500
UID:V83029210-20260513T120000@VHSBÖBLINGEN-SINDELFINGEN
SUMMARY:Augen-Gymnastik- Das 15 Minuten Programm in der Mittagspause (V83029210) 
LOCATION:Online vhs, edudip, Online vhs
END:VEVENT
BEGIN:VEVENT
DTSTAMP:20260422T030805
DTSTART;TZID=Europe/Berlin:20260518T120000
DTEND;TZID=Europe/Berlin:20260518T121500
UID:V83029210-20260518T120000@VHSBÖBLINGEN-SINDELFINGEN
SUMMARY:Augen-Gymnastik- Das 15 Minuten Programm in der Mittagspause (V83029210) 
LOCATION:Online vhs, edudip, Online vhs
END:VEVENT
BEGIN:VEVENT
DTSTAMP:20260422T030805
DTSTART;TZID=Europe/Berlin:20260520T120000
DTEND;TZID=Europe/Berlin:20260520T121500
UID:V83029210-20260520T120000@VHSBÖBLINGEN-SINDELFINGEN
SUMMARY:Augen-Gymnastik- Das 15 Minuten Programm in der Mittagspause (V83029210) 
LOCATION:Online vhs, edudip, Online vhs
END:VEVENT
BEGIN:VEVENT
DTSTAMP:20260422T030805
DTSTART;TZID=Europe/Berlin:20260527T120000
DTEND;TZID=Europe/Berlin:20260527T121500
UID:V83029210-20260527T120000@VHSBÖBLINGEN-SINDELFINGEN
SUMMARY:Augen-Gymnastik- Das 15 Minuten Programm in der Mittagspause (V83029210) 
LOCATION:Online vhs, edudip, Online vhs
END:VEVENT
END:VCALENDAR