BEGIN:VCALENDAR
VERSION:2.0
PRODID:https://www.kufer.de/kuferweb / DE
METHOD:PUBLISH
CALSCALE:GREGORIAN
X-WR-TIMEZONE:Europe/Berlin
BEGIN:VTIMEZONE
TZID:Europe/Berlin
X-LIC-LOCATION:Europe/Berlin
BEGIN:DAYLIGHT
TZOFFSETFROM:+0100
TZOFFSETTO:+0200
TZNAME:CEST
DTSTART:19700329T020000
RRULE:FREQ=YEARLY;INTERVAL=1;BYDAY=-1SU;BYMONTH=3
END:DAYLIGHT
BEGIN:STANDARD
TZOFFSETFROM:+0200
TZOFFSETTO:+0100
TZNAME:CET
DTSTART:19701025T030000
RRULE:FREQ=YEARLY;INTERVAL=1;BYDAY=-1SU;BYMONTH=10
END:STANDARD
END:VTIMEZONE
BEGIN:VEVENT
DTSTAMP:20260420T220519
DTSTART;TZID=Europe/Berlin:20260302T120000
DTEND;TZID=Europe/Berlin:20260302T121500
UID:V83029010-20260302T120000@VHSBÖBLINGEN-SINDELFINGEN
SUMMARY:Augen-Gymnastik- Das 15 Minuten Programm in der Mittagspause (V83029010) 
LOCATION:Online vhs, edudip, Online vhs
END:VEVENT
BEGIN:VEVENT
DTSTAMP:20260420T220519
DTSTART;TZID=Europe/Berlin:20260304T120000
DTEND;TZID=Europe/Berlin:20260304T121500
UID:V83029010-20260304T120000@VHSBÖBLINGEN-SINDELFINGEN
SUMMARY:Augen-Gymnastik- Das 15 Minuten Programm in der Mittagspause (V83029010) 
LOCATION:Online vhs, edudip, Online vhs
END:VEVENT
BEGIN:VEVENT
DTSTAMP:20260420T220519
DTSTART;TZID=Europe/Berlin:20260309T120000
DTEND;TZID=Europe/Berlin:20260309T121500
UID:V83029010-20260309T120000@VHSBÖBLINGEN-SINDELFINGEN
SUMMARY:Augen-Gymnastik- Das 15 Minuten Programm in der Mittagspause (V83029010) 
LOCATION:Online vhs, edudip, Online vhs
END:VEVENT
BEGIN:VEVENT
DTSTAMP:20260420T220519
DTSTART;TZID=Europe/Berlin:20260311T120000
DTEND;TZID=Europe/Berlin:20260311T121500
UID:V83029010-20260311T120000@VHSBÖBLINGEN-SINDELFINGEN
SUMMARY:Augen-Gymnastik- Das 15 Minuten Programm in der Mittagspause (V83029010) 
LOCATION:Online vhs, edudip, Online vhs
END:VEVENT
BEGIN:VEVENT
DTSTAMP:20260420T220519
DTSTART;TZID=Europe/Berlin:20260316T120000
DTEND;TZID=Europe/Berlin:20260316T121500
UID:V83029010-20260316T120000@VHSBÖBLINGEN-SINDELFINGEN
SUMMARY:Augen-Gymnastik- Das 15 Minuten Programm in der Mittagspause (V83029010) 
LOCATION:Online vhs, edudip, Online vhs
END:VEVENT
BEGIN:VEVENT
DTSTAMP:20260420T220519
DTSTART;TZID=Europe/Berlin:20260318T120000
DTEND;TZID=Europe/Berlin:20260318T121500
UID:V83029010-20260318T120000@VHSBÖBLINGEN-SINDELFINGEN
SUMMARY:Augen-Gymnastik- Das 15 Minuten Programm in der Mittagspause (V83029010) 
LOCATION:Online vhs, edudip, Online vhs
END:VEVENT
BEGIN:VEVENT
DTSTAMP:20260420T220519
DTSTART;TZID=Europe/Berlin:20260323T120000
DTEND;TZID=Europe/Berlin:20260323T121500
UID:V83029010-20260323T120000@VHSBÖBLINGEN-SINDELFINGEN
SUMMARY:Augen-Gymnastik- Das 15 Minuten Programm in der Mittagspause (V83029010) 
LOCATION:Online vhs, edudip, Online vhs
END:VEVENT
BEGIN:VEVENT
DTSTAMP:20260420T220519
DTSTART;TZID=Europe/Berlin:20260325T120000
DTEND;TZID=Europe/Berlin:20260325T121500
UID:V83029010-20260325T120000@VHSBÖBLINGEN-SINDELFINGEN
SUMMARY:Augen-Gymnastik- Das 15 Minuten Programm in der Mittagspause (V83029010) 
LOCATION:Online vhs, edudip, Online vhs
END:VEVENT
BEGIN:VEVENT
DTSTAMP:20260420T220519
DTSTART;TZID=Europe/Berlin:20260330T120000
DTEND;TZID=Europe/Berlin:20260330T121500
UID:V83029010-20260330T120000@VHSBÖBLINGEN-SINDELFINGEN
SUMMARY:Augen-Gymnastik- Das 15 Minuten Programm in der Mittagspause (V83029010) 
LOCATION:Online vhs, edudip, Online vhs
END:VEVENT
END:VCALENDAR