BEGIN:VCALENDAR
VERSION:2.0
PRODID:https://www.kufer.de/kuferweb / DE
METHOD:PUBLISH
CALSCALE:GREGORIAN
X-WR-TIMEZONE:Europe/Berlin
BEGIN:VTIMEZONE
TZID:Europe/Berlin
X-LIC-LOCATION:Europe/Berlin
BEGIN:DAYLIGHT
TZOFFSETFROM:+0100
TZOFFSETTO:+0200
TZNAME:CEST
DTSTART:19700329T020000
RRULE:FREQ=YEARLY;INTERVAL=1;BYDAY=-1SU;BYMONTH=3
END:DAYLIGHT
BEGIN:STANDARD
TZOFFSETFROM:+0200
TZOFFSETTO:+0100
TZNAME:CET
DTSTART:19701025T030000
RRULE:FREQ=YEARLY;INTERVAL=1;BYDAY=-1SU;BYMONTH=10
END:STANDARD
END:VTIMEZONE
BEGIN:VEVENT
DTSTAMP:20260421T182527
DTSTART;TZID=Europe/Berlin:20260608T201500
DTEND;TZID=Europe/Berlin:20260608T210000
UID:V83028310-20260608T201500@VHSBÖBLINGEN-SINDELFINGEN
SUMMARY:Klangschalen - Entspannung - Meditation (V83028310) 
LOCATION:Online vhs
END:VEVENT
BEGIN:VEVENT
DTSTAMP:20260421T182527
DTSTART;TZID=Europe/Berlin:20260615T201500
DTEND;TZID=Europe/Berlin:20260615T210000
UID:V83028310-20260615T201500@VHSBÖBLINGEN-SINDELFINGEN
SUMMARY:Klangschalen - Entspannung - Meditation (V83028310) 
LOCATION:Online vhs
END:VEVENT
BEGIN:VEVENT
DTSTAMP:20260421T182527
DTSTART;TZID=Europe/Berlin:20260622T201500
DTEND;TZID=Europe/Berlin:20260622T210000
UID:V83028310-20260622T201500@VHSBÖBLINGEN-SINDELFINGEN
SUMMARY:Klangschalen - Entspannung - Meditation (V83028310) 
LOCATION:Online vhs
END:VEVENT
BEGIN:VEVENT
DTSTAMP:20260421T182527
DTSTART;TZID=Europe/Berlin:20260629T201500
DTEND;TZID=Europe/Berlin:20260629T210000
UID:V83028310-20260629T201500@VHSBÖBLINGEN-SINDELFINGEN
SUMMARY:Klangschalen - Entspannung - Meditation (V83028310) 
LOCATION:Online vhs
END:VEVENT
END:VCALENDAR